{"text_format":"1","workbook":"xlsx","n_sheets":17,"sheets":["Capa","Instruções de Preenchimento","Pressupostos","1.Demonstração de Resultados","2. Balanço","3. Avaliação Financeira","4. Rácios Financeiros","5. Fundo de Maneio","6. Investimento","CAE","7. Serviço da Dívida","8. Mapa de tesouraria","9. Capital Próprio","10. Anexo_Prejuízos fiscais","a. Aux_Mat Prima % Vendas","b. Aux_Var Produção % Vendas","c. Aux_outros"],"not_rendered":{"charts":0,"images":2,"macros":1,"external_links":1,"defined_names":21,"comments":3,"pivot_tables":0},"unopened":[],"bounds":{"document_bytes":16777216,"sheet_cells":100000,"rows_first":2000,"rows_last":500,"rows_between":2000,"halvings":0,"cell_chars":16384,"cell_head_chars":4096},"cells_cut":0,"cells_raw":0,"read":"whole","date_system":"1900"}

{"sheet":"Capa","index":0,"n_rows":22,"n_cols":8,"rows_kept":22,"cut":false,"hidden":false,"merged":[]}
[]
[]
[]
[]
[]
[null,null,"<Nome da empresa>"]
[]
[]
[]
[]
[]
[]
[null,null,"<Nome do Projeto>"]
[]
[]
[null,null,null,null,null,null,null,"<Versão, Localidade,Data>"]
[]
[]
[]
[]
[]
[null,null,"Cofinanciado por:"]

{"sheet":"Instruções de Preenchimento","index":1,"n_rows":114,"n_cols":16384,"rows_kept":114,"cut":false,"hidden":false,"merged":[[37,2,37,3],[50,2,50,3],[56,2,56,3]]}
[]
[null,null,"Instruções de Preenchimento","Ferramenta elaborada com apoio de Moneris S.A."]
[]
[null,null,"Nota Prévia","A disponibilização desta ferramenta, disponibilizada pelo IAPMEI, é autonoma de qualquer outra atividade do IAPMEI. Os resultados por ela obtidos é da inteira responsabilidade do utilizador"]
[]
[null,null,"Estrutura da Ferramenta","A inserção de valores pelo utilizador é realizada exclusivamente na Folha \"Pressupostos\".\nTodos os valores de todas as restantes páginas são de cálculo automático.\nAs folhas com Cálculos Auxiliares - são indicativas e utilizáveis livremente pelos utilizadores em função da sua necessidade e adequabilidade."]
[]
[null,null,"Capa","A Capa é ajustada pelo utilizador."]
[]
[null,null,"A. Pressupostos","Instruções e Classificação das Células"]
[null,null,"Células em branco letra preta","Células para inserção de valores (células de input).\nAs instruções de preenchimento aparecem em cada célula a ser preenchida. "]
[null,null,"Células em branco com Letra Azul","Células com valores pré-definidos ou com valores calculados automaticamente.\nAs células são editáveis e os valores e as fórmulas poderão ser modificadas pelo utilizador. \nSubstituídas as fórmulas por valores e feita gravação da folha, as fórmulas pré-definidas não são recuperáveis."]
[null,null,"Células pintadas a cinzento com letra azul  ou preta","Células de preenchimento automático (células output). Não são possíveis de edição."]
[null,null,"Célula pintadas a amarelo com letra preta (2 linhas)","Células apresentam valores mínimos indicativos para decisão sobre valores de Capital Próprio e valores de capital Alheio"]
[null,null,"Célula pintadas a amarelo com letra vermelha (1 linha)","Células cujos valores, se surgirem (a vermelho), exigem aumento de Capital Social ou Prestações Suplementares"]
[]
[]
[null,null,"A. Pressupostos","Estrutura"]
[null,null,"1.  Dados  gerais","Valores relativos à atividade de exploração, impostos, ano inicial de investimento, inflação (taxas de variação de preços) e outros.\nOs valores apresentados são meramente indicativos, devendo ser colocados os valores adequados ao projeto e ao momento."]
[null,null,"2. Vendas e serviços prestados","Valores sobre quantidade e preço de mercadorias, de produtos e de serviços prestados.\nPossibilidade de adicionar/inserir diversas mercadorias, produtos e ou serviços prestados, utilizando o botão \"Adicionar Rendimentos\"\nTaxas de IVA por mercadoria, produto e serviço (%)\nTaxa de exportação por mercadoria, produto e serviço (%)\n\nQuando não é conhecida/aplicável a quantidade de produto, mercadoria e ou serviço dever-se-á:\na) Colocar 1 na quantidade no ano inicial\nb) Colocar 0% na taxa de crescimento de vendas\nc) Colocar o Valor (€) Total de mercadoria, produto ou serviço, na Linha do Preço respetivo em cada ano) "]
[null,null,"3. Gastos Operacionais","Inserção de dados sobre custos de mercadorias vendidas e matérias-primas consumidas, fornecimentos e serviços externos, gastos com pessoal e outros gastos."]
[null,null,"       3.1 Custo das Mercadorias Vendidas e Matérias  Consumidas (CMVMC)","Custo de mercadorias em % do valor de Venda de Mercadorias e a taxa média de IVA aplicável.\nCusto de matérias primas em % do valor de Vendas de Produtos e a taxa média de IVA aplicável.\n\nNota: Para calcular o valor do Consumo de Matérias primas, poderá utilizar-se metodologia e mapas auxiliares na na folha anexa I-Aux_Matéria Prima % Vendas ."]
[null,null,"    3.1 Custos de Produção","Inserir os custos de produção em % do Valor de Vendas de Produtos.\nCálculo automático de Inventário de Produto acabado e da Variação da Produção.\n\nNota: Para calcular o valor dos Custos de Produção  e da Variação da Produção, poderá utilizar-se metodologia e mapas auxiliares na na folha anexa II-Aux_ Var Produção % Vendas."]
[null,null,"    3.2 Fornecimentos e Serviços Externos","Taxa de IVA aplicável por FSE e o valor mensal por FSE .\nQuando se trata FSE (variável) em % do valor das vendas, colocar zero no valor mensal e colocar a fórmula \"%vendas*Valor de vendas) em cada ano nas células correspondentes.\nPor exemplo: Considerando Comissões = 2% do valor de vendas, colocar no 1º ano de exploração - a fórmula: (+2%*G43) e copiar esta fórmula para os anos seguintes. Colocar a % de custo fixo por FSE."]
[null,null,"    3.3 Gastos com Pessoal","Número de trabalhadores por categoria em cada ano. O nome de cada categoria pode ser alterado.\nSalário base mensal (ano base) e valor do subsídio de refeição no ano inicial.\nOutras Remunerações (valor médio mensal no ano inicial).\nOutros gastos com pessoal (valor médio mensal no ano inicial)."]
[null,null,"  4. Outros Rendimentos e Gastos","Valor anual de Subsídios à Exploração.\nImparidades (%) de inventários e de Dívidas a Receber e Outros Rendimentos e Gastos (em % do valor de vendas)."]
[null,null,"5. Fundo de Maneio","Critérios de Fundo de Maneio: Prazo Médio de Recebimento, Duração Média de Inventário de Matéria-Prima, Duração Média de Inventário de Produto Acabado, Prazo Médio de Pagamentos - número de dias"]
[null,null,"6. Investimento em capital fixo (CAPEX)","Valores anuais de Investimento em capital fixo tangível e intangível agrupados por tipo de investimento (Aconselhável elaborar folha auxiliar com discriminação exaustiva dos investimentos e agrupar de seguida). \nTaxas de IVA aplicáveis por tipo de investimento e respetivos Prazos de Depreciação/Amortização em nº de anos."]
[null,null,"7. Necessidades Totais de Financiamento","Cálculo automático da soma de Investimento em Capital Fixo e de Investimento em Fundo de Maneio "]
[null,null,"8. Tesouraria","Valor do Limiar máximo de Tesouraria a partir do qual é calculado o valor de Excedentes de Tesouraria com remuneração à taxa de juro aplicável.\nTaxa de juro de aplicações financeiras (de tesouraria) de curto prazo.\nNecessidades de Tesouraria: Valor de Tesouraria Mínimo de Segurança\nValor mínimo a contratar em situação de tesouraria inferior ao mínimo de segurança"]
[null,null,"9. Fontes de Financiamento","Estrutura do Financiamento no ano base:\n  % de Capital Próprio determinado pelo investidor (inclui incentivo não reembolsável) \n  % de Capital Alheio (empréstimos bancários, incentivo reembolsável, leasing, …)\nA % de capital alheio = Necessidade de financiamento (100%) - % de capital próprio (cálculo automático)."]
[null,null,"Incentivo Não Reembolsável","Indicar por ano o valor do Incentivo Não Reembolsável ao Investimento (INR), assim como o prazo médio em anos para reintegrar para efeitos fiscais. \nNota: Sendo o INR, considerado como Capital Próprio, nos termos da legislação aplicável, o seu valor será reduzido anualmente com contrapartida, na Demonstração de Resultados - na rúbrica \"Outros Rendimentos\". A redução anual do valor do INR corresponde percentualmente ao valor da depreciação anual do respetivo Investimento durante o nº de anos de depreciação. Por simplificação indica-se um valor médio de anos para depreciação do Investimento - indicativamente = 5 anos. \nInserir o Nº de anos  de imputação de INR se diferente de 5"]
[null,null,"9.1 Capitais Próprios","Cálculo automático de Prestações suplementares = Capital Próprio - capital (social) - Incentivo ao Investimento Não Reembolsável\nIndicar: Taxa de reserva Legal \n               Taxa de dividendo (% de Resultados Líquidos)        \nCálculo automático de Resultados transitados (= Resultado Líquido - Reserva Legal - Dividendos)\nNecessidades de Injeção de Capital (Artº 35 do Código das Soc. Comerciais):\n               Se o Valor do Capital Próprio for inferior a 50% do Valor do Capital Social, surgem a vermelho os valores correspondentes à\n               diferença (50% Cap. Social - Cap. Próprio)\nSerá necessário aumentar Prestações Suplementares e/ou Capital Socia por forma a cumprir o artº 35 do código das sociedades comerciais. A decisão passa por:\n - Aumentar Prestações Suplementares (em valor igual às Necessidades) ou\n-  Aumentar Capital Social, neste caso em valor superior (por estar a aumentar simultaneamente Capital Social e Capital Próprio)"]
[null,null,"9.2 Capital Alheio","Valor do Capital Alheio mínimo = Necessidades de Financiamento - Capital Próprio Mínimo (se Investimento em Capital Fixo > 0 e investimento em Capital Fixo + F. Maneio > 0). \nInserir o número de financiamentos, ano a ano, incluindo Incentivo reembolsável (já que o Incentivo reembolsável será tratado como um empréstimo bancário, eventualmente coma taxa de juro zero, se for o caso)\nValor de cada empréstimo bancário e de cada Incentivo Reembolsável \nTaxa de juro, Período de Reembolso e Período de Carência por financiamento e Incentivo Reembolsável\nAtravés dos \"Botões\" Adicionar Empréstimos e Remover Empréstimos, é possível adicionar ou eliminar empréstimos.\nEstão definidos por defeito 2 Empréstimos. Se o projeto contemplar um único empréstimo, no empréstimo 2 deverá ser mantido o valor \"um\" no campo \"Período de reembolso de capital\""]
[null,null,"10. Custo de Capital: WACC (custo médio ponderado do Capital)","Valores a inserir aplicáveis às caraterísticas do projeto (Sugestão de Fonte: Bloomberg, Banco Central Europeu, Damodaran \"Obrigações de Tesouro\")\n  Rf - Obrigações Tesouro longo prazo (Taxa de juro sem risco)\n  Bu - Beta unlevered  (beta desalavancado) aplicável ao projeto\n  Rm - Taxa de remuneração de mercado\n  Pp - Prémio de risco do país\n  Taxa de juro de referência (custo médio da dívida financeira)  \n  Custo da dívida com efeito fiscal = Taxa de juro de referência deduzida de efeito fiscal (cálculo automático)\nSe Beta e ou Pp desconhecidos, considerar:\n   Beta = 100% e ou Pp = 0\n   Equivale a considerar que Custo do Capital Próprio Rcp = Rf+100%(Rm-Rf)+0   (se Pp=0)\nCusto do Capital Próprio (Rcp) = Rf+Bu(Rm-Rf)+Pp\nCusto Médio Ponderado do Capital (WACC) =  %CP x Rcp + %CA x (Rca x (1-t)), em que t = Taxa de IRC"]
[null,null,"11. Taxa de crescimento dos Cash Flows na perpetuidade","Colocar a taxa de crescimento média anual (g) dos Cash Flows na Perpetuidade. Valor necessário para calcular a rentabilidade do projeto contemplando os cash flows dos períodos subsequentes ao último ano considerado na folha de cálculo."]
[]
[null,null,"Mapas e Valores calculados automaticamente"]
[]
[null,null,"1. Demonstração de Resultados","Folha Resumo da Demonstração de Resultados."]
[null,null,"2. Balanço","Folha Resumo de Balanço do projeto."]
[null,null,"3. Avaliação Financeira","Avaliação do projeto segundo 3 métodos de avaliação com cálculo dos indicadores: Valor Atualizado Líquido,  Taxa Interna de Rentabilidade e  Período de Recuperação.\nPor método de avaliação, os indicadores são calculados para 2 situações:\na) Considerando um Valor residual do Investimento no final do tempo de vida;\nb) Considerando o valor da perpetuidade com crescimento dos Cash Flows à taxa anual g, definida nos pressupostos."]
[null,null,"4. Rácios Financeiros","Folha de indicação de rácios financeiros gerais do projeto incluíndo indicadores de avaliação financeira."]
[null,null,"5. Fundo de Maneio","Folha de Cálculo do Fundo de Maneio e Variação do Fundo de Maneio."]
[null,null,"6. Investimento","Folha de Detalhe do Investimento em Capital Fixo e respectivas depreciações."]
[null,null,"7. Serviço de Dívida","Folha de Cálculo do Serviço de Dívida empréstimos de médio longo prazo e curto prazo com as respectivas amortizações e juros suportados anualmente."]
[null,null,"8. Mapa de Tesouraria","Folha de Cálculo auxiliar do cash operacional, cash investimento e cash de financiamento do projeto."]
[null,null,"9. Capital Próprio","Folha de detalhe da estrutura de capitais próprios anuais."]
[null,null,"10. Anexo_Prejuízos Fiscais","Folha Resumo de Prejuízos Fiscais"]
[]
[null,null,"Folhas para cálculo auxiliar"]
[]
[null,null,"a. Aux_Matéria Prima","Folha de cálculo auxiliar: Para inserção Manual de valores"]
[null,null,"b. Aux_Custo Produção","Folha de cálculo auxiliar: Para inserção Manual de valores"]
[null,null,"c. Aux_Outros","Livre - para colocação de dados e realização de outros cálculos complementares\nPoderão ser acrescidas outras folhas auxiliares pelo utilizador"]
[]
[null,null,"Simbologia"]
[]
[null,null,"Abreviatura","Significado"]
[null,null,"AC","Ativo Corrente"]
[null,null,"ANC","Ativo Não Corrente"]
[null,null,"Bu","Beta unlevered (não alavancado)  "]
[null,null,"CAE","Classificação Portuguesa das Atividades Económicas"]
[null,null,"CAPEX","Capital Expenditure = Investimento em Bens de Capital Fixo"]
[null,null,"CAPM","Capital Asset Pricing Model"]
[null,null,"CF","Cash-Flow"]
[null,null,"CMVMC","Custo das Mercadorias Vendidas e Matérias Consumidas"]
[null,null,"CP","Capital Próprio"]
[null,null,"DR","Demonstração de Resultados"]
[null,null,"EBIT","Earnings Before Interest and Taxes = Resultado Operacional (antes de gastos de financiamento e impostos)"]
[null,null,"EBITDA","Earnings Before Interest, Taxes, Depreciation and Amortization = Resultado antes de depreciações, gastos de finaciamento e impostos"]
[null,null,"EOEP","Estado e Outros Entes Públicos"]
[null,null,"EPI","Equipamento de Proteção Individual"]
[null,null,"EUR","Código do Euro, moeda oficial da zona Euro."]
[null,null,"FCFE","Free Cash-Flow to Equity = Fluxos de Caixa de Capital"]
[null,null,"FCFF","Free Cash-Flow to the Firm = Fluxos de Caixa da Empresa"]
["FCT","Fundo de Compensação do Trabalho","FCT","Fundo de Compensação do Trabalho",null,"Fundo de Compensação do Trabalho","FCT","Fundo de Compensação do Trabalho","FCT","Fundo de Compensação do Trabalho","FCT","Fundo de Compensação do Trabalho","FCT","Fundo de Compensação do Trabalho","FCT","Fundo de Compensação do Trabalho","FCT","Fundo de Compensação do Trabalho","FCT","Fundo de Compensação do Trabalho","FCT","Fundo de Compensação do Trabalho","FCT","Fundo de Compensação do Trabalho","FCT","Fundo de Compensação do Trabalho","FCT","Fundo de Compensação do Trabalho","FCT","Fundo de Compensação do Trabalho","FCT","Fundo de Compensação do Trabalho","FCT","Fundo de Compensação do Trabalho","FCT","Fundo de Compensação do Trabalho","FCT","Fundo de Compensação do Trabalho","FCT","Fundo de Compensação do Trabalho","FCT","Fundo de Compensação do Trabalho","FCT","Fundo de Compensação do Trabalho","FCT","Fundo de Compensação do Trabalho","FCT","Fundo de Compensação do Trabalho","FCT","Fundo de Compensação do Trabalho","FCT","Fundo de Compensação do Trabalho","FCT","Fundo de Compensação do Trabalho","FCT","Fundo de Compensação do Trabalho","FCT","Fundo de Compensação do Trabalho","FCT","Fundo de Compensação do Trabalho","FCT","Fundo de Compensação do Trabalho","FCT","Fundo de Compensação do Trabalho","FCT","Fundo de Compensação do Trabalho","FCT","Fundo de Compensação do Trabalho","FCT","Fundo de Compensação do Trabalho","FCT","Fundo de Compensação do Trabalho","FCT","Fundo de Compensação do Trabalho","FCT","Fundo de Compensação do Trabalho","FCT","Fundo de Compensação do Trabalho","FCT","Fundo de Compensação do Trabalho","FCT","Fundo de Compensação do Trabalho","FCT","Fundo de Compensação do Trabalho","FCT","Fundo de Compensação do Trabalho","FCT","Fundo de Compensação do Trabalho","FCT","Fundo de Compensação do Trabalho","FCT","Fundo de Compensação do Trabalho","FCT","Fundo de Compensação do Trabalho","FCT","Fundo de Compensação do Trabalho","FCT","Fundo de Compensação do Trabalho","FCT","Fundo de Compensação do Trabalho","FCT","Fundo de Compensação do Trabalho","FCT","Fundo de Compensação do Trabalho","FCT","Fundo de Compensação do Trabalho","FCT","Fundo de Compensação do Trabalho","FCT","Fundo de Compensação do Trabalho","FCT","Fundo de Compensação do Trabalho","FCT","Fundo de Compensação do Trabalho","FCT","Fundo de Compensação do Trabalho","FCT","Fundo de Compensação do Trabalho","FCT","Fundo de Compensação do Trabalho","FCT","Fundo de Compensação do Trabalho","FCT","Fundo de Compensação do Trabalho","FCT","Fundo de Compensação do Trabalho","FCT","Fundo de Compensação do Trabalho","FCT","Fundo de Compensação do Trabalho","FCT","Fundo de Compensação do Trabalho","FCT","Fundo de Compensação do Trabalho","FCT","Fundo de Compensação do Trabalho","FCT","Fundo de Compensação do Trabalho","FCT","Fundo de Compensação do Trabalho","FCT","Fundo de Compensação do Trabalho","FCT","Fundo de Compensação do Trabalho","FCT","Fundo de Compensação do Trabalho","FCT","Fundo de Compensação do Trabalho","FCT","Fundo de Compensação do Trabalho","FCT","Fundo de Compensação do Trabalho","FCT","Fundo de Compensação do Trabalho","FCT","Fundo de Compensação do Trabalho","FCT","Fundo de Compensação do Trabalho","FCT","Fundo de Compensação do Trabalho","FCT","Fundo de Compensação do Trabalho","FCT","Fundo de Compensação do Trabalho","FCT","Fundo de Compensação do Trabalho","FCT","Fundo de Compensação do Trabalho","FCT","Fundo de Compensação do Trabalho","FCT","Fundo de Compensação do Trabalho","FCT","Fundo de Compensação do Trabalho","FCT","Fundo de Compensação do Trabalho","FCT","Fundo de Compensação do Trabalho","FCT","Fundo de Compensação do Trabalho","FCT","Fundo de Compensação do Trabalho","FCT","Fundo de Compensação do Trabalho","FCT","Fundo de Compensação do Trabalho","FCT","Fundo de Compensação do Trabalho","FCT","Fundo de Compensação do Trabalho","FCT","Fundo de Compensação do Trabalho","FCT","Fundo de Compensação do Trabalho","FCT","Fundo de Compensação do Trabalho","FCT","Fundo de Compensação do Trabalho","FCT","Fundo de Compensação do Trabalho","FCT","Fundo de Compensação do Trabalho","FCT","Fundo de Compensação do Trabalho","FCT","Fundo de Compensação do Trabalho","FCT","Fundo de Compensação do Trabalho","FCT","Fundo de Compensação do Trabalho","FCT","Fundo de Compensação do Trabalho","FCT","Fundo de Compensação do Trabalho","FCT","Fundo de Compensação do Trabalho","FCT","Fundo de Compensação do Trabalho","FCT","Fundo de Compensação do Trabalho","FCT","Fundo de Compensação do Trabalho","FCT","Fundo de Compensação do Trabalho","FCT","Fundo de Compensação do Trabalho","FCT","Fundo de Compensação do Trabalho","FCT","Fundo de Compensação do Trabalho","FCT","Fundo de Compensação do Trabalho","FCT","Fundo de Compensação do Trabalho","FCT","Fundo de Compensação do Trabalho","FCT","Fundo de Compensação do Trabalho","FCT","Fundo de Compensação do Trabalho","FCT","Fundo de Compensação do Trabalho","FCT","Fundo de Compensação do Trabalho","FCT","Fundo de Compensação do Trabalho","FCT","Fundo de Compensação do Trabalho","FCT","Fundo de Compensação do Trabalho","FCT","Fundo de Compensação do Trabalho","FCT","Fundo de Compensação do Trabalho","FCT","Fundo de Compensação do Trabalho","FCT","Fundo de Compensação do Trabalho","FCT","Fundo de Compensação do Trabalho","FCT","Fundo de Compensação do Trabalho","FCT","Fundo de Compensação do Trabalho","FCT","Fundo de Compensação do Trabalho","FCT","Fundo de Compensação do Trabalho","FCT","Fundo de Compensação do Trabalho","FCT","Fundo de Compensação do Trabalho","FCT","Fundo de Compensação do Trabalho","FCT","Fundo de Compensação do Trabalho","FCT","Fundo de Compensação do Trabalho","FCT","Fundo de Compensação do Trabalho","FCT","Fundo de Compensação do Trabalho","FCT","Fundo de Compensação do Trabalho","FCT","Fundo de Compensação do Trabalho","FCT","Fundo de Compensação do Trabalho","FCT","Fundo de Compensação do Trabalho","FCT","Fundo de Compensação do Trabalho","FCT","Fundo de Compensação do Trabalho","FCT","Fundo de Compensação do Trabalho","FCT","Fundo de Compensação do Trabalho","FCT","Fundo de Compensação do Trabalho","FCT","Fundo de Compensação do Trabalho","FCT","Fundo de Compensação do Trabalho","FCT","Fundo de Compensação do Trabalho","FCT","Fundo de Compensação do Trabalho","FCT","Fundo de Compensação do Trabalho","FCT","Fundo de Compensação do Trabalho","FCT","Fundo de Compensação do Trabalho","FCT","Fundo de Compensação do Trabalho","FCT","Fundo de Compensação do Trabalho","FCT","Fundo de Compensação do Trabalho","FCT","Fundo de Compensação do Trabalho","FCT","Fundo de Compensação do Trabalho","FCT","Fundo de Compensação do Trabalho","FCT","Fundo de Compensação do Trabalho","FCT","Fundo de Compensação do Trabalho","FCT","Fundo de Compensação do Trabalho","FCT","Fundo de Compensação do Trabalho","FCT","Fundo de Compensação do Trabalho","FCT","Fundo de Compensação do Trabalho","FCT","Fundo de Compensação do Trabalho","FCT","Fundo de Compensação do Trabalho","FCT","Fundo de Compensação do Trabalho","FCT","Fundo de Compensação do Trabalho","FCT","Fundo de Compensação do Trabalho","FCT","Fundo de Compensação do Trabalho","FCT","Fundo de Compensação do Trabalho","FCT","Fundo de Compensação do Trabalho","FCT","Fundo de Compensação do Trabalho","FCT","Fundo de Compensação do Trabalho","FCT","Fundo de Compensação do Trabalho","FCT","Fundo de Compensação do Trabalho","FCT","Fundo de Compensação do Trabalho","FCT","Fundo de Compensação do Trabalho","FCT","Fundo de Compensação do Trabalho","FCT","Fundo de Compensação do Trabalho","FCT","Fundo de Compensação do Trabalho","FCT","Fundo de Compensação do Trabalho","FCT","Fundo de Compensação do Trabalho","FCT","Fundo de Compensação do Trabalho","FCT","Fundo de Compensação do Trabalho","FCT","Fundo de Compensação do Trabalho","FCT","Fundo de Compensação do Trabalho","FCT","Fundo de Compensação do Trabalho","FCT","Fundo de Compensação do Trabalho","FCT","Fundo de Compensação do Trabalho","FCT","Fundo de Compensação do Trabalho","FCT","Fundo de Compensação do Trabalho","FCT","Fundo de Compensação do Trabalho","FCT","Fundo de Compensação do Trabalho","FCT","Fundo de Compensação do Trabalho","FCT","Fundo de Compensação do Trabalho","FCT","Fundo de Compensação do Trabalho","FCT","Fundo de Compensação do Trabalho","FCT","Fundo de Compensação do Trabalho","FCT","Fundo de Compensação do Trabalho","FCT","Fundo de Compensação do Trabalho","FCT","Fundo de Compensação do Trabalho","FCT","Fundo de Compensação do Trabalho","FCT","Fundo de Compensação do Trabalho","FCT","Fundo de Compensação do Trabalho","FCT","Fundo de Compensação do Trabalho","FCT","Fundo de Compensação do Trabalho","FCT","Fundo de Compensação do Trabalho","FCT","Fundo de Compensação do Trabalho","FCT","Fundo de Compensação do Trabalho","FCT","Fundo de Compensação do Trabalho","FCT","Fundo de Compensação do Trabalho","FCT","Fundo de Compensação do Trabalho","FCT","Fundo de Compensação do Trabalho","FCT","Fundo de Compensação do Trabalho","FCT","Fundo de Compensação do Trabalho","FCT","Fundo de Compensação do Trabalho","FCT","Fundo de Compensação do Trabalho","FCT","Fundo de Compensação do Trabalho","FCT","Fundo de Compensação do Trabalho","FCT","Fundo de Compensação do Trabalho","FCT","Fundo de Compensação do Trabalho","FCT","Fundo de Compensação do Trabalho","FCT","Fundo de Compensação do Trabalho","FCT","Fundo de Compensação do Trabalho","FCT","Fundo de Compensação do Trabalho","FCT","Fundo de Compensação do Trabalho","FCT","Fundo de Compensação do Trabalho","FCT","Fundo de Compensação do Trabalho","FCT","Fundo de Compensação do Trabalho","FCT","Fundo de Compensação do Trabalho","FCT","Fundo de Compensação do Trabalho","FCT","Fundo de Compensação do Trabalho","FCT","Fundo de Compensação do Trabalho","FCT","Fundo de Compensação do Trabalho","FCT","Fundo de Compensação do Trabalho","FCT","Fundo de Compensação do Trabalho","FCT","Fundo de Compensação do Trabalho","FCT","Fundo de Compensação do Trabalho","FCT","Fundo de Compensação do Trabalho","FCT","Fundo de Compensação do Trabalho","FCT","Fundo de Compensação do Trabalho","FCT","Fundo de Compensação do Trabalho","FCT","Fundo de Compensação do Trabalho","FCT","Fundo de Compensação do Trabalho","FCT","Fundo de Compensação do Trabalho","FCT","Fundo de Compensação do Trabalho","FCT","Fundo de Compensação do Trabalho","FCT","Fundo de Compensação do Trabalho","FCT","Fundo de Compensação do Trabalho","FCT","Fundo de Compensação do Trabalho","FCT","Fundo de Compensação do Trabalho","FCT","Fundo de Compensação do Trabalho","FCT","Fundo de Compensação do Trabalho","FCT","Fundo de Compensação do Trabalho","FCT","Fundo de Compensação do Trabalho","FCT","Fundo de Compensação do Trabalho","FCT","Fundo de Compensação do Trabalho","FCT","Fundo de Compensação do Trabalho","FCT","Fundo de Compensação do Trabalho","FCT","Fundo de Compensação do Trabalho","FCT","Fundo de Compensação do Trabalho","FCT","Fundo de Compensação do Trabalho","FCT","Fundo de Compensação do Trabalho","FCT","Fundo de Compensação do Trabalho","FCT","Fundo de Compensação do Trabalho","FCT","Fundo de Compensação do Trabalho","FCT","Fundo de Compensação do Trabalho","FCT","Fundo de Compensação do Trabalho","FCT","Fundo de Compensação do Trabalho","FCT","Fundo de Compensação do Trabalho","FCT","Fundo de Compensação do Trabalho","FCT","Fundo de Compensação do Trabalho","FCT","Fundo de Compensação do Trabalho","FCT","Fundo de Compensação do Trabalho","FCT","Fundo de Compensação do Trabalho","FCT","Fundo de Compensação do Trabalho","FCT","Fundo de Compensação do Trabalho","FCT","Fundo de Compensação do Trabalho","FCT","Fundo de Compensação do Trabalho","FCT","Fundo de Compensação do Trabalho","FCT","Fundo de Compensação do Trabalho","FCT","Fundo de Compensação do Trabalho","FCT","Fundo de Compensação do Trabalho","FCT","Fundo de Compensação do Trabalho","FCT","Fundo de Compensação do Trabalho","FCT","Fundo de Compensação do Trabalho","FCT","Fundo de Compensação do Trabalho","FCT","Fundo de Compensação do Trabalho","FCT","Fundo de Compensação do Trabalho","FCT","Fundo de Compensação do Trabalho","FCT","Fundo de Compensação do Trabalho","FCT","Fundo de Compensação do Trabalho","FCT","Fundo de Compensação do Trabalho","FCT","Fundo de Compensação do Trabalho","FCT","Fundo de Compensação do Trabalho","FCT","Fundo de Compensação do Trabalho","FCT","Fundo de Compensação do Trabalho","FCT","Fundo de Compensação do Trabalho","FCT","Fundo de Compensação do Trabalho","FCT","Fundo de Compensação do Trabalho","FCT","Fundo de Compensação do Trabalho","FCT","Fundo de Compensação do Trabalho","FCT","Fundo de Compensação do Trabalho","FCT","Fundo de Compensação do Trabalho","FCT","Fundo de Compensação do Trabalho","FCT","Fundo de Compensação do Trabalho","FCT","Fundo de Compensação do Trabalho","FCT","Fundo de Compensação do Trabalho","FCT","Fundo de Compensação do Trabalho","FCT","Fundo de Compensação do Trabalho","FCT","Fundo de Compensação do Trabalho","FCT","Fundo de Compensação do Trabalho","FCT","Fundo de Compensação do Trabalho","FCT","Fundo de Compensação do Trabalho","FCT","Fundo de Compensação do Trabalho","FCT","Fundo de Compensação do Trabalho","FCT","Fundo de Compensação do Trabalho","FCT","Fundo de Compensação do Trabalho","FCT","Fundo de Compensação do Trabalho","FCT","Fundo de Compensação do Trabalho","FCT","Fundo de Compensação do Trabalho","FCT","Fundo de Compensação do Trabalho","FCT","Fundo de Compensação do Trabalho","FCT","Fundo de Compensação do Trabalho","FCT","Fundo de Compensação do Trabalho","FCT","Fundo de Compensação do Trabalho","FCT","Fundo de Compensação do Trabalho","FCT","Fundo de Compensação do Trabalho","FCT","Fundo de Compensação do Trabalho","FCT","Fundo de Compensação do Trabalho","FCT","Fundo de Compensação do Trabalho","FCT","Fundo de Compensação do Trabalho","FCT","Fundo de Compensação do Trabalho","FCT","Fundo de Compensação do Trabalho","FCT","Fundo de Compensação do Trabalho","FCT","Fundo de Compensação do Trabalho","FCT","Fundo de Compensação do Trabalho","FCT","Fundo de Compensação do Trabalho","FCT","Fundo de Compensação do Trabalho","FCT","Fundo de Compensação do Trabalho","FCT","Fundo de Compensação do Trabalho","FCT","Fundo de Compensação do Trabalho","FCT","Fundo de Compensação do Trabalho","FCT","Fundo de Compensação do Trabalho","FCT","Fundo de Compensação do Trabalho","FCT","Fundo de Compensação do Trabalho","FCT","Fundo de Compensação do Trabalho","FCT","Fundo de Compensação do Trabalho","FCT","Fundo de Compensação do Trabalho","FCT","Fundo de Compensação do Trabalho","FCT","Fundo de Compensação do Trabalho","FCT","Fundo de Compensação do Trabalho","FCT","Fundo de Compensação do Trabalho","FCT","Fundo de Compensação do Trabalho","FCT","Fundo de Compensação do Trabalho","FCT","Fundo de Compensação do Trabalho","FCT","Fundo de Compensação do Trabalho","FCT","Fundo de Compensação do Trabalho","FCT","Fundo de Compensação do Trabalho","FCT","Fundo de Compensação do Trabalho","FCT","Fundo de Compensação do Trabalho","FCT","Fundo de Compensação do Trabalho","FCT","Fundo de Compensação do Trabalho","FCT","Fundo de Compensação do Trabalho","FCT","Fundo de Compensação do Trabalho","FCT","Fundo de Compensação do Trabalho","FCT","Fundo de Compensação do Trabalho","FCT","Fundo de Compensação do Trabalho","FCT","Fundo de Compensação do Trabalho","FCT","Fundo de Compensação do Trabalho","FCT","Fundo de Compensação do Trabalho","FCT","Fundo de Compensação do Trabalho","FCT","Fundo de Compensação do Trabalho","FCT","Fundo de Compensação do Trabalho","FCT","Fundo de Compensação do Trabalho","FCT","Fundo de Compensação do Trabalho","FCT","Fundo de Compensação do Trabalho","FCT","Fundo de Compensação do Trabalho","FCT","Fundo de Compensação do Trabalho","FCT","Fundo de Compensação do Trabalho","FCT","Fundo de Compensação do Trabalho","FCT","Fundo de Compensação do Trabalho","FCT","Fundo de Compensação do Trabalho","FCT","Fundo de Compensação do Trabalho","FCT","Fundo de Compensação do Trabalho","FCT","Fundo de Compensação do Trabalho","FCT","Fundo de Compensação do Trabalho","FCT","Fundo de Compensação do Trabalho","FCT","Fundo de Compensação do Trabalho","FCT","Fundo de Compensação do Trabalho","FCT","Fundo de Compensação do Trabalho","FCT","Fundo de Compensação do Trabalho","FCT","Fundo de Compensação do Trabalho","FCT","Fundo de Compensação do Trabalho","FCT","Fundo de Compensação do Trabalho","FCT","Fundo de Compensação do Trabalho","FCT","Fundo de Compensação do Trabalho","FCT","Fundo de Compensação do Trabalho","FCT","Fundo de Compensação do Trabalho","FCT","Fundo de Compensação do Trabalho","FCT","Fundo de Compensação do Trabalho","FCT","Fundo de Compensação do Trabalho","FCT","Fundo de Compensação do Trabalho","FCT","Fundo de Compensação do Trabalho","FCT","Fundo de Compensação do Trabalho","FCT","Fundo de Compensação do Trabalho","FCT","Fundo de Compensação do Trabalho","FCT","Fundo de Compensação do Trabalho","FCT","Fundo de Compensação do Trabalho","FCT","Fundo de Compensação do Trabalho","FCT","Fundo de Compensação do Trabalho","FCT","Fundo de Compensação do Trabalho","FCT","Fundo de Compensação do Trabalho","FCT","Fundo de Compensação do Trabalho","FCT","Fundo de Compensação do Trabalho","FCT","Fundo de Compensação do Trabalho","FCT","Fundo de Compensação do Trabalho","FCT","Fundo de Compensação do Trabalho","FCT","Fundo de Compensação do Trabalho","FCT","Fundo de Compensação do Trabalho","FCT","Fundo de Compensação do Trabalho","FCT","Fundo de Compensação do Trabalho","FCT","Fundo de Compensação do Trabalho","FCT","Fundo de Compensação do Trabalho","FCT","Fundo de Compensação do Trabalho","FCT","Fundo de Compensação do Trabalho","FCT","Fundo de Compensação do Trabalho","FCT","Fundo de Compensação do Trabalho","FCT","Fundo de Compensação do Trabalho","FCT","Fundo de Compensação do Trabalho","FCT","Fundo de Compensação do Trabalho","FCT","Fundo de Compensação do Trabalho","FCT","Fundo de Compensação do Trabalho","FCT","Fundo de Compensação do Trabalho","FCT","Fundo de Compensação do Trabalho","FCT","Fundo de Compensação do Trabalho","FCT","Fundo de Compensação do Trabalho","FCT","Fundo de Compensação do Trabalho","FCT","Fundo de Compensação do Trabalho","FCT","Fundo de Compensação do Trabalho","FCT","Fundo de Compensação do Trabalho","FCT","Fundo de Compensação do Trabalho","FCT","Fundo de Compensação do Trabalho","FCT","Fundo de Compensação do Trabalho","FCT","Fundo de Compensação do Trabalho","FCT","Fundo de Compensação do Trabalho","FCT","Fundo de Compensação do Trabalho","FCT","Fundo de Compensação do Trabalho","FCT","Fundo de Compensação do Trabalho","FCT","Fundo de Compensação do Trabalho","FCT","Fundo de Compensação do Trabalho","FCT","Fundo de Compensação do Trabalho","FCT","Fundo de Compensação do Trabalho","FCT","Fundo de Compensação do Trabalho","FCT","Fundo de Compensação do Trabalho","FCT","Fundo de Compensação do Trabalho","FCT","Fundo de Compensação do Trabalho","FCT","Fundo de Compensação do Trabalho","FCT","Fundo de Compensação do Trabalho","FCT","Fundo de Compensação do Trabalho","FCT","Fundo de Compensação do Trabalho","FCT","Fundo de Compensação do Trabalho","FCT","Fundo de Compensação do Trabalho","FCT","Fundo de Compensação do Trabalho","FCT","Fundo de Compensação do Trabalho","FCT","Fundo de Compensação do Trabalho","FCT","Fundo de Compensação do Trabalho","FCT","Fundo de Compensação do Trabalho","FCT","Fundo de Compensação do Trabalho","FCT","Fundo de Compensação do Trabalho","FCT","Fundo de Compensação do Trabalho","FCT","Fundo de Compensação do Trabalho","FCT","Fundo de Compensação do Trabalho","FCT","Fundo de Compensação do Trabalho","FCT","Fundo de Compensação do Trabalho","FCT","Fundo de Compensação do Trabalho","FCT","Fundo de Compensação do Trabalho","FCT","Fundo de Compensação do Trabalho","FCT","Fundo de Compensação do Trabalho","FCT","Fundo de Compensação do Trabalho","FCT","Fundo de Compensação do Trabalho","FCT","Fundo de Compensação do Trabalho","FCT","Fundo de Compensação do Trabalho","FCT","Fundo de Compensação do Trabalho","FCT","Fundo de Compensação do Trabalho","FCT","Fundo de Compensação do Trabalho","FCT","Fundo de Compensação do Trabalho","FCT","Fundo de Compensação do Trabalho","FCT","Fundo de Compensação do Trabalho","FCT","Fundo de Compensação do Trabalho","FCT","Fundo de Compensação do Trabalho","FCT","Fundo de Compensação do Trabalho","FCT","Fundo de Compensação do Trabalho","FCT","Fundo de Compensação do Trabalho","FCT","Fundo de Compensação do Trabalho","FCT","Fundo de Compensação do Trabalho","FCT","Fundo de Compensação do Trabalho","FCT","Fundo de Compensação do Trabalho","FCT","Fundo de Compensação do Trabalho","FCT","Fundo de Compensação do Trabalho","FCT","Fundo de Compensação do Trabalho","FCT","Fundo de Compensação do Trabalho","FCT","Fundo de Compensação do Trabalho","FCT","Fundo de Compensação do Trabalho","FCT","Fundo de Compensação do Trabalho","FCT","Fundo de Compensação do Trabalho","FCT","Fundo de Compensação do Trabalho","FCT","Fundo de Compensação do Trabalho","FCT","Fundo de Compensação do Trabalho","FCT","Fundo de Compensação do Trabalho","FCT","Fundo de Compensação do Trabalho","FCT","Fundo de Compensação do Trabalho","FCT","Fundo de Compensação do Trabalho","FCT","Fundo de Compensação do Trabalho","FCT","Fundo de Compensação do Trabalho","FCT","Fundo de Compensação do Trabalho","FCT","Fundo de Compensação do Trabalho","FCT","Fundo de Compensação do Trabalho","FCT","Fundo de Compensação do Trabalho","FCT","Fundo de Compensação do Trabalho","FCT","Fundo de Compensação do Trabalho","FCT","Fundo de Compensação do Trabalho","FCT","Fundo de Compensação do Trabalho","FCT","Fundo de Compensação do Trabalho","FCT","Fundo de Compensação do Trabalho","FCT","Fundo de Compensação do Trabalho","FCT","Fundo de Compensação do Trabalho","FCT","Fundo de Compensação do Trabalho","FCT","Fundo de Compensação do Trabalho","FCT","Fundo de Compensação do Trabalho","FCT","Fundo de Compensação do Trabalho","FCT","Fundo de Compensação do Trabalho","FCT","Fundo de Compensação do Trabalho","FCT","Fundo de Compensação do Trabalho","FCT","Fundo de Compensação do Trabalho","FCT","Fundo de Compensação do Trabalho","FCT","Fundo de Compensação do Trabalho","FCT","Fundo de Compensação do Trabalho","FCT","Fundo de Compensação do Trabalho","FCT","Fundo de Compensação do Trabalho","FCT","Fundo de Compensação do Trabalho","FCT","Fundo de Compensação do Trabalho","FCT","Fundo de Compensação do Trabalho","FCT","Fundo de Compensação do Trabalho","FCT","Fundo de Compensação do Trabalho","FCT","Fundo de Compensação do Trabalho","FCT","Fundo de Compensação do Trabalho","FCT","Fundo de Compensação do Trabalho","FCT","Fundo de Compensação do Trabalho","FCT","Fundo de Compensação do Trabalho","FCT","Fundo de Compensação do Trabalho","FCT","Fundo de Compensação do Trabalho","FCT","Fundo de Compensação do Trabalho","FCT","Fundo de Compensação do Trabalho","FCT","Fundo de Compensação do Trabalho","FCT","Fundo de Compensação do Trabalho","FCT","Fundo de Compensação do Trabalho","FCT","Fundo de Compensação do Trabalho","FCT","Fundo de Compensação do Trabalho","FCT","Fundo de Compensação do Trabalho","FCT","Fundo de Compensação do Trabalho","FCT","Fundo de Compensação do Trabalho","FCT","Fundo de Compensação do Trabalho","FCT","Fundo de Compensação do Trabalho","FCT","Fundo de Compensação do Trabalho","FCT","Fundo de Compensação do Trabalho","FCT","Fundo de Compensação do Trabalho","FCT","Fundo de Compensação do Trabalho","FCT","Fundo de Compensação do Trabalho","FCT","Fundo de Compensação do Trabalho","FCT","Fundo de Compensação do Trabalho","FCT","Fundo de Compensação do Trabalho","FCT","Fundo de Compensação do Trabalho","FCT","Fundo de Compensação do Trabalho","FCT","Fundo de Compensação do Trabalho","FCT","Fundo de Compensação do Trabalho","FCT","Fundo de Compensação do Trabalho","FCT","Fundo de Compensação do Trabalho","FCT","Fundo de Compensação do Trabalho","FCT","Fundo de Compensação do Trabalho","FCT","Fundo de Compensação do Trabalho","FCT","Fundo de Compensação do Trabalho","FCT","Fundo de Compensação do Trabalho","FCT","Fundo de Compensação do Trabalho","FCT","Fundo de Compensação do Trabalho","FCT","Fundo de Compensação do Trabalho","FCT","Fundo de Compensação do Trabalho","FCT","Fundo de Compensação do Trabalho","FCT","Fundo de Compensação do Trabalho","FCT","Fundo de Compensação do Trabalho","FCT","Fundo de Compensação do Trabalho","FCT","Fundo de Compensação do Trabalho","FCT","Fundo de Compensação do Trabalho","FCT","Fundo de Compensação do Trabalho","FCT","Fundo de Compensação do Trabalho","FCT","Fundo de Compensação do Trabalho","FCT","Fundo de Compensação do Trabalho","FCT","Fundo de Compensação do Trabalho","FCT","Fundo de Compensação do Trabalho","FCT","Fundo de Compensação do Trabalho","FCT","Fundo de Compensação do Trabalho","FCT","Fundo de Compensação do Trabalho","FCT","Fundo de Compensação do Trabalho","FCT","Fundo de Compensação do Trabalho","FCT","Fundo de Compensação do Trabalho","FCT","Fundo de Compensação do Trabalho","FCT","Fundo de Compensação do Trabalho","FCT","Fundo de Compensação do Trabalho","FCT","Fundo de Compensação do Trabalho","FCT","Fundo de Compensação do Trabalho","FCT","Fundo de Compensação do Trabalho","FCT","Fundo de Compensação do Trabalho","FCT","Fundo de Compensação do Trabalho","FCT","Fundo de Compensação do Trabalho","FCT","Fundo de Compensação do Trabalho","FCT","Fundo de Compensação do Trabalho","FCT","Fundo de Compensação do Trabalho","FCT","Fundo de Compensação do Trabalho","FCT","Fundo de Compensação do Trabalho","FCT","Fundo de Compensação do Trabalho","FCT","Fundo de Compensação do Trabalho","FCT","Fundo de Compensação do Trabalho","FCT","Fundo de Compensação do Trabalho","FCT","Fundo de Compensação do Trabalho","FCT","Fundo de Compensação do Trabalho","FCT","Fundo de Compensação do Trabalho","FCT","Fundo de Compensação do Trabalho","FCT","Fundo de Compensação do Trabalho","FCT","Fundo de Compensação do Trabalho","FCT","Fundo de Compensação do Trabalho","FCT","Fundo de Compensação do Trabalho","FCT","Fundo de Compensação do Trabalho","FCT","Fundo de Compensação do Trabalho","FCT","Fundo de Compensação do Trabalho","FCT","Fundo de Compensação do Trabalho","FCT","Fundo de Compensação do Trabalho","FCT","Fundo de Compensação do Trabalho","FCT","Fundo de Compensação do Trabalho","FCT","Fundo de Compensação do Trabalho","FCT","Fundo de Compensação do Trabalho","FCT","Fundo de Compensação do Trabalho","FCT","Fundo de Compensação do Trabalho","FCT","Fundo de Compensação do Trabalho","FCT","Fundo de Compensação do Trabalho","FCT","Fundo de Compensação do Trabalho","FCT","Fundo de Compensação do Trabalho","FCT","Fundo de Compensação do Trabalho","FCT","Fundo de Compensação do Trabalho","FCT","Fundo de Compensação do Trabalho","FCT","Fundo de Compensação do Trabalho","FCT","Fundo de Compensação do Trabalho","FCT","Fundo de Compensação do Trabalho","FCT","Fundo de Compensação do Trabalho","FCT","Fundo de Compensação do Trabalho","FCT","Fundo de Compensação do Trabalho","FCT","Fundo de Compensação do Trabalho","FCT","Fundo de Compensação do Trabalho","FCT","Fundo de Compensação do Trabalho","FCT","Fundo de Compensação do Trabalho","FCT","Fundo de Compensação do Trabalho","FCT","Fundo de Compensação do Trabalho","FCT","Fundo de Compensação do Trabalho","FCT","Fundo de Compensação do Trabalho","FCT","Fundo de Compensação do Trabalho","FCT","Fundo de Compensação do Trabalho","FCT","Fundo de Compensação do Trabalho","FCT","Fundo de Compensação do Trabalho","FCT","Fundo de Compensação do Trabalho","FCT","Fundo de Compensação do Trabalho","FCT","Fundo de Compensação do Trabalho","FCT","Fundo de Compensação do Trabalho","FCT","Fundo de Compensação do Trabalho","FCT","Fundo de Compensação do Trabalho","FCT","Fundo de Compensação do Trabalho","FCT","Fundo de Compensação do Trabalho","FCT","Fundo de Compensação do Trabalho","FCT","Fundo de Compensação do Trabalho","FCT","Fundo de Compensação do Trabalho","FCT","Fundo de Compensação do Trabalho","FCT","Fundo de Compensação do Trabalho","FCT","Fundo de Compensação do Trabalho","FCT","Fundo de Compensação do Trabalho","FCT","Fundo de Compensação do Trabalho","FCT","Fundo de Compensação do Trabalho","FCT","Fundo de Compensação do Trabalho","FCT","Fundo de Compensação do Trabalho","FCT","Fundo de Compensação do Trabalho","FCT","Fundo de Compensação do Trabalho","FCT","Fundo de Compensação do Trabalho","FCT","Fundo de Compensação do Trabalho","FCT","Fundo de Compensação do Trabalho","FCT","Fundo de Compensação do Trabalho","FCT","Fundo de Compensação do Trabalho","FCT","Fundo de Compensação do Trabalho","FCT","Fundo de Compensação do Trabalho","FCT","Fundo de Compensação do Trabalho","FCT","Fundo de Compensação do Trabalho","FCT","Fundo de Compensação do Trabalho","FCT","Fundo de Compensação do Trabalho","FCT","Fundo de Compensação do Trabalho","FCT","Fundo de Compensação do Trabalho","FCT","Fundo de Compensação do Trabalho","FCT","Fundo de Compensação do Trabalho","FCT","Fundo de Compensação do Trabalho","FCT","Fundo de Compensação do Trabalho","FCT","Fundo de Compensação do Trabalho","FCT","Fundo de Compensação do Trabalho","FCT","Fundo de Compensação do Trabalho","FCT","Fundo de Compensação do Trabalho","FCT","Fundo de Compensação do Trabalho","FCT","Fundo de Compensação do Trabalho","FCT","Fundo de Compensação do Trabalho","FCT","Fundo de Compensação do Trabalho","FCT","Fundo de Compensação do Trabalho","FCT","Fundo de Compensação do Trabalho","FCT","Fundo de Compensação do Trabalho","FCT","Fundo de Compensação do Trabalho","FCT","Fundo de Compensação do Trabalho","FCT","Fundo de Compensação do Trabalho","FCT","Fundo de Compensação do Trabalho","FCT","Fundo de Compensação do Trabalho","FCT","Fundo de Compensação do Trabalho","FCT","Fundo de Compensação do Trabalho","FCT","Fundo de Compensação do Trabalho","FCT","Fundo de Compensação do Trabalho","FCT","Fundo de Compensação do Trabalho","FCT","Fundo de Compensação do Trabalho","FCT","Fundo de Compensação do Trabalho","FCT","Fundo de Compensação do Trabalho","FCT","Fundo de Compensação do Trabalho","FCT","Fundo de Compensação do Trabalho","FCT","Fundo de Compensação do Trabalho","FCT","Fundo de Compensação do Trabalho","FCT","Fundo de Compensação do Trabalho","FCT","Fundo de Compensação do Trabalho","FCT","Fundo de Compensação do Trabalho","FCT","Fundo de Compensação do Trabalho","FCT","Fundo de Compensação do Trabalho","FCT","Fundo de Compensação do Trabalho","FCT","Fundo de Compensação do Trabalho","FCT","Fundo de Compensação do Trabalho","FCT","Fundo de Compensação do Trabalho","FCT","Fundo de Compensação do Trabalho","FCT","Fundo de Compensação do Trabalho","FCT","Fundo de Compensação do Trabalho","FCT","Fundo de Compensação do Trabalho","FCT","Fundo de Compensação do Trabalho","FCT","Fundo de Compensação do Trabalho","FCT","Fundo de Compensação do Trabalho","FCT","Fundo de Compensação do Trabalho","FCT","Fundo de Compensação do Trabalho","FCT","Fundo de Compensação do Trabalho","FCT","Fundo de Compensação do Trabalho","FCT","Fundo de Compensação do Trabalho","FCT","Fundo de Compensação do Trabalho","FCT","Fundo de Compensação do Trabalho","FCT","Fundo de Compensação do Trabalho","FCT","Fundo de Compensação do Trabalho","FCT","Fundo de Compensação do Trabalho","FCT","Fundo de Compensação do Trabalho","FCT","Fundo de Compensação do Trabalho","FCT","Fundo de Compensação do Trabalho","FCT","Fundo de Compensação do Trabalho","FCT","Fundo de Compensação do Trabalho","FCT","Fundo de Compensação do Trabalho","FCT","Fundo de Compensação do Trabalho","FCT","Fundo de Compensação do Trabalho","FCT","Fundo de Compensação do Trabalho","FCT","Fundo de Compensação do Trabalho","FCT","Fundo de Compensação do Trabalho","FCT","Fundo de Compensação do Trabalho","FCT","Fundo de Compensação do Trabalho","FCT","Fundo de Compensação do Trabalho","FCT","Fundo de Compensação do Trabalho","FCT","Fundo de Compensação do Trabalho","FCT","Fundo de Compensação do Trabalho","FCT","Fundo de Compensação do Trabalho","FCT","Fundo de Compensação do Trabalho","FCT","Fundo de Compensação do Trabalho","FCT","Fundo de Compensação do Trabalho","FCT","Fundo de Compensação do Trabalho","FCT","Fundo de Compensação do Trabalho","FCT","Fundo de Compensação do Trabalho","FCT","Fundo de Compensação do Trabalho","FCT","Fundo de Compensação do Trabalho","FCT","Fundo de Compensação do Trabalho","FCT","Fundo de Compensação do Trabalho","FCT","Fundo de Compensação do Trabalho","FCT","Fundo de Compensação do Trabalho","FCT","Fundo de Compensação do Trabalho","FCT","Fundo de Compensação do Trabalho","FCT","Fundo de Compensação do Trabalho","FCT","Fundo de Compensação do Trabalho","FCT","Fundo de Compensação do Trabalho","FCT","Fundo de Compensação do Trabalho","FCT","Fundo de Compensação do Trabalho","FCT","Fundo de Compensação do Trabalho","FCT","Fundo de Compensação do Trabalho","FCT","Fundo de Compensação do Trabalho","FCT","Fundo de Compensação do Trabalho","FCT","Fundo de Compensação do Trabalho","FCT","Fundo de Compensação do Trabalho","FCT","Fundo de Compensação do Trabalho","FCT","Fundo de Compensação do Trabalho","FCT","Fundo de Compensação do Trabalho","FCT","Fundo de Compensação do Trabalho","FCT","Fundo de Compensação do Trabalho","FCT","Fundo de Compensação do Trabalho","FCT","Fundo de Compensação do Trabalho","FCT","Fundo de Compensação do Trabalho","FCT","Fundo de Compensação do Trabalho","FCT","Fundo de Compensação do Trabalho","FCT","Fundo de Compensação do Trabalho","FCT","Fundo de Compensação do Trabalho","FCT","Fundo de Compensação do Trabalho","FCT","Fundo de Compensação do Trabalho","FCT","Fundo de Compensação do Trabalho","FCT","Fundo de Compensação do Trabalho","FCT","Fundo de Compensação do Trabalho","FCT","Fundo de Compensação do Trabalho","FCT","Fundo de Compensação do Trabalho","FCT","Fundo de Compensação do Trabalho","FCT","Fundo de Compensação do Trabalho","FCT","Fundo de Compensação do Trabalho","FCT","Fundo de Compensação do Trabalho","FCT","Fundo de Compensação do Trabalho","FCT","Fundo de Compensação do Trabalho","FCT","Fundo de Compensação do Trabalho","FCT","Fundo de Compensação do Trabalho","FCT","Fundo de Compensação do Trabalho","FCT","Fundo de Compensação do Trabalho","FCT","Fundo de Compensação do Trabalho","FCT","Fundo de Compensação do Trabalho","FCT","Fundo de Compensação do Trabalho","FCT","Fundo de Compensação do Trabalho","FCT","Fundo de Compensação do Trabalho","FCT","Fundo de Compensação do Trabalho","FCT","Fundo de Compensação do Trabalho","FCT","Fundo de Compensação do Trabalho","FCT","Fundo de Compensação do Trabalho","FCT","Fundo de Compensação do Trabalho","FCT","Fundo de Compensação do Trabalho","FCT","Fundo de Compensação do Trabalho","FCT","Fundo de Compensação do Trabalho","FCT","Fundo de Compensação do Trabalho","FCT","Fundo de Compensação do Trabalho","FCT","Fundo de Compensação do Trabalho","FCT","Fundo de Compensação do Trabalho","FCT","Fundo de Compensação do Trabalho","FCT","Fundo de Compensação do Trabalho","FCT","Fundo de Compensação do Trabalho","FCT","Fundo de Compensação do Trabalho","FCT","Fundo de Compensação do Trabalho","FCT","Fundo de Compensação do Trabalho","FCT","Fundo de Compensação do Trabalho","FCT","Fundo de Compensação do Trabalho","FCT","Fundo de Compensação do Trabalho","FCT","Fundo de Compensação do Trabalho","FCT","Fundo de Compensação do Trabalho","FCT","Fundo de Compensação do Trabalho","FCT","Fundo de Compensação do Trabalho","FCT","Fundo de Compensação do Trabalho","FCT","Fundo de Compensação do Trabalho","FCT","Fundo de Compensação do Trabalho","FCT","Fundo de Compensação do Trabalho","FCT","Fundo de Compensação do Trabalho","FCT","Fundo de Compensação do Trabalho","FCT","Fundo de Compensação do Trabalho","FCT","Fundo de Compensação do Trabalho","FCT","Fundo de Compensação do Trabalho","FCT","Fundo de Compensação do Trabalho","FCT","Fundo de Compensação do Trabalho","FCT","Fundo de Compensação do Trabalho","FCT","Fundo de Compensação do Trabalho","FCT","Fundo de Compensação do Trabalho","FCT","Fundo de Compensação do Trabalho","FCT","Fundo de Compensação do Trabalho","FCT","Fundo de Compensação do Trabalho","FCT","Fundo de Compensação do Trabalho","FCT","Fundo de Compensação do Trabalho","FCT","Fundo de Compensação do Trabalho","FCT","Fundo de Compensação do Trabalho","FCT","Fundo de Compensação do Trabalho","FCT","Fundo de Compensação do Trabalho","FCT","Fundo de Compensação do Trabalho","FCT","Fundo de Compensação do Trabalho","FCT","Fundo de Compensação do Trabalho","FCT","Fundo de Compensação do Trabalho","FCT","Fundo de Compensação do Trabalho","FCT","Fundo de Compensação do Trabalho","FCT","Fundo de Compensação do Trabalho","FCT","Fundo de Compensação do Trabalho","FCT","Fundo de Compensação do Trabalho","FCT","Fundo de Compensação do Trabalho","FCT","Fundo de Compensação do Trabalho","FCT","Fundo de Compensação do Trabalho","FCT","Fundo de Compensação do Trabalho","FCT","Fundo de Compensação do Trabalho","FCT","Fundo de Compensação do Trabalho","FCT","Fundo de Compensação do Trabalho","FCT","Fundo de Compensação do Trabalho","FCT","Fundo de Compensação do Trabalho","FCT","Fundo de Compensação do Trabalho","FCT","Fundo de Compensação do Trabalho","FCT","Fundo de Compensação do Trabalho","FCT","Fundo de Compensação do Trabalho","FCT","Fundo de Compensação do Trabalho","FCT","Fundo de Compensação do Trabalho","FCT","Fundo de Compensação do Trabalho","FCT","Fundo de Compensação do Trabalho","FCT","Fundo de Compensação do Trabalho","FCT","Fundo de Compensação do Trabalho","FCT","Fundo de Compensação do Trabalho","FCT","Fundo de Compensação do Trabalho","FCT","Fundo de Compensação do Trabalho","FCT","Fundo de Compensação do Trabalho","FCT","Fundo de Compensação do Trabalho","FCT","Fundo de Compensação do Trabalho","FCT","Fundo de Compensação do Trabalho","FCT","Fundo de Compensação do Trabalho","FCT","Fundo de Compensação do Trabalho","FCT","Fundo de Compensação do Trabalho","FCT","Fundo de Compensação do Trabalho","FCT","Fundo de Compensação do Trabalho","FCT","Fundo de Compensação do Trabalho","FCT","Fundo de Compensação do Trabalho","FCT","Fundo de Compensação do Trabalho","FCT","Fundo de Compensação do Trabalho","FCT","Fundo de Compensação do Trabalho","FCT","Fundo de Compensação do Trabalho","FCT","Fundo de Compensação do Trabalho","FCT","Fundo de Compensação do Trabalho","FCT","Fundo de Compensação do Trabalho","FCT","Fundo de Compensação do Trabalho","FCT","Fundo de Compensação do Trabalho","FCT","Fundo de Compensação do Trabalho","FCT","Fundo de Compensação do Trabalho","FCT","Fundo de Compensação do Trabalho","FCT","Fundo de Compensação do Trabalho","FCT","Fundo de Compensação do Trabalho","FCT","Fundo de Compensação do Trabalho","FCT","Fundo de Compensação do Trabalho","FCT","Fundo de Compensação do Trabalho","FCT","Fundo de Compensação do Trabalho","FCT","Fundo de Compensação do Trabalho","FCT","Fundo de Compensação do Trabalho","FCT","Fundo de Compensação do Trabalho","FCT","Fundo de Compensação do Trabalho","FCT","Fundo de Compensação do Trabalho","FCT","Fundo de Compensação do Trabalho","FCT","Fundo de Compensação do Trabalho","FCT","Fundo de Compensação do Trabalho","FCT","Fundo de Compensação do Trabalho","FCT","Fundo de Compensação do Trabalho","FCT","Fundo de Compensação do Trabalho","FCT","Fundo de Compensação do Trabalho","FCT","Fundo de Compensação do Trabalho","FCT","Fundo de Compensação do Trabalho","FCT","Fundo de Compensação do Trabalho","FCT","Fundo de Compensação do Trabalho","FCT","Fundo de Compensação do Trabalho","FCT","Fundo de Compensação do Trabalho","FCT","Fundo de Compensação do Trabalho","FCT","Fundo de Compensação do Trabalho","FCT","Fundo de Compensação do Trabalho","FCT","Fundo de Compensação do Trabalho","FCT","Fundo de Compensação do Trabalho","FCT","Fundo de Compensação do Trabalho","FCT","Fundo de Compensação do Trabalho","FCT","Fundo de Compensação do Trabalho","FCT","Fundo de Compensação do Trabalho","FCT","Fundo de Compensação do Trabalho","FCT","Fundo de Compensação do Trabalho","FCT","Fundo de Compensação do Trabalho","FCT","Fundo de Compensação do Trabalho","FCT","Fundo de Compensação do Trabalho","FCT","Fundo de Compensação do Trabalho","FCT","Fundo de Compensação do Trabalho","FCT","Fundo de Compensação do Trabalho","FCT","Fundo de Compensação do Trabalho","FCT","Fundo de Compensação do Trabalho","FCT","Fundo de Compensação do Trabalho","FCT","Fundo de Compensação do Trabalho","FCT","Fundo de Compensação do Trabalho","FCT","Fundo de Compensação do Trabalho","FCT","Fundo de Compensação do Trabalho","FCT","Fundo de Compensação do Trabalho","FCT","Fundo de Compensação do Trabalho","FCT","Fundo de Compensação do Trabalho","FCT","Fundo de Compensação do Trabalho","FCT","Fundo de Compensação do Trabalho","FCT","Fundo de Compensação do Trabalho","FCT","Fundo de Compensação do Trabalho","FCT","Fundo de Compensação do Trabalho","FCT","Fundo de Compensação do Trabalho","FCT","Fundo de Compensação do Trabalho","FCT","Fundo de Compensação do Trabalho","FCT","Fundo de Compensação do Trabalho","FCT","Fundo de Compensação do Trabalho","FCT","Fundo de Compensação do Trabalho","FCT","Fundo de Compensação do Trabalho","FCT","Fundo de Compensação do Trabalho","FCT","Fundo de Compensação do Trabalho","FCT","Fundo de Compensação do Trabalho","FCT","Fundo de Compensação do Trabalho","FCT","Fundo de Compensação do Trabalho","FCT","Fundo de Compensação do Trabalho","FCT","Fundo de Compensação do Trabalho","FCT","Fundo de Compensação do Trabalho","FCT","Fundo de Compensação do Trabalho","FCT","Fundo de Compensação do Trabalho","FCT","Fundo de Compensação do Trabalho","FCT","Fundo de Compensação do Trabalho","FCT","Fundo de Compensação do Trabalho","FCT","Fundo de Compensação do Trabalho","FCT","Fundo de Compensação do Trabalho","FCT","Fundo de Compensação do Trabalho","FCT","Fundo de Compensação do Trabalho","FCT","Fundo de Compensação do Trabalho","FCT","Fundo de Compensação do Trabalho","FCT","Fundo de Compensação do Trabalho","FCT","Fundo de Compensação do Trabalho","FCT","Fundo de Compensação do Trabalho","FCT","Fundo de Compensação do Trabalho","FCT","Fundo de Compensação do Trabalho","FCT","Fundo de Compensação do Trabalho","FCT","Fundo de Compensação do Trabalho","FCT","Fundo de Compensação do Trabalho","FCT","Fundo de Compensação do Trabalho","FCT","Fundo de Compensação do Trabalho","FCT","Fundo de Compensação do Trabalho","FCT","Fundo de Compensação do Trabalho","FCT","Fundo de Compensação do Trabalho","FCT","Fundo de Compensação do Trabalho","FCT","Fundo de Compensação do Trabalho","FCT","Fundo de Compensação do Trabalho","FCT","Fundo de Compensação do Trabalho","FCT","Fundo de Compensação do Trabalho","FCT","Fundo de Compensação do Trabalho","FCT","Fundo de Compensação do Trabalho","FCT","Fundo de Compensação do Trabalho","FCT","Fundo de Compensação do Trabalho","FCT","Fundo de Compensação do Trabalho","FCT","Fundo de Compensação do Trabalho","FCT","Fundo de Compensação do Trabalho","FCT","Fundo de Compensação do Trabalho","FCT","Fundo de Compensação do Trabalho","FCT","Fundo de Compensação do Trabalho","FCT","Fundo de Compensação do Trabalho","FCT","Fundo de Compensação do Trabalho","FCT","Fundo de Compensação do Trabalho","FCT","Fundo de Compensação do Trabalho","FCT","Fundo de Compensação do Trabalho","FCT","Fundo de Compensação do Trabalho","FCT","Fundo de Compensação do Trabalho","FCT","Fundo de Compensação do Trabalho","FCT","Fundo de Compensação do Trabalho","FCT","Fundo de Compensação do Trabalho","FCT","Fundo de Compensação do Trabalho","FCT","Fundo de Compensação do Trabalho","FCT","Fundo de Compensação do Trabalho","FCT","Fundo de Compensação do Trabalho","FCT","Fundo de Compensação do Trabalho","FCT","Fundo de Compensação do Trabalho","FCT","Fundo de Compensação do Trabalho","FCT","Fundo de Compensação do Trabalho","FCT","Fundo de Compensação do Trabalho","FCT","Fundo de Compensação do Trabalho","FCT","Fundo de Compensação do Trabalho","FCT","Fundo de Compensação do Trabalho","FCT","Fundo de Compensação do Trabalho","FCT","Fundo de Compensação do Trabalho","FCT","Fundo de Compensação do Trabalho","FCT","Fundo de Compensação do Trabalho","FCT","Fundo de Compensação do Trabalho","FCT","Fundo de Compensação do Trabalho","FCT","Fundo de Compensação do Trabalho","FCT","Fundo de Compensação do Trabalho","FCT","Fundo de Compensação do Trabalho","FCT","Fundo de Compensação do Trabalho","FCT","Fundo de Compensação do Trabalho","FCT","Fundo de Compensação do Trabalho","FCT","Fundo de Compensação do Trabalho","FCT","Fundo de Compensação do Trabalho","FCT","Fundo de Compensação do Trabalho","FCT","Fundo de Compensação do Trabalho","FCT","Fundo de Compensação do Trabalho","FCT","Fundo de Compensação do Trabalho","FCT","Fundo de Compensação do Trabalho","FCT","Fundo de Compensação do Trabalho","FCT","Fundo de Compensação do Trabalho","FCT","Fundo de Compensação do Trabalho","FCT","Fundo de Compensação do Trabalho","FCT","Fundo de Compensação do Trabalho","FCT","Fundo de Compensação do Trabalho","FCT","Fundo de Compensação do Trabalho","FCT","Fundo de Compensação do Trabalho","FCT","Fundo de Compensação do Trabalho","FCT","Fundo de Compensação do Trabalho","FCT","Fundo de Compensação do Trabalho","FCT","Fundo de Compensação do Trabalho","FCT","Fundo de Compensação do Trabalho","FCT","Fundo de Compensação do Trabalho","FCT","Fundo de Compensação do Trabalho","FCT","Fundo de Compensação do Trabalho","FCT","Fundo de Compensação do Trabalho","FCT","Fundo de Compensação do Trabalho","FCT","Fundo de Compensação do Trabalho","FCT","Fundo de Compensação do Trabalho","FCT","Fundo de Compensação do Trabalho","FCT","Fundo de Compensação do Trabalho","FCT","Fundo de Compensação do Trabalho","FCT","Fundo de Compensação do Trabalho","FCT","Fundo de Compensação do Trabalho","FCT","Fundo de Compensação do Trabalho","FCT","Fundo de Compensação do Trabalho","FCT","Fundo de Compensação do Trabalho","FCT","Fundo de Compensação do Trabalho","FCT","Fundo de Compensação do Trabalho","FCT","Fundo de Compensação do Trabalho","FCT","Fundo de Compensação do Trabalho","FCT","Fundo de Compensação do Trabalho","FCT","Fundo de Compensação do Trabalho","FCT","Fundo de Compensação do Trabalho","FCT","Fundo de Compensação do Trabalho","FCT","Fundo de Compensação do Trabalho","FCT","Fundo de Compensação do Trabalho","FCT","Fundo de Compensação do Trabalho","FCT","Fundo de Compensação do Trabalho","FCT","Fundo de Compensação do Trabalho","FCT","Fundo de Compensação do Trabalho","FCT","Fundo de Compensação do Trabalho","FCT","Fundo de Compensação do Trabalho","FCT","Fundo de Compensação do Trabalho","FCT","Fundo de Compensação do Trabalho","FCT","Fundo de Compensação do Trabalho","FCT","Fundo de Compensação do Trabalho","FCT","Fundo de Compensação do Trabalho","FCT","Fundo de Compensação do Trabalho","FCT","Fundo de Compensação do Trabalho","FCT","Fundo de Compensação do Trabalho","FCT","Fundo de Compensação do Trabalho","FCT","Fundo de Compensação do Trabalho","FCT","Fundo de Compensação do Trabalho","FCT","Fundo de Compensação do Trabalho","FCT","Fundo de Compensação do Trabalho","FCT","Fundo de Compensação do Trabalho","FCT","Fundo de Compensação do Trabalho","FCT","Fundo de Compensação do Trabalho","FCT","Fundo de Compensação do Trabalho","FCT","Fundo de Compensação do Trabalho","FCT","Fundo de Compensação do Trabalho","FCT","Fundo de Compensação do Trabalho","FCT","Fundo de Compensação do Trabalho","FCT","Fundo de Compensação do Trabalho","FCT","Fundo de Compensação do Trabalho","FCT","Fundo de Compensação do Trabalho","FCT","Fundo de Compensação do Trabalho","FCT","Fundo de Compensação do Trabalho","FCT","Fundo de Compensação do Trabalho","FCT","Fundo de Compensação do Trabalho","FCT","Fundo de Compensação do Trabalho","FCT","Fundo de Compensação do Trabalho","FCT","Fundo de Compensação do Trabalho","FCT","Fundo de Compensação do Trabalho","FCT","Fundo de Compensação do Trabalho","FCT","Fundo de Compensação do Trabalho","FCT","Fundo de Compensação do Trabalho","FCT","Fundo de Compensação do Trabalho","FCT","Fundo de Compensação do Trabalho","FCT","Fundo de Compensação do Trabalho","FCT","Fundo de Compensação do Trabalho","FCT","Fundo de Compensação do Trabalho","FCT","Fundo de Compensação do Trabalho","FCT","Fundo de Compensação do Trabalho","FCT","Fundo de Compensação do Trabalho","FCT","Fundo de Compensação do Trabalho","FCT","Fundo de Compensação do Trabalho","FCT","Fundo de Compensação do Trabalho","FCT","Fundo de Compensação do Trabalho","FCT","Fundo de Compensação do Trabalho","FCT","Fundo de Compensação do Trabalho","FCT","Fundo de Compensação do Trabalho","FCT","Fundo de Compensação do Trabalho","FCT","Fundo de Compensação do Trabalho","FCT","Fundo de Compensação do Trabalho","FCT","Fundo de Compensação do Trabalho","FCT","Fundo de Compensação do Trabalho","FCT","Fundo de Compensação do Trabalho","FCT","Fundo de Compensação do Trabalho","FCT","Fundo de Compensação do Trabalho","FCT","Fundo de Compensação do Trabalho","FCT","Fundo de Compensação do Trabalho","FCT","Fundo de Compensação do Trabalho","FCT","Fundo de Compensação do Trabalho","FCT","Fundo de Compensação do Trabalho","FCT","Fundo de Compensação do Trabalho","FCT","Fundo de Compensação do Trabalho","FCT","Fundo de Compensação do Trabalho","FCT","Fundo de Compensação do Trabalho","FCT","Fundo de Compensação do Trabalho","FCT","Fundo de Compensação do Trabalho","FCT","Fundo de Compensação do Trabalho","FCT","Fundo de Compensação do Trabalho","FCT","Fundo de Compensação do Trabalho","FCT","Fundo de Compensação do Trabalho","FCT","Fundo de Compensação do Trabalho","FCT","Fundo de Compensação do Trabalho","FCT","Fundo de Compensação do Trabalho","FCT","Fundo de Compensação do Trabalho","FCT","Fundo de Compensação do Trabalho","FCT","Fundo de Compensação do Trabalho","FCT","Fundo de Compensação do Trabalho","FCT","Fundo de Compensação do Trabalho","FCT","Fundo de Compensação do Trabalho","FCT","Fundo de Compensação do Trabalho","FCT","Fundo de Compensação do Trabalho","FCT","Fundo de Compensação do Trabalho","FCT","Fundo de Compensação do Trabalho","FCT","Fundo de Compensação do Trabalho","FCT","Fundo de Compensação do Trabalho","FCT","Fundo de Compensação do Trabalho","FCT","Fundo de Compensação do Trabalho","FCT","Fundo de Compensação do Trabalho","FCT","Fundo de Compensação do Trabalho","FCT","Fundo de Compensação do Trabalho","FCT","Fundo de Compensação do Trabalho","FCT","Fundo de Compensação do Trabalho","FCT","Fundo de Compensação do Trabalho","FCT","Fundo de Compensação do Trabalho","FCT","Fundo de Compensação do Trabalho","FCT","Fundo de Compensação do Trabalho","FCT","Fundo de Compensação do Trabalho","FCT","Fundo de Compensação do Trabalho","FCT","Fundo de Compensação do Trabalho","FCT","Fundo de Compensação do Trabalho","FCT","Fundo de Compensação do Trabalho","FCT","Fundo de Compensação do Trabalho","FCT","Fundo de Compensação do Trabalho","FCT","Fundo de Compensação do Trabalho","FCT","Fundo de Compensação do Trabalho","FCT","Fundo de Compensação do Trabalho","FCT","Fundo de Compensação do Trabalho","FCT","Fundo de Compensação do Trabalho","FCT","Fundo de Compensação do Trabalho","FCT","Fundo de Compensação do Trabalho","FCT","Fundo de Compensação do Trabalho","FCT","Fundo de Compensação do Trabalho","FCT","Fundo de Compensação do Trabalho","FCT","Fundo de Compensação do Trabalho","FCT","Fundo de Compensação do Trabalho","FCT","Fundo de Compensação do Trabalho","FCT","Fundo de Compensação do Trabalho","FCT","Fundo de Compensação do Trabalho","FCT","Fundo de Compensação do Trabalho","FCT","Fundo de Compensação do Trabalho","FCT","Fundo de Compensação do Trabalho","FCT","Fundo de Compensação do Trabalho","FCT","Fundo de Compensação do Trabalho","FCT","Fundo de Compensação do Trabalho","FCT","Fundo de Compensação do Trabalho","FCT","Fundo de Compensação do Trabalho","FCT","Fundo de Compensação do Trabalho","FCT","Fundo de Compensação do Trabalho","FCT","Fundo de Compensação do Trabalho","FCT","Fundo de Compensação do Trabalho","FCT","Fundo de Compensação do Trabalho","FCT","Fundo de Compensação do Trabalho","FCT","Fundo de Compensação do Trabalho","FCT","Fundo de Compensação do Trabalho","FCT","Fundo de Compensação do Trabalho","FCT","Fundo de Compensação do Trabalho","FCT","Fundo de Compensação do Trabalho","FCT","Fundo de Compensação do Trabalho","FCT","Fundo de Compensação do Trabalho","FCT","Fundo de Compensação do Trabalho","FCT","Fundo de Compensação do Trabalho","FCT","Fundo de Compensação do Trabalho","FCT","Fundo de Compensação do Trabalho","FCT","Fundo de Compensação do Trabalho","FCT","Fundo de Compensação do Trabalho","FCT","Fundo de Compensação do Trabalho","FCT","Fundo de Compensação do Trabalho","FCT","Fundo de Compensação do Trabalho","FCT","Fundo de Compensação do Trabalho","FCT","Fundo de Compensação do Trabalho","FCT","Fundo de Compensação do Trabalho","FCT","Fundo de Compensação do Trabalho","FCT","Fundo de Compensação do Trabalho","FCT","Fundo de Compensação do Trabalho","FCT","Fundo de Compensação do Trabalho","FCT","Fundo de Compensação do Trabalho","FCT","Fundo de Compensação do Trabalho","FCT","Fundo de Compensação do Trabalho","FCT","Fundo de Compensação do Trabalho","FCT","Fundo de Compensação do Trabalho","FCT","Fundo de Compensação do Trabalho","FCT","Fundo de Compensação do Trabalho","FCT","Fundo de Compensação do Trabalho","FCT","Fundo de Compensação do Trabalho","FCT","Fundo de Compensação do Trabalho","FCT","Fundo de Compensação do Trabalho","FCT","Fundo de Compensação do Trabalho","FCT","Fundo de Compensação do Trabalho","FCT","Fundo de Compensação do Trabalho","FCT","Fundo de Compensação do Trabalho","FCT","Fundo de Compensação do Trabalho","FCT","Fundo de Compensação do Trabalho","FCT","Fundo de Compensação do Trabalho","FCT","Fundo de Compensação do Trabalho","FCT","Fundo de Compensação do Trabalho","FCT","Fundo de Compensação do Trabalho","FCT","Fundo de Compensação do Trabalho","FCT","Fundo de Compensação do Trabalho","FCT","Fundo de Compensação do Trabalho","FCT","Fundo de Compensação do Trabalho","FCT","Fundo de Compensação do Trabalho","FCT","Fundo de Compensação do Trabalho","FCT","Fundo de Compensação do Trabalho","FCT","Fundo de Compensação do Trabalho","FCT","Fundo de Compensação do Trabalho","FCT","Fundo de Compensação do Trabalho","FCT","Fundo de Compensação do Trabalho","FCT","Fundo de Compensação do Trabalho","FCT","Fundo de Compensação do Trabalho","FCT","Fundo de Compensação do Trabalho","FCT","Fundo de Compensação do Trabalho","FCT","Fundo de Compensação do Trabalho","FCT","Fundo de Compensação do Trabalho","FCT","Fundo de Compensação do Trabalho","FCT","Fundo de Compensação do Trabalho","FCT","Fundo de Compensação do Trabalho","FCT","Fundo de Compensação do Trabalho","FCT","Fundo de Compensação do Trabalho","FCT","Fundo de Compensação do Trabalho","FCT","Fundo de Compensação do Trabalho","FCT","Fundo de Compensação do Trabalho","FCT","Fundo de Compensação do Trabalho","FCT","Fundo de Compensação do Trabalho","FCT","Fundo de Compensação do Trabalho","FCT","Fundo de Compensação do Trabalho","FCT","Fundo de Compensação do Trabalho","FCT","Fundo de Compensação do Trabalho","FCT","Fundo de Compensação do Trabalho","FCT","Fundo de Compensação do Trabalho","FCT","Fundo de Compensação do Trabalho","FCT","Fundo de Compensação do Trabalho","FCT","Fundo de Compensação do Trabalho","FCT","Fundo de Compensação do Trabalho","FCT","Fundo de Compensação do Trabalho","FCT","Fundo de Compensação do Trabalho","FCT","Fundo de Compensação do Trabalho","FCT","Fundo de Compensação do Trabalho","FCT","Fundo de Compensação do Trabalho","FCT","Fundo de Compensação do Trabalho","FCT","Fundo de Compensação do Trabalho","FCT","Fundo de Compensação do Trabalho","FCT","Fundo de Compensação do Trabalho","FCT","Fundo de Compensação do Trabalho","FCT","Fundo de Compensação do Trabalho","FCT","Fundo de Compensação do Trabalho","FCT","Fundo de Compensação do Trabalho","FCT","Fundo de Compensação do Trabalho","FCT","Fundo de Compensação do Trabalho","FCT","Fundo de Compensação do Trabalho","FCT","Fundo de Compensação do Trabalho","FCT","Fundo de Compensação do Trabalho","FCT","Fundo de Compensação do Trabalho","FCT","Fundo de Compensação do Trabalho","FCT","Fundo de Compensação do Trabalho","FCT","Fundo de Compensação do Trabalho","FCT","Fundo de Compensação do Trabalho","FCT","Fundo de Compensação do Trabalho","FCT","Fundo de Compensação do Trabalho","FCT","Fundo de Compensação do Trabalho","FCT","Fundo de Compensação do Trabalho","FCT","Fundo de Compensação do Trabalho","FCT","Fundo de Compensação do Trabalho","FCT","Fundo de Compensação do Trabalho","FCT","Fundo de Compensação do Trabalho","FCT","Fundo de Compensação do Trabalho","FCT","Fundo de Compensação do Trabalho","FCT","Fundo de Compensação do Trabalho","FCT","Fundo de Compensação do Trabalho","FCT","Fundo de Compensação do Trabalho","FCT","Fundo de Compensação do Trabalho","FCT","Fundo de Compensação do Trabalho","FCT","Fundo de Compensação do Trabalho","FCT","Fundo de Compensação do Trabalho","FCT","Fundo de Compensação do Trabalho","FCT","Fundo de Compensação do Trabalho","FCT","Fundo de Compensação do Trabalho","FCT","Fundo de Compensação do Trabalho","FCT","Fundo de Compensação do Trabalho","FCT","Fundo de Compensação do Trabalho","FCT","Fundo de Compensação do Trabalho","FCT","Fundo de Compensação do Trabalho","FCT","Fundo de Compensação do Trabalho","FCT","Fundo de Compensação do Trabalho","FCT","Fundo de Compensação do Trabalho","FCT","Fundo de Compensação do Trabalho","FCT","Fundo de Compensação do Trabalho","FCT","Fundo de Compensação do Trabalho","FCT","Fundo de Compensação do Trabalho","FCT","Fundo de Compensação do Trabalho","FCT","Fundo de Compensação do Trabalho","FCT","Fundo de Compensação do Trabalho","FCT","Fundo de Compensação do Trabalho","FCT","Fundo de Compensação do Trabalho","FCT","Fundo de Compensação do Trabalho","FCT","Fundo de Compensação do Trabalho","FCT","Fundo de Compensação do Trabalho","FCT","Fundo de Compensação do Trabalho","FCT","Fundo de Compensação do Trabalho","FCT","Fundo de Compensação do Trabalho","FCT","Fundo de Compensação do Trabalho","FCT","Fundo de Compensação do Trabalho","FCT","Fundo de Compensação do Trabalho","FCT","Fundo de Compensação do Trabalho","FCT","Fundo de Compensação do Trabalho","FCT","Fundo de Compensação do Trabalho","FCT","Fundo de Compensação do Trabalho","FCT","Fundo de Compensação do Trabalho","FCT","Fundo de Compensação do Trabalho","FCT","Fundo de Compensação do Trabalho","FCT","Fundo de Compensação do Trabalho","FCT","Fundo de Compensação do Trabalho","FCT","Fundo de Compensação do Trabalho","FCT","Fundo de Compensação do Trabalho","FCT","Fundo de Compensação do Trabalho","FCT","Fundo de Compensação do Trabalho","FCT","Fundo de Compensação do Trabalho","FCT","Fundo de Compensação do Trabalho","FCT","Fundo de Compensação do Trabalho","FCT","Fundo de Compensação do Trabalho","FCT","Fundo de Compensação do Trabalho","FCT","Fundo de Compensação do Trabalho","FCT","Fundo de Compensação do Trabalho","FCT","Fundo de Compensação do Trabalho","FCT","Fundo de Compensação do Trabalho","FCT","Fundo de Compensação do Trabalho","FCT","Fundo de Compensação do Trabalho","FCT","Fundo de Compensação do Trabalho","FCT","Fundo de Compensação do Trabalho","FCT","Fundo de Compensação do Trabalho","FCT","Fundo de Compensação do Trabalho","FCT","Fundo de Compensação do Trabalho","FCT","Fundo de Compensação do Trabalho","FCT","Fundo de Compensação do Trabalho","FCT","Fundo de Compensação do Trabalho","FCT","Fundo de Compensação do Trabalho","FCT","Fundo de Compensação do Trabalho","FCT","Fundo de Compensação do Trabalho","FCT","Fundo de Compensação do Trabalho","FCT","Fundo de Compensação do Trabalho","FCT","Fundo de Compensação do Trabalho","FCT","Fundo de Compensação do Trabalho","FCT","Fundo de Compensação do Trabalho","FCT","Fundo de Compensação do Trabalho","FCT","Fundo de Compensação do Trabalho","FCT","Fundo de Compensação do Trabalho","FCT","Fundo de Compensação do Trabalho","FCT","Fundo de Compensação do Trabalho","FCT","Fundo de Compensação do Trabalho","FCT","Fundo de Compensação do Trabalho","FCT","Fundo de Compensação do Trabalho","FCT","Fundo de Compensação do Trabalho","FCT","Fundo de Compensação do Trabalho","FCT","Fundo de Compensação do Trabalho","FCT","Fundo de Compensação do Trabalho","FCT","Fundo de Compensação do Trabalho","FCT","Fundo de Compensação do Trabalho","FCT","Fundo de Compensação do Trabalho","FCT","Fundo de Compensação do Trabalho","FCT","Fundo de Compensação do Trabalho","FCT","Fundo de Compensação do Trabalho","FCT","Fundo de Compensação do Trabalho","FCT","Fundo de Compensação do Trabalho","FCT","Fundo de Compensação do Trabalho","FCT","Fundo de Compensação do Trabalho","FCT","Fundo de Compensação do Trabalho","FCT","Fundo de Compensação do Trabalho","FCT","Fundo de Compensação do Trabalho","FCT","Fundo de Compensação do Trabalho","FCT","Fundo de Compensação do Trabalho","FCT","Fundo de Compensação do Trabalho","FCT","Fundo de Compensação do Trabalho","FCT","Fundo de Compensação do Trabalho","FCT","Fundo de Compensação do Trabalho","FCT","Fundo de Compensação do Trabalho","FCT","Fundo de Compensação do Trabalho","FCT","Fundo de Compensação do Trabalho","FCT","Fundo de Compensação do Trabalho","FCT","Fundo de Compensação do Trabalho","FCT","Fundo de Compensação do Trabalho","FCT","Fundo de Compensação do Trabalho","FCT","Fundo de Compensação do Trabalho","FCT","Fundo de Compensação do Trabalho","FCT","Fundo de Compensação do Trabalho","FCT","Fundo de Compensação do Trabalho","FCT","Fundo de Compensação do Trabalho","FCT","Fundo de Compensação do Trabalho","FCT","Fundo de Compensação do Trabalho","FCT","Fundo de Compensação do Trabalho","FCT","Fundo de Compensação do Trabalho","FCT","Fundo de Compensação do Trabalho","FCT","Fundo de Compensação do Trabalho","FCT","Fundo de Compensação do Trabalho","FCT","Fundo de Compensação do Trabalho","FCT","Fundo de Compensação do Trabalho","FCT","Fundo de Compensação do Trabalho","FCT","Fundo de Compensação do Trabalho","FCT","Fundo de Compensação do Trabalho","FCT","Fundo de Compensação do Trabalho","FCT","Fundo de Compensação do Trabalho","FCT","Fundo de Compensação do Trabalho","FCT","Fundo de Compensação do Trabalho","FCT","Fundo de Compensação do Trabalho","FCT","Fundo de Compensação do Trabalho","FCT","Fundo de Compensação do Trabalho","FCT","Fundo de Compensação do Trabalho","FCT","Fundo de Compensação do Trabalho","FCT","Fundo de Compensação do Trabalho","FCT","Fundo de Compensação do Trabalho","FCT","Fundo de Compensação do Trabalho","FCT","Fundo de Compensação do Trabalho","FCT","Fundo de Compensação do Trabalho","FCT","Fundo de Compensação do Trabalho","FCT","Fundo de Compensação do Trabalho","FCT","Fundo de Compensação do Trabalho","FCT","Fundo de Compensação do Trabalho","FCT","Fundo de Compensação do Trabalho","FCT","Fundo de Compensação do Trabalho","FCT","Fundo de Compensação do Trabalho","FCT","Fundo de Compensação do Trabalho","FCT","Fundo de Compensação do Trabalho","FCT","Fundo de Compensação do Trabalho","FCT","Fundo de Compensação do Trabalho","FCT","Fundo de Compensação do Trabalho","FCT","Fundo de Compensação do Trabalho","FCT","Fundo de Compensação do Trabalho","FCT","Fundo de Compensação do Trabalho","FCT","Fundo de Compensação do Trabalho","FCT","Fundo de Compensação do Trabalho","FCT","Fundo de Compensação do Trabalho","FCT","Fundo de Compensação do Trabalho","FCT","Fundo de Compensação do Trabalho","FCT","Fundo de Compensação do Trabalho","FCT","Fundo de Compensação do Trabalho","FCT","Fundo de Compensação do Trabalho","FCT","Fundo de Compensação do Trabalho","FCT","Fundo de Compensação do Trabalho","FCT","Fundo de Compensação do Trabalho","FCT","Fundo de Compensação do Trabalho","FCT","Fundo de Compensação do Trabalho","FCT","Fundo de Compensação do Trabalho","FCT","Fundo de Compensação do Trabalho","FCT","Fundo de Compensação do Trabalho","FCT","Fundo de Compensação do Trabalho","FCT","Fundo de Compensação do Trabalho","FCT","Fundo de Compensação do Trabalho","FCT","Fundo de Compensação do Trabalho","FCT","Fundo de Compensação do Trabalho","FCT","Fundo de Compensação do Trabalho","FCT","Fundo de Compensação do Trabalho","FCT","Fundo de Compensação do Trabalho","FCT","Fundo de Compensação do Trabalho","FCT","Fundo de Compensação do Trabalho","FCT","Fundo de Compensação do Trabalho","FCT","Fundo de Compensação do Trabalho","FCT","Fundo de Compensação do Trabalho","FCT","Fundo de Compensação do Trabalho","FCT","Fundo de Compensação do Trabalho","FCT","Fundo de Compensação do Trabalho","FCT","Fundo de Compensação do Trabalho","FCT","Fundo de Compensação do Trabalho","FCT","Fundo de Compensação do Trabalho","FCT","Fundo de Compensação do Trabalho","FCT","Fundo de Compensação do Trabalho","FCT","Fundo de Compensação do Trabalho","FCT","Fundo de Compensação do Trabalho","FCT","Fundo de Compensação do Trabalho","FCT","Fundo de Compensação do Trabalho","FCT","Fundo de Compensação do Trabalho","FCT","Fundo de Compensação do Trabalho","FCT","Fundo de Compensação do Trabalho","FCT","Fundo de Compensação do Trabalho","FCT","Fundo de Compensação do Trabalho","FCT","Fundo de Compensação do Trabalho","FCT","Fundo de Compensação do Trabalho","FCT","Fundo de Compensação do Trabalho","FCT","Fundo de Compensação do Trabalho","FCT","Fundo de Compensação do Trabalho","FCT","Fundo de Compensação do Trabalho","FCT","Fundo de Compensação do Trabalho","FCT","Fundo de Compensação do Trabalho","FCT","Fundo de Compensação do Trabalho","FCT","Fundo de Compensação do Trabalho","FCT","Fundo de Compensação do Trabalho","FCT","Fundo de Compensação do Trabalho","FCT","Fundo de Compensação do Trabalho","FCT","Fundo de Compensação do Trabalho","FCT","Fundo de Compensação do Trabalho","FCT","Fundo de Compensação do Trabalho","FCT","Fundo de Compensação do Trabalho","FCT","Fundo de Compensação do Trabalho","FCT","Fundo de Compensação do Trabalho","FCT","Fundo de Compensação do Trabalho","FCT","Fundo de Compensação do Trabalho","FCT","Fundo de Compensação do Trabalho","FCT","Fundo de Compensação do Trabalho","FCT","Fundo de Compensação do Trabalho","FCT","Fundo de Compensação do Trabalho","FCT","Fundo de Compensação do Trabalho","FCT","Fundo de Compensação do Trabalho","FCT","Fundo de Compensação do Trabalho","FCT","Fundo de Compensação do Trabalho","FCT","Fundo de Compensação do Trabalho","FCT","Fundo de Compensação do Trabalho","FCT","Fundo de Compensação do Trabalho","FCT","Fundo de Compensação do Trabalho","FCT","Fundo de Compensação do Trabalho","FCT","Fundo de Compensação do Trabalho","FCT","Fundo de Compensação do Trabalho","FCT","Fundo de Compensação do Trabalho","FCT","Fundo de Compensação do Trabalho","FCT","Fundo de Compensação do Trabalho","FCT","Fundo de Compensação do Trabalho","FCT","Fundo de Compensação do Trabalho","FCT","Fundo de Compensação do Trabalho","FCT","Fundo de Compensação do Trabalho","FCT","Fundo de Compensação do Trabalho","FCT","Fundo de Compensação do Trabalho","FCT","Fundo de Compensação do Trabalho","FCT","Fundo de Compensação do Trabalho","FCT","Fundo de Compensação do Trabalho","FCT","Fundo de Compensação do Trabalho","FCT","Fundo de Compensação do Trabalho","FCT","Fundo de Compensação do Trabalho","FCT","Fundo de Compensação do Trabalho","FCT","Fundo de Compensação do Trabalho","FCT","Fundo de Compensação do Trabalho","FCT","Fundo de Compensação do Trabalho","FCT","Fundo de Compensação do Trabalho","FCT","Fundo de Compensação do Trabalho","FCT","Fundo de Compensação do Trabalho","FCT","Fundo de Compensação do Trabalho","FCT","Fundo de Compensação do Trabalho","FCT","Fundo de Compensação do Trabalho","FCT","Fundo de Compensação do Trabalho","FCT","Fundo de Compensação do Trabalho","FCT","Fundo de Compensação do Trabalho","FCT","Fundo de Compensação do Trabalho","FCT","Fundo de Compensação do Trabalho","FCT","Fundo de Compensação do Trabalho","FCT","Fundo de Compensação do Trabalho","FCT","Fundo de Compensação do Trabalho","FCT","Fundo de Compensação do Trabalho","FCT","Fundo de Compensação do Trabalho","FCT","Fundo de Compensação do Trabalho","FCT","Fundo de Compensação do Trabalho","FCT","Fundo de Compensação do Trabalho","FCT","Fundo de Compensação do Trabalho","FCT","Fundo de Compensação do Trabalho","FCT","Fundo de Compensação do Trabalho","FCT","Fundo de Compensação do Trabalho","FCT","Fundo de Compensação do Trabalho","FCT","Fundo de Compensação do Trabalho","FCT","Fundo de Compensação do Trabalho","FCT","Fundo de Compensação do Trabalho","FCT","Fundo de Compensação do Trabalho","FCT","Fundo de Compensação do Trabalho","FCT","Fundo de Compensação do Trabalho","FCT","Fundo de Compensação do Trabalho","FCT","Fundo de Compensação do Trabalho","FCT","Fundo de Compensação do Trabalho","FCT","Fundo de Compensação do Trabalho","FCT","Fundo de Compensação do Trabalho","FCT","Fundo de Compensação do Trabalho","FCT","Fundo de Compensação do Trabalho","FCT","Fundo de Compensação do Trabalho","FCT","Fundo de Compensação do Trabalho","FCT","Fundo de Compensação do Trabalho","FCT","Fundo de Compensação do Trabalho","FCT","Fundo de Compensação do Trabalho","FCT","Fundo de Compensação do Trabalho","FCT","Fundo de Compensação do Trabalho","FCT","Fundo de Compensação do Trabalho","FCT","Fundo de Compensação do Trabalho","FCT","Fundo de Compensação do Trabalho","FCT","Fundo de Compensação do Trabalho","FCT","Fundo de Compensação do Trabalho","FCT","Fundo de Compensação do Trabalho","FCT","Fundo de Compensação do Trabalho","FCT","Fundo de Compensação do Trabalho","FCT","Fundo de Compensação do Trabalho","FCT","Fundo de Compensação do Trabalho","FCT","Fundo de Compensação do Trabalho","FCT","Fundo de Compensação do Trabalho","FCT","Fundo de Compensação do Trabalho","FCT","Fundo de Compensação do Trabalho","FCT","Fundo de Compensação do Trabalho","FCT","Fundo de Compensação do Trabalho","FCT","Fundo de Compensação do Trabalho","FCT","Fundo de Compensação do Trabalho","FCT","Fundo de Compensação do Trabalho","FCT","Fundo de Compensação do Trabalho","FCT","Fundo de Compensação do Trabalho","FCT","Fundo de Compensação do Trabalho","FCT","Fundo de Compensação do Trabalho","FCT","Fundo de Compensação do Trabalho","FCT","Fundo de Compensação do Trabalho","FCT","Fundo de Compensação do Trabalho","FCT","Fundo de Compensação do Trabalho","FCT","Fundo de Compensação do Trabalho","FCT","Fundo de Compensação do Trabalho","FCT","Fundo de Compensação do Trabalho","FCT","Fundo de Compensação do Trabalho","FCT","Fundo de Compensação do Trabalho","FCT","Fundo de Compensação do Trabalho","FCT","Fundo de Compensação do Trabalho","FCT","Fundo de Compensação do Trabalho","FCT","Fundo de Compensação do Trabalho","FCT","Fundo de Compensação do Trabalho","FCT","Fundo de Compensação do Trabalho","FCT","Fundo de Compensação do Trabalho","FCT","Fundo de Compensação do Trabalho","FCT","Fundo de Compensação do Trabalho","FCT","Fundo de Compensação do Trabalho","FCT","Fundo de Compensação do Trabalho","FCT","Fundo de Compensação do Trabalho","FCT","Fundo de Compensação do Trabalho","FCT","Fundo de Compensação do Trabalho","FCT","Fundo de Compensação do Trabalho","FCT","Fundo de Compensação do Trabalho","FCT","Fundo de Compensação do Trabalho","FCT","Fundo de Compensação do Trabalho","FCT","Fundo de Compensação do Trabalho","FCT","Fundo de Compensação do Trabalho","FCT","Fundo de Compensação do Trabalho","FCT","Fundo de Compensação do Trabalho","FCT","Fundo de Compensação do Trabalho","FCT","Fundo de Compensação do Trabalho","FCT","Fundo de Compensação do Trabalho","FCT","Fundo de Compensação do Trabalho","FCT","Fundo de Compensação do Trabalho","FCT","Fundo de Compensação do Trabalho","FCT","Fundo de Compensação do Trabalho","FCT","Fundo de Compensação do Trabalho","FCT","Fundo de Compensação do Trabalho","FCT","Fundo de Compensação do Trabalho","FCT","Fundo de Compensação do Trabalho","FCT","Fundo de Compensação do Trabalho","FCT","Fundo de Compensação do Trabalho","FCT","Fundo de Compensação do Trabalho","FCT","Fundo de Compensação do Trabalho","FCT","Fundo de Compensação do Trabalho","FCT","Fundo de Compensação do Trabalho","FCT","Fundo de Compensação do Trabalho","FCT","Fundo de Compensação do Trabalho","FCT","Fundo de Compensação do Trabalho","FCT","Fundo de Compensação do Trabalho","FCT","Fundo de Compensação do Trabalho","FCT","Fundo de Compensação do Trabalho","FCT","Fundo de Compensação do Trabalho","FCT","Fundo de Compensação do Trabalho","FCT","Fundo de Compensação do Trabalho","FCT","Fundo de Compensação do Trabalho","FCT","Fundo de Compensação do Trabalho","FCT","Fundo de Compensação do Trabalho","FCT","Fundo de Compensação do Trabalho","FCT","Fundo de Compensação do Trabalho","FCT","Fundo de Compensação do Trabalho","FCT","Fundo de Compensação do Trabalho","FCT","Fundo de Compensação do Trabalho","FCT","Fundo de Compensação do Trabalho","FCT","Fundo de Compensação do Trabalho","FCT","Fundo de Compensação do Trabalho","FCT","Fundo de Compensação do Trabalho","FCT","Fundo de Compensação do Trabalho","FCT","Fundo de Compensação do Trabalho","FCT","Fundo de Compensação do Trabalho","FCT","Fundo de Compensação do Trabalho","FCT","Fundo de Compensação do Trabalho","FCT","Fundo de Compensação do Trabalho","FCT","Fundo de Compensação do Trabalho","FCT","Fundo de Compensação do Trabalho","FCT","Fundo de Compensação do Trabalho","FCT","Fundo de Compensação do Trabalho","FCT","Fundo de Compensação do Trabalho","FCT","Fundo de Compensação do Trabalho","FCT","Fundo de Compensação do Trabalho","FCT","Fundo de Compensação do Trabalho","FCT","Fundo de Compensação do Trabalho","FCT","Fundo de Compensação do Trabalho","FCT","Fundo de Compensação do Trabalho","FCT","Fundo de Compensação do Trabalho","FCT","Fundo de Compensação do Trabalho","FCT","Fundo de Compensação do Trabalho","FCT","Fundo de Compensação do Trabalho","FCT","Fundo de Compensação do Trabalho","FCT","Fundo de Compensação do Trabalho","FCT","Fundo de Compensação do Trabalho","FCT","Fundo de Compensação do Trabalho","FCT","Fundo de Compensação do Trabalho","FCT","Fundo de Compensação do Trabalho","FCT","Fundo de Compensação do Trabalho","FCT","Fundo de Compensação do Trabalho","FCT","Fundo de Compensação do Trabalho","FCT","Fundo de Compensação do Trabalho","FCT","Fundo de Compensação do Trabalho","FCT","Fundo de Compensação do Trabalho","FCT","Fundo de Compensação do Trabalho","FCT","Fundo de Compensação do Trabalho","FCT","Fundo de Compensação do Trabalho","FCT","Fundo de Compensação do Trabalho","FCT","Fundo de Compensação do Trabalho","FCT","Fundo de Compensação do Trabalho","FCT","Fundo de Compensação do Trabalho","FCT","Fundo de Compensação do Trabalho","FCT","Fundo de Compensação do Trabalho","FCT","Fundo de Compensação do Trabalho","FCT","Fundo de Compensação do Trabalho","FCT","Fundo de Compensação do Trabalho","FCT","Fundo de Compensação do Trabalho","FCT","Fundo de Compensação do Trabalho","FCT","Fundo de Compensação do Trabalho","FCT","Fundo de Compensação do Trabalho","FCT","Fundo de Compensação do Trabalho","FCT","Fundo de Compensação do Trabalho","FCT","Fundo de Compensação do Trabalho","FCT","Fundo de Compensação do Trabalho","FCT","Fundo de Compensação do Trabalho","FCT","Fundo de Compensação do Trabalho","FCT","Fundo de Compensação do Trabalho","FCT","Fundo de Compensação do Trabalho","FCT","Fundo de Compensação do Trabalho","FCT","Fundo de Compensação do Trabalho","FCT","Fundo de Compensação do Trabalho","FCT","Fundo de Compensação do Trabalho","FCT","Fundo de Compensação do Trabalho","FCT","Fundo de Compensação do Trabalho","FCT","Fundo de Compensação do Trabalho","FCT","Fundo de Compensação do Trabalho","FCT","Fundo de Compensação do Trabalho","FCT","Fundo de Compensação do Trabalho","FCT","Fundo de Compensação do Trabalho","FCT","Fundo de Compensação do Trabalho","FCT","Fundo de Compensação do Trabalho","FCT","Fundo de Compensação do Trabalho","FCT","Fundo de Compensação do Trabalho","FCT","Fundo de Compensação do Trabalho","FCT","Fundo de Compensação do Trabalho","FCT","Fundo de Compensação do Trabalho","FCT","Fundo de Compensação do Trabalho","FCT","Fundo de Compensação do Trabalho","FCT","Fundo de Compensação do Trabalho","FCT","Fundo de Compensação do Trabalho","FCT","Fundo de Compensação do Trabalho","FCT","Fundo de Compensação do Trabalho","FCT","Fundo de Compensação do Trabalho","FCT","Fundo de Compensação do Trabalho","FCT","Fundo de Compensação do Trabalho","FCT","Fundo de Compensação do Trabalho","FCT","Fundo de Compensação do Trabalho","FCT","Fundo de Compensação do Trabalho","FCT","Fundo de Compensação do Trabalho","FCT","Fundo de Compensação do Trabalho","FCT","Fundo de Compensação do Trabalho","FCT","Fundo de Compensação do Trabalho","FCT","Fundo de Compensação do Trabalho","FCT","Fundo de Compensação do Trabalho","FCT","Fundo de Compensação do Trabalho","FCT","Fundo de Compensação do Trabalho","FCT","Fundo de Compensação do Trabalho","FCT","Fundo de Compensação do Trabalho","FCT","Fundo de Compensação do Trabalho","FCT","Fundo de Compensação do Trabalho","FCT","Fundo de Compensação do Trabalho","FCT","Fundo de Compensação do Trabalho","FCT","Fundo de Compensação do Trabalho","FCT","Fundo de Compensação do Trabalho","FCT","Fundo de Compensação do Trabalho","FCT","Fundo de Compensação do Trabalho","FCT","Fundo de Compensação do Trabalho","FCT","Fundo de Compensação do Trabalho","FCT","Fundo de Compensação do Trabalho","FCT","Fundo de Compensação do Trabalho","FCT","Fundo de Compensação do Trabalho","FCT","Fundo de Compensação do Trabalho","FCT","Fundo de Compensação do Trabalho","FCT","Fundo de Compensação do Trabalho","FCT","Fundo de Compensação do Trabalho","FCT","Fundo de Compensação do Trabalho","FCT","Fundo de Compensação do Trabalho","FCT","Fundo de Compensação do Trabalho","FCT","Fundo de Compensação do Trabalho","FCT","Fundo de Compensação do Trabalho","FCT","Fundo de Compensação do Trabalho","FCT","Fundo de Compensação do Trabalho","FCT","Fundo de Compensação do Trabalho","FCT","Fundo de Compensação do Trabalho","FCT","Fundo de Compensação do Trabalho","FCT","Fundo de Compensação do Trabalho","FCT","Fundo de Compensação do Trabalho","FCT","Fundo de Compensação do Trabalho","FCT","Fundo de Compensação do Trabalho","FCT","Fundo de Compensação do Trabalho","FCT","Fundo de Compensação do Trabalho","FCT","Fundo de Compensação do Trabalho","FCT","Fundo de Compensação do Trabalho","FCT","Fundo de Compensação do Trabalho","FCT","Fundo de Compensação do Trabalho","FCT","Fundo de Compensação do Trabalho","FCT","Fundo de Compensação do Trabalho","FCT","Fundo de Compensação do Trabalho","FCT","Fundo de Compensação do Trabalho","FCT","Fundo de Compensação do Trabalho","FCT","Fundo de Compensação do Trabalho","FCT","Fundo de Compensação do Trabalho","FCT","Fundo de Compensação do Trabalho","FCT","Fundo de Compensação do Trabalho","FCT","Fundo de Compensação do Trabalho","FCT","Fundo de Compensação do Trabalho","FCT","Fundo de Compensação do Trabalho","FCT","Fundo de Compensação do Trabalho","FCT","Fundo de Compensação do Trabalho","FCT","Fundo de Compensação do Trabalho","FCT","Fundo de Compensação do Trabalho","FCT","Fundo de Compensação do Trabalho","FCT","Fundo de Compensação do Trabalho","FCT","Fundo de Compensação do Trabalho","FCT","Fundo de Compensação do Trabalho","FCT","Fundo de Compensação do Trabalho","FCT","Fundo de Compensação do Trabalho","FCT","Fundo de Compensação do Trabalho","FCT","Fundo de Compensação do Trabalho","FCT","Fundo de Compensação do Trabalho","FCT","Fundo de Compensação do Trabalho","FCT","Fundo de Compensação do Trabalho","FCT","Fundo de Compensação do Trabalho","FCT","Fundo de Compensação do Trabalho","FCT","Fundo de Compensação do Trabalho","FCT","Fundo de Compensação do Trabalho","FCT","Fundo de Compensação do Trabalho","FCT","Fundo de Compensação do Trabalho","FCT","Fundo de Compensação do Trabalho","FCT","Fundo de Compensação do Trabalho","FCT","Fundo de Compensação do Trabalho","FCT","Fundo de Compensação do Trabalho","FCT","Fundo de Compensação do Trabalho","FCT","Fundo de Compensação do Trabalho","FCT","Fundo de Compensação do Trabalho","FCT","Fundo de Compensação do Trabalho","FCT","Fundo de Compensação do Trabalho","FCT","Fundo de Compensação do Trabalho","FCT","Fundo de Compensação do Trabalho","FCT","Fundo de Compensação do Trabalho","FCT","Fundo de Compensação do Trabalho","FCT","Fundo de Compensação do Trabalho","FCT","Fundo de Compensação do Trabalho","FCT","Fundo de Compensação do Trabalho","FCT","Fundo de Compensação do Trabalho","FCT","Fundo de Compensação do Trabalho","FCT","Fundo de Compensação do Trabalho","FCT","Fundo de Compensação do Trabalho","FCT","Fundo de Compensação do Trabalho","FCT","Fundo de Compensação do Trabalho","FCT","Fundo de Compensação do Trabalho","FCT","Fundo de Compensação do Trabalho","FCT","Fundo de Compensação do Trabalho","FCT","Fundo de Compensação do Trabalho","FCT","Fundo de Compensação do Trabalho","FCT","Fundo de Compensação do Trabalho","FCT","Fundo de Compensação do Trabalho","FCT","Fundo de Compensação do Trabalho","FCT","Fundo de Compensação do Trabalho","FCT","Fundo de Compensação do Trabalho","FCT","Fundo de Compensação do Trabalho","FCT","Fundo de Compensação do Trabalho","FCT","Fundo de Compensação do Trabalho","FCT","Fundo de Compensação do Trabalho","FCT","Fundo de Compensação do Trabalho","FCT","Fundo de Compensação do Trabalho","FCT","Fundo de Compensação do Trabalho","FCT","Fundo de Compensação do Trabalho","FCT","Fundo de Compensação do Trabalho","FCT","Fundo de Compensação do Trabalho","FCT","Fundo de Compensação do Trabalho","FCT","Fundo de Compensação do Trabalho","FCT","Fundo de Compensação do Trabalho","FCT","Fundo de Compensação do Trabalho","FCT","Fundo de Compensação do Trabalho","FCT","Fundo de Compensação do Trabalho","FCT","Fundo de Compensação do Trabalho","FCT","Fundo de Compensação do Trabalho","FCT","Fundo de Compensação do Trabalho","FCT","Fundo de Compensação do Trabalho","FCT","Fundo de Compensação do Trabalho","FCT","Fundo de Compensação do Trabalho","FCT","Fundo de Compensação do Trabalho","FCT","Fundo de Compensação do Trabalho","FCT","Fundo de Compensação do Trabalho","FCT","Fundo de Compensação do Trabalho","FCT","Fundo de Compensação do Trabalho","FCT","Fundo de Compensação do Trabalho","FCT","Fundo de Compensação do Trabalho","FCT","Fundo de Compensação do Trabalho","FCT","Fundo de Compensação do Trabalho","FCT","Fundo de Compensação do Trabalho","FCT","Fundo de Compensação do Trabalho","FCT","Fundo de Compensação do Trabalho","FCT","Fundo de Compensação do Trabalho","FCT","Fundo de Compensação do Trabalho","FCT","Fundo de Compensação do Trabalho","FCT","Fundo de Compensação do Trabalho","FCT","Fundo de Compensação do Trabalho","FCT","Fundo de Compensação do Trabalho","FCT","Fundo de Compensação do Trabalho","FCT","Fundo de Compensação do Trabalho","FCT","Fundo de Compensação do Trabalho","FCT","Fundo de Compensação do Trabalho","FCT","Fundo de Compensação do Trabalho","FCT","Fundo de Compensação do Trabalho","FCT","Fundo de Compensação do Trabalho","FCT","Fundo de Compensação do Trabalho","FCT","Fundo de Compensação do Trabalho","FCT","Fundo de Compensação do Trabalho","FCT","Fundo de Compensação do Trabalho","FCT","Fundo de Compensação do Trabalho","FCT","Fundo de Compensação do Trabalho","FCT","Fundo de Compensação do Trabalho","FCT","Fundo de Compensação do Trabalho","FCT","Fundo de Compensação do Trabalho","FCT","Fundo de Compensação do Trabalho","FCT","Fundo de Compensação do Trabalho","FCT","Fundo de Compensação do Trabalho","FCT","Fundo de Compensação do Trabalho","FCT","Fundo de Compensação do Trabalho","FCT","Fundo de Compensação do Trabalho","FCT","Fundo de Compensação do Trabalho","FCT","Fundo de Compensação do Trabalho","FCT","Fundo de Compensação do Trabalho","FCT","Fundo de Compensação do Trabalho","FCT","Fundo de Compensação do Trabalho","FCT","Fundo de Compensação do Trabalho","FCT","Fundo de Compensação do Trabalho","FCT","Fundo de Compensação do Trabalho","FCT","Fundo de Compensação do Trabalho","FCT","Fundo de Compensação do Trabalho","FCT","Fundo de Compensação do Trabalho","FCT","Fundo de Compensação do Trabalho","FCT","Fundo de Compensação do Trabalho","FCT","Fundo de Compensação do Trabalho","FCT","Fundo de Compensação do Trabalho","FCT","Fundo de Compensação do Trabalho","FCT","Fundo de Compensação do Trabalho","FCT","Fundo de Compensação do Trabalho","FCT","Fundo de Compensação do Trabalho","FCT","Fundo de Compensação do Trabalho","FCT","Fundo de Compensação do Trabalho","FCT","Fundo de Compensação do Trabalho","FCT","Fundo de Compensação do Trabalho","FCT","Fundo de Compensação do Trabalho","FCT","Fundo de Compensação do Trabalho","FCT","Fundo de Compensação do Trabalho","FCT","Fundo de Compensação do Trabalho","FCT","Fundo de Compensação do Trabalho","FCT","Fundo de Compensação do Trabalho","FCT","Fundo de Compensação do Trabalho","FCT","Fundo de Compensação do Trabalho","FCT","Fundo de Compensação do Trabalho","FCT","Fundo de Compensação do Trabalho","FCT","Fundo de Compensação do Trabalho","FCT","Fundo de Compensação do Trabalho","FCT","Fundo de Compensação do Trabalho","FCT","Fundo de Compensação do Trabalho","FCT","Fundo de Compensação do Trabalho","FCT","Fundo de Compensação do Trabalho","FCT","Fundo de Compensação do Trabalho","FCT","Fundo de Compensação do Trabalho","FCT","Fundo de Compensação do Trabalho","FCT","Fundo de Compensação do Trabalho","FCT","Fundo de Compensação do Trabalho","FCT","Fundo de Compensação do Trabalho","FCT","Fundo de Compensação do Trabalho","FCT","Fundo de Compensação do Trabalho","FCT","Fundo de Compensação do Trabalho","FCT","Fundo de Compensação do Trabalho","FCT","Fundo de Compensação do Trabalho","FCT","Fundo de Compensação do Trabalho","FCT","Fundo de Compensação do Trabalho","FCT","Fundo de Compensação do Trabalho","FCT","Fundo de Compensação do Trabalho","FCT","Fundo de Compensação do Trabalho","FCT","Fundo de Compensação do Trabalho","FCT","Fundo de Compensação do Trabalho","FCT","Fundo de Compensação do Trabalho","FCT","Fundo de Compensação do Trabalho","FCT","Fundo de Compensação do Trabalho","FCT","Fundo de Compensação do Trabalho","FCT","Fundo de Compensação do Trabalho","FCT","Fundo de Compensação do Trabalho","FCT","Fundo de Compensação do Trabalho","FCT","Fundo de Compensação do Trabalho","FCT","Fundo de Compensação do Trabalho","FCT","Fundo de Compensação do Trabalho","FCT","Fundo de Compensação do Trabalho","FCT","Fundo de Compensação do Trabalho","FCT","Fundo de Compensação do Trabalho","FCT","Fundo de Compensação do Trabalho","FCT","Fundo de Compensação do Trabalho","FCT","Fundo de Compensação do Trabalho","FCT","Fundo de Compensação do Trabalho","FCT","Fundo de Compensação do Trabalho","FCT","Fundo de Compensação do Trabalho","FCT","Fundo de Compensação do Trabalho","FCT","Fundo de Compensação do Trabalho","FCT","Fundo de Compensação do Trabalho","FCT","Fundo de Compensação do Trabalho","FCT","Fundo de Compensação do Trabalho","FCT","Fundo de Compensação do Trabalho","FCT","Fundo de Compensação do Trabalho","FCT","Fundo de Compensação do Trabalho","FCT","Fundo de Compensação do Trabalho","FCT","Fundo de Compensação do Trabalho","FCT","Fundo de Compensação do Trabalho","FCT","Fundo de Compensação do Trabalho","FCT","Fundo de Compensação do Trabalho","FCT","Fundo de Compensação do Trabalho","FCT","Fundo de Compensação do Trabalho","FCT","Fundo de Compensação do Trabalho","FCT","Fundo de Compensação do Trabalho","FCT","Fundo de Compensação do Trabalho","FCT","Fundo de Compensação do Trabalho","FCT","Fundo de Compensação do Trabalho","FCT","Fundo de Compensação do Trabalho","FCT","Fundo de Compensação do Trabalho","FCT","Fundo de Compensação do Trabalho","FCT","Fundo de Compensação do Trabalho","FCT","Fundo de Compensação do Trabalho","FCT","Fundo de Compensação do Trabalho","FCT","Fundo de Compensação do Trabalho","FCT","Fundo de Compensação do Trabalho","FCT","Fundo de Compensação do Trabalho","FCT","Fundo de Compensação do Trabalho","FCT","Fundo de Compensação do Trabalho","FCT","Fundo de Compensação do Trabalho","FCT","Fundo de Compensação do Trabalho","FCT","Fundo de Compensação do Trabalho","FCT","Fundo de Compensação do Trabalho","FCT","Fundo de Compensação do Trabalho","FCT","Fundo de Compensação do Trabalho","FCT","Fundo de Compensação do Trabalho","FCT","Fundo de Compensação do Trabalho","FCT","Fundo de Compensação do Trabalho","FCT","Fundo de Compensação do Trabalho","FCT","Fundo de Compensação do Trabalho","FCT","Fundo de Compensação do Trabalho","FCT","Fundo de Compensação do Trabalho","FCT","Fundo de Compensação do Trabalho","FCT","Fundo de Compensação do Trabalho","FCT","Fundo de Compensação do Trabalho","FCT","Fundo de Compensação do Trabalho","FCT","Fundo de Compensação do Trabalho","FCT","Fundo de Compensação do Trabalho","FCT","Fundo de Compensação do Trabalho","FCT","Fundo de Compensação do Trabalho","FCT","Fundo de Compensação do Trabalho","FCT","Fundo de Compensação do Trabalho","FCT","Fundo de Compensação do Trabalho","FCT","Fundo de Compensação do Trabalho","FCT","Fundo de Compensação do Trabalho","FCT","Fundo de Compensação do Trabalho","FCT","Fundo de Compensação do Trabalho","FCT","Fundo de Compensação do Trabalho","FCT","Fundo de Compensação do Trabalho","FCT","Fundo de Compensação do Trabalho","FCT","Fundo de Compensação do Trabalho","FCT","Fundo de Compensação do Trabalho","FCT","Fundo de Compensação do Trabalho","FCT","Fundo de Compensação do Trabalho","FCT","Fundo de Compensação do Trabalho","FCT","Fundo de Compensação do Trabalho","FCT","Fundo de Compensação do Trabalho","FCT","Fundo de Compensação do Trabalho","FCT","Fundo de Compensação do Trabalho","FCT","Fundo de Compensação do Trabalho","FCT","Fundo de Compensação do Trabalho","FCT","Fundo de Compensação do Trabalho","FCT","Fundo de Compensação do Trabalho","FCT","Fundo de Compensação do Trabalho","FCT","Fundo de Compensação do Trabalho","FCT","Fundo de Compensação do Trabalho","FCT","Fundo de Compensação do Trabalho","FCT","Fundo de Compensação do Trabalho","FCT","Fundo de Compensação do Trabalho","FCT","Fundo de Compensação do Trabalho","FCT","Fundo de Compensação do Trabalho","FCT","Fundo de Compensação do Trabalho","FCT","Fundo de Compensação do Trabalho","FCT","Fundo de Compensação do Trabalho","FCT","Fundo de Compensação do Trabalho","FCT","Fundo de Compensação do Trabalho","FCT","Fundo de Compensação do Trabalho","FCT","Fundo de Compensação do Trabalho","FCT","Fundo de Compensação do Trabalho","FCT","Fundo de Compensação do Trabalho","FCT","Fundo de Compensação do Trabalho","FCT","Fundo de Compensação do Trabalho","FCT","Fundo de Compensação do Trabalho","FCT","Fundo de Compensação do Trabalho","FCT","Fundo de Compensação do Trabalho","FCT","Fundo de Compensação do Trabalho","FCT","Fundo de Compensação do Trabalho","FCT","Fundo de Compensação do Trabalho","FCT","Fundo de Compensação do Trabalho","FCT","Fundo de Compensação do Trabalho","FCT","Fundo de Compensação do Trabalho","FCT","Fundo de Compensação do Trabalho","FCT","Fundo de Compensação do Trabalho","FCT","Fundo de Compensação do Trabalho","FCT","Fundo de Compensação do Trabalho","FCT","Fundo de Compensação do Trabalho","FCT","Fundo de Compensação do Trabalho","FCT","Fundo de Compensação do Trabalho","FCT","Fundo de Compensação do Trabalho","FCT","Fundo de Compensação do Trabalho","FCT","Fundo de Compensação do Trabalho","FCT","Fundo de Compensação do Trabalho","FCT","Fundo de Compensação do Trabalho","FCT","Fundo de Compensação do Trabalho","FCT","Fundo de Compensação do Trabalho","FCT","Fundo de Compensação do Trabalho","FCT","Fundo de Compensação do Trabalho","FCT","Fundo de Compensação do Trabalho","FCT","Fundo de Compensação do Trabalho","FCT","Fundo de Compensação do Trabalho","FCT","Fundo de Compensação do Trabalho","FCT","Fundo de Compensação do Trabalho","FCT","Fundo de Compensação do Trabalho","FCT","Fundo de Compensação do Trabalho","FCT","Fundo de Compensação do Trabalho","FCT","Fundo de Compensação do Trabalho","FCT","Fundo de Compensação do Trabalho","FCT","Fundo de Compensação do Trabalho","FCT","Fundo de Compensação do Trabalho","FCT","Fundo de Compensação do Trabalho","FCT","Fundo de Compensação do Trabalho","FCT","Fundo de Compensação do Trabalho","FCT","Fundo de Compensação do Trabalho","FCT","Fundo de Compensação do Trabalho","FCT","Fundo de Compensação do Trabalho","FCT","Fundo de Compensação do Trabalho","FCT","Fundo de Compensação do Trabalho","FCT","Fundo de Compensação do Trabalho","FCT","Fundo de Compensação do Trabalho","FCT","Fundo de Compensação do Trabalho","FCT","Fundo de Compensação do Trabalho","FCT","Fundo de Compensação do Trabalho","FCT","Fundo de Compensação do Trabalho","FCT","Fundo de Compensação do Trabalho","FCT","Fundo de Compensação do Trabalho","FCT","Fundo de Compensação do Trabalho","FCT","Fundo de Compensação do Trabalho","FCT","Fundo de Compensação do Trabalho","FCT","Fundo de Compensação do Trabalho","FCT","Fundo de Compensação do Trabalho","FCT","Fundo de Compensação do Trabalho","FCT","Fundo de Compensação do Trabalho","FCT","Fundo de Compensação do Trabalho","FCT","Fundo de Compensação do Trabalho","FCT","Fundo de Compensação do Trabalho","FCT","Fundo de Compensação do Trabalho","FCT","Fundo de Compensação do Trabalho","FCT","Fundo de Compensação do Trabalho","FCT","Fundo de Compensação do Trabalho","FCT","Fundo de Compensação do Trabalho","FCT","Fundo de Compensação do Trabalho","FCT","Fundo de Compensação do Trabalho","FCT","Fundo de Compensação do Trabalho","FCT","Fundo de Compensação do Trabalho","FCT","Fundo de Compensação do Trabalho","FCT","Fundo de Compensação do Trabalho","FCT","Fundo de Compensação do Trabalho","FCT","Fundo de Compensação do Trabalho","FCT","Fundo de Compensação do Trabalho","FCT","Fundo de Compensação do Trabalho","FCT","Fundo de Compensação do Trabalho","FCT","Fundo de Compensação do Trabalho","FCT","Fundo de Compensação do Trabalho","FCT","Fundo de Compensação do Trabalho","FCT","Fundo de Compensação do Trabalho","FCT","Fundo de Compensação do Trabalho","FCT","Fundo de Compensação do Trabalho","FCT","Fundo de Compensação do Trabalho","FCT","Fundo de Compensação do Trabalho","FCT","Fundo de Compensação do Trabalho","FCT","Fundo de Compensação do Trabalho","FCT","Fundo de Compensação do Trabalho","FCT","Fundo de Compensação do Trabalho","FCT","Fundo de Compensação do Trabalho","FCT","Fundo de Compensação do Trabalho","FCT","Fundo de Compensação do Trabalho","FCT","Fundo de Compensação do Trabalho","FCT","Fundo de Compensação do Trabalho","FCT","Fundo de Compensação do Trabalho","FCT","Fundo de Compensação do Trabalho","FCT","Fundo de Compensação do Trabalho","FCT","Fundo de Compensação do Trabalho","FCT","Fundo de Compensação do Trabalho","FCT","Fundo de Compensação do Trabalho","FCT","Fundo de Compensação do Trabalho","FCT","Fundo de Compensação do Trabalho","FCT","Fundo de Compensação do Trabalho","FCT","Fundo de Compensação do Trabalho","FCT","Fundo de Compensação do Trabalho","FCT","Fundo de Compensação do Trabalho","FCT","Fundo de Compensação do Trabalho","FCT","Fundo de Compensação do Trabalho","FCT","Fundo de Compensação do Trabalho","FCT","Fundo de Compensação do Trabalho","FCT","Fundo de Compensação do Trabalho","FCT","Fundo de Compensação do Trabalho","FCT","Fundo de Compensação do Trabalho","FCT","Fundo de Compensação do Trabalho","FCT","Fundo de Compensação do Trabalho","FCT","Fundo de Compensação do Trabalho","FCT","Fundo de Compensação do Trabalho","FCT","Fundo de Compensação do Trabalho","FCT","Fundo de Compensação do Trabalho","FCT","Fundo de Compensação do Trabalho","FCT","Fundo de Compensação do Trabalho","FCT","Fundo de Compensação do Trabalho","FCT","Fundo de Compensação do Trabalho","FCT","Fundo de Compensação do Trabalho","FCT","Fundo de Compensação do Trabalho","FCT","Fundo de Compensação do Trabalho","FCT","Fundo de Compensação do Trabalho","FCT","Fundo de Compensação do Trabalho","FCT","Fundo de Compensação do Trabalho","FCT","Fundo de Compensação do Trabalho","FCT","Fundo de Compensação do Trabalho","FCT","Fundo de Compensação do Trabalho","FCT","Fundo de Compensação do Trabalho","FCT","Fundo de Compensação do Trabalho","FCT","Fundo de Compensação do Trabalho","FCT","Fundo de Compensação do Trabalho","FCT","Fundo de Compensação do Trabalho","FCT","Fundo de Compensação do Trabalho","FCT","Fundo de Compensação do Trabalho","FCT","Fundo de Compensação do Trabalho","FCT","Fundo de Compensação do Trabalho","FCT","Fundo de Compensação do Trabalho","FCT","Fundo de Compensação do Trabalho","FCT","Fundo de Compensação do Trabalho","FCT","Fundo de Compensação do Trabalho","FCT","Fundo de Compensação do Trabalho","FCT","Fundo de Compensação do Trabalho","FCT","Fundo de Compensação do Trabalho","FCT","Fundo de Compensação do Trabalho","FCT","Fundo de Compensação do Trabalho","FCT","Fundo de Compensação do Trabalho","FCT","Fundo de Compensação do Trabalho","FCT","Fundo de Compensação do Trabalho","FCT","Fundo de Compensação do Trabalho","FCT","Fundo de Compensação do Trabalho","FCT","Fundo de Compensação do Trabalho","FCT","Fundo de Compensação do Trabalho","FCT","Fundo de Compensação do Trabalho","FCT","Fundo de Compensação do Trabalho","FCT","Fundo de Compensação do Trabalho","FCT","Fundo de Compensação do Trabalho","FCT","Fundo de Compensação do Trabalho","FCT","Fundo de Compensação do Trabalho","FCT","Fundo de Compensação do Trabalho","FCT","Fundo de Compensação do Trabalho","FCT","Fundo de Compensação do Trabalho","FCT","Fundo de Compensação do Trabalho","FCT","Fundo de Compensação do Trabalho","FCT","Fundo de Compensação do Trabalho","FCT","Fundo de Compensação do Trabalho","FCT","Fundo de Compensação do Trabalho","FCT","Fundo de Compensação do Trabalho","FCT","Fundo de Compensação do Trabalho","FCT","Fundo de Compensação do Trabalho","FCT","Fundo de Compensação do Trabalho","FCT","Fundo de Compensação do Trabalho","FCT","Fundo de Compensação do Trabalho","FCT","Fundo de Compensação do Trabalho","FCT","Fundo de Compensação do Trabalho","FCT","Fundo de Compensação do Trabalho","FCT","Fundo de Compensação do Trabalho","FCT","Fundo de Compensação do Trabalho","FCT","Fundo de Compensação do Trabalho","FCT","Fundo de Compensação do Trabalho","FCT","Fundo de Compensação do Trabalho","FCT","Fundo de Compensação do Trabalho","FCT","Fundo de Compensação do Trabalho","FCT","Fundo de Compensação do Trabalho","FCT","Fundo de Compensação do Trabalho","FCT","Fundo de Compensação do Trabalho","FCT","Fundo de Compensação do Trabalho","FCT","Fundo de Compensação do Trabalho","FCT","Fundo de Compensação do Trabalho","FCT","Fundo de Compensação do Trabalho","FCT","Fundo de Compensação do Trabalho","FCT","Fundo de Compensação do Trabalho","FCT","Fundo de Compensação do Trabalho","FCT","Fundo de Compensação do Trabalho","FCT","Fundo de Compensação do Trabalho","FCT","Fundo de Compensação do Trabalho","FCT","Fundo de Compensação do Trabalho","FCT","Fundo de Compensação do Trabalho","FCT","Fundo de Compensação do Trabalho","FCT","Fundo de Compensação do Trabalho","FCT","Fundo de Compensação do Trabalho","FCT","Fundo de Compensação do Trabalho","FCT","Fundo de Compensação do Trabalho","FCT","Fundo de Compensação do Trabalho","FCT","Fundo de Compensação do Trabalho","FCT","Fundo de Compensação do Trabalho","FCT","Fundo de Compensação do Trabalho","FCT","Fundo de Compensação do Trabalho","FCT","Fundo de Compensação do Trabalho","FCT","Fundo de Compensação do Trabalho","FCT","Fundo de Compensação do Trabalho","FCT","Fundo de Compensação do Trabalho","FCT","Fundo de Compensação do Trabalho","FCT","Fundo de Compensação do Trabalho","FCT","Fundo de Compensação do Trabalho","FCT","Fundo de Compensação do Trabalho","FCT","Fundo de Compensação do Trabalho","FCT","Fundo de Compensação do Trabalho","FCT","Fundo de Compensação do Trabalho","FCT","Fundo de Compensação do Trabalho","FCT","Fundo de Compensação do Trabalho","FCT","Fundo de Compensação do Trabalho","FCT","Fundo de Compensação do Trabalho","FCT","Fundo de Compensação do Trabalho","FCT","Fundo de Compensação do Trabalho","FCT","Fundo de Compensação do Trabalho","FCT","Fundo de Compensação do Trabalho","FCT","Fundo de Compensação do Trabalho","FCT","Fundo de Compensação do Trabalho","FCT","Fundo de Compensação do Trabalho","FCT","Fundo de Compensação do Trabalho","FCT","Fundo de Compensação do Trabalho","FCT","Fundo de Compensação do Trabalho","FCT","Fundo de Compensação do Trabalho","FCT","Fundo de Compensação do Trabalho","FCT","Fundo de Compensação do Trabalho","FCT","Fundo de Compensação do Trabalho","FCT","Fundo de Compensação do Trabalho","FCT","Fundo de Compensação do Trabalho","FCT","Fundo de Compensação do Trabalho","FCT","Fundo de Compensação do Trabalho","FCT","Fundo de Compensação do Trabalho","FCT","Fundo de Compensação do Trabalho","FCT","Fundo de Compensação do Trabalho","FCT","Fundo de Compensação do Trabalho","FCT","Fundo de Compensação do Trabalho","FCT","Fundo de Compensação do Trabalho","FCT","Fundo de Compensação do Trabalho","FCT","Fundo de Compensação do Trabalho","FCT","Fundo de Compensação do Trabalho","FCT","Fundo de Compensação do Trabalho","FCT","Fundo de Compensação do Trabalho","FCT","Fundo de Compensação do Trabalho","FCT","Fundo de Compensação do Trabalho","FCT","Fundo de Compensação do Trabalho","FCT","Fundo de Compensação do Trabalho","FCT","Fundo de Compensação do Trabalho","FCT","Fundo de Compensação do Trabalho","FCT","Fundo de Compensação do Trabalho","FCT","Fundo de Compensação do Trabalho","FCT","Fundo de Compensação do Trabalho","FCT","Fundo de Compensação do Trabalho","FCT","Fundo de Compensação do Trabalho","FCT","Fundo de Compensação do Trabalho","FCT","Fundo de Compensação do Trabalho","FCT","Fundo de Compensação do Trabalho","FCT","Fundo de Compensação do Trabalho","FCT","Fundo de Compensação do Trabalho","FCT","Fundo de Compensação do Trabalho","FCT","Fundo de Compensação do Trabalho","FCT","Fundo de Compensação do Trabalho","FCT","Fundo de Compensação do Trabalho","FCT","Fundo de Compensação do Trabalho","FCT","Fundo de Compensação do Trabalho","FCT","Fundo de Compensação do Trabalho","FCT","Fundo de Compensação do Trabalho","FCT","Fundo de Compensação do Trabalho","FCT","Fundo de Compensação do Trabalho","FCT","Fundo de Compensação do Trabalho","FCT","Fundo de Compensação do Trabalho","FCT","Fundo de Compensação do Trabalho","FCT","Fundo de Compensação do Trabalho","FCT","Fundo de Compensação do Trabalho","FCT","Fundo de Compensação do Trabalho","FCT","Fundo de Compensação do Trabalho","FCT","Fundo de Compensação do Trabalho","FCT","Fundo de Compensação do Trabalho","FCT","Fundo de Compensação do Trabalho","FCT","Fundo de Compensação do Trabalho","FCT","Fundo de Compensação do Trabalho","FCT","Fundo de Compensação do Trabalho","FCT","Fundo de Compensação do Trabalho","FCT","Fundo de Compensação do Trabalho","FCT","Fundo de Compensação do Trabalho","FCT","Fundo de Compensação do Trabalho","FCT","Fundo de Compensação do Trabalho","FCT","Fundo de Compensação do Trabalho","FCT","Fundo de Compensação do Trabalho","FCT","Fundo de Compensação do Trabalho","FCT","Fundo de Compensação do Trabalho","FCT","Fundo de Compensação do Trabalho","FCT","Fundo de Compensação do Trabalho","FCT","Fundo de Compensação do Trabalho","FCT","Fundo de Compensação do Trabalho","FCT","Fundo de Compensação do Trabalho","FCT","Fundo de Compensação do Trabalho","FCT","Fundo de Compensação do Trabalho","FCT","Fundo de Compensação do Trabalho","FCT","Fundo de Compensação do Trabalho","FCT","Fundo de Compensação do Trabalho","FCT","Fundo de Compensação do Trabalho","FCT","Fundo de Compensação do Trabalho","FCT","Fundo de Compensação do Trabalho","FCT","Fundo de Compensação do Trabalho","FCT","Fundo de Compensação do Trabalho","FCT","Fundo de Compensação do Trabalho","FCT","Fundo de Compensação do Trabalho","FCT","Fundo de Compensação do Trabalho","FCT","Fundo de Compensação do Trabalho","FCT","Fundo de Compensação do Trabalho","FCT","Fundo de Compensação do Trabalho","FCT","Fundo de Compensação do Trabalho","FCT","Fundo de Compensação do Trabalho","FCT","Fundo de Compensação do Trabalho","FCT","Fundo de Compensação do Trabalho","FCT","Fundo de Compensação do Trabalho","FCT","Fundo de Compensação do Trabalho","FCT","Fundo de Compensação do Trabalho","FCT","Fundo de Compensação do Trabalho","FCT","Fundo de Compensação do Trabalho","FCT","Fundo de Compensação do Trabalho","FCT","Fundo de Compensação do Trabalho","FCT","Fundo de Compensação do Trabalho","FCT","Fundo de Compensação do Trabalho","FCT","Fundo de Compensação do Trabalho","FCT","Fundo de Compensação do Trabalho","FCT","Fundo de Compensação do Trabalho","FCT","Fundo de Compensação do Trabalho","FCT","Fundo de Compensação do Trabalho","FCT","Fundo de Compensação do Trabalho","FCT","Fundo de Compensação do Trabalho","FCT","Fundo de Compensação do Trabalho","FCT","Fundo de Compensação do Trabalho","FCT","Fundo de Compensação do Trabalho","FCT","Fundo de Compensação do Trabalho","FCT","Fundo de Compensação do Trabalho","FCT","Fundo de Compensação do Trabalho","FCT","Fundo de Compensação do Trabalho","FCT","Fundo de Compensação do Trabalho","FCT","Fundo de Compensação do Trabalho","FCT","Fundo de Compensação do Trabalho","FCT","Fundo de Compensação do Trabalho","FCT","Fundo de Compensação do Trabalho","FCT","Fundo de Compensação do Trabalho","FCT","Fundo de Compensação do Trabalho","FCT","Fundo de Compensação do Trabalho","FCT","Fundo de Compensação do Trabalho","FCT","Fundo de Compensação do Trabalho","FCT","Fundo de Compensação do Trabalho","FCT","Fundo de Compensação do Trabalho","FCT","Fundo de Compensação do Trabalho","FCT","Fundo de Compensação do Trabalho","FCT","Fundo de Compensação do Trabalho","FCT","Fundo de Compensação do Trabalho","FCT","Fundo de Compensação do Trabalho","FCT","Fundo de Compensação do Trabalho","FCT","Fundo de Compensação do Trabalho","FCT","Fundo de Compensação do Trabalho","FCT","Fundo de Compensação do Trabalho","FCT","Fundo de Compensação do Trabalho","FCT","Fundo de Compensação do Trabalho","FCT","Fundo de Compensação do Trabalho","FCT","Fundo de Compensação do Trabalho","FCT","Fundo de Compensação do Trabalho","FCT","Fundo de Compensação do Trabalho","FCT","Fundo de Compensação do Trabalho","FCT","Fundo de Compensação do Trabalho","FCT","Fundo de Compensação do Trabalho","FCT","Fundo de Compensação do Trabalho","FCT","Fundo de Compensação do Trabalho","FCT","Fundo de Compensação do Trabalho","FCT","Fundo de Compensação do Trabalho","FCT","Fundo de Compensação do Trabalho","FCT","Fundo de Compensação do Trabalho","FCT","Fundo de Compensação do Trabalho","FCT","Fundo de Compensação do Trabalho","FCT","Fundo de Compensação do Trabalho","FCT","Fundo de Compensação do Trabalho","FCT","Fundo de Compensação do Trabalho","FCT","Fundo de Compensação do Trabalho","FCT","Fundo de Compensação do Trabalho","FCT","Fundo de Compensação do Trabalho","FCT","Fundo de Compensação do Trabalho","FCT","Fundo de Compensação do Trabalho","FCT","Fundo de Compensação do Trabalho","FCT","Fundo de Compensação do Trabalho","FCT","Fundo de Compensação do Trabalho","FCT","Fundo de Compensação do Trabalho","FCT","Fundo de Compensação do Trabalho","FCT","Fundo de Compensação do Trabalho","FCT","Fundo de Compensação do Trabalho","FCT","Fundo de Compensação do Trabalho","FCT","Fundo de Compensação do Trabalho","FCT","Fundo de Compensação do Trabalho","FCT","Fundo de Compensação do Trabalho","FCT","Fundo de Compensação do Trabalho","FCT","Fundo de Compensação do Trabalho","FCT","Fundo de Compensação do Trabalho","FCT","Fundo de Compensação do Trabalho","FCT","Fundo de Compensação do Trabalho","FCT","Fundo de Compensação do Trabalho","FCT","Fundo de Compensação do Trabalho","FCT","Fundo de Compensação do Trabalho","FCT","Fundo de Compensação do Trabalho","FCT","Fundo de Compensação do Trabalho","FCT","Fundo de Compensação do Trabalho","FCT","Fundo de Compensação do Trabalho","FCT","Fundo de Compensação do Trabalho","FCT","Fundo de Compensação do Trabalho","FCT","Fundo de Compensação do Trabalho","FCT","Fundo de Compensação do Trabalho","FCT","Fundo de Compensação do Trabalho","FCT","Fundo de Compensação do Trabalho","FCT","Fundo de Compensação do Trabalho","FCT","Fundo de Compensação do Trabalho","FCT","Fundo de Compensação do Trabalho","FCT","Fundo de Compensação do Trabalho","FCT","Fundo de Compensação do Trabalho","FCT","Fundo de Compensação do Trabalho","FCT","Fundo de Compensação do Trabalho","FCT","Fundo de Compensação do Trabalho","FCT","Fundo de Compensação do Trabalho","FCT","Fundo de Compensação do Trabalho","FCT","Fundo de Compensação do Trabalho","FCT","Fundo de Compensação do Trabalho","FCT","Fundo de Compensação do Trabalho","FCT","Fundo de Compensação do Trabalho","FCT","Fundo de Compensação do Trabalho","FCT","Fundo de Compensação do Trabalho","FCT","Fundo de Compensação do Trabalho","FCT","Fundo de Compensação do Trabalho","FCT","Fundo de Compensação do Trabalho","FCT","Fundo de Compensação do Trabalho","FCT","Fundo de Compensação do Trabalho","FCT","Fundo de Compensação do Trabalho","FCT","Fundo de Compensação do Trabalho","FCT","Fundo de Compensação do Trabalho","FCT","Fundo de Compensação do Trabalho","FCT","Fundo de Compensação do Trabalho","FCT","Fundo de Compensação do Trabalho","FCT","Fundo de Compensação do Trabalho","FCT","Fundo de Compensação do Trabalho","FCT","Fundo de Compensação do Trabalho","FCT","Fundo de Compensação do Trabalho","FCT","Fundo de Compensação do Trabalho","FCT","Fundo de Compensação do Trabalho","FCT","Fundo de Compensação do Trabalho","FCT","Fundo de Compensação do Trabalho","FCT","Fundo de Compensação do Trabalho","FCT","Fundo de Compensação do Trabalho","FCT","Fundo de Compensação do Trabalho","FCT","Fundo de Compensação do Trabalho","FCT","Fundo de Compensação do Trabalho","FCT","Fundo de Compensação do Trabalho","FCT","Fundo de Compensação do Trabalho","FCT","Fundo de Compensação do Trabalho","FCT","Fundo de Compensação do Trabalho","FCT","Fundo de Compensação do Trabalho","FCT","Fundo de Compensação do Trabalho","FCT","Fundo de Compensação do Trabalho","FCT","Fundo de Compensação do Trabalho","FCT","Fundo de Compensação do Trabalho","FCT","Fundo de Compensação do Trabalho","FCT","Fundo de Compensação do Trabalho","FCT","Fundo de Compensação do Trabalho","FCT","Fundo de Compensação do Trabalho","FCT","Fundo de Compensação do Trabalho","FCT","Fundo de Compensação do Trabalho","FCT","Fundo de Compensação do Trabalho","FCT","Fundo de Compensação do Trabalho","FCT","Fundo de Compensação do Trabalho","FCT","Fundo de Compensação do Trabalho","FCT","Fundo de Compensação do Trabalho","FCT","Fundo de Compensação do Trabalho","FCT","Fundo de Compensação do Trabalho","FCT","Fundo de Compensação do Trabalho","FCT","Fundo de Compensação do Trabalho","FCT","Fundo de Compensação do Trabalho","FCT","Fundo de Compensação do Trabalho","FCT","Fundo de Compensação do Trabalho","FCT","Fundo de Compensação do Trabalho","FCT","Fundo de Compensação do Trabalho","FCT","Fundo de Compensação do Trabalho","FCT","Fundo de Compensação do Trabalho","FCT","Fundo de Compensação do Trabalho","FCT","Fundo de Compensação do Trabalho","FCT","Fundo de Compensação do Trabalho","FCT","Fundo de Compensação do Trabalho","FCT","Fundo de Compensação do Trabalho","FCT","Fundo de Compensação do Trabalho","FCT","Fundo de Compensação do Trabalho","FCT","Fundo de Compensação do Trabalho","FCT","Fundo de Compensação do Trabalho","FCT","Fundo de Compensação do Trabalho","FCT","Fundo de Compensação do Trabalho","FCT","Fundo de Compensação do Trabalho","FCT","Fundo de Compensação do Trabalho","FCT","Fundo de Compensação do Trabalho","FCT","Fundo de Compensação do Trabalho","FCT","Fundo de Compensação do Trabalho","FCT","Fundo de Compensação do Trabalho","FCT","Fundo de Compensação do Trabalho","FCT","Fundo de Compensação do Trabalho","FCT","Fundo de Compensação do Trabalho","FCT","Fundo de Compensação do Trabalho","FCT","Fundo de Compensação do Trabalho","FCT","Fundo de Compensação do Trabalho","FCT","Fundo de Compensação do Trabalho","FCT","Fundo de Compensação do Trabalho","FCT","Fundo de Compensação do Trabalho","FCT","Fundo de Compensação do Trabalho","FCT","Fundo de Compensação do Trabalho","FCT","Fundo de Compensação do Trabalho","FCT","Fundo de Compensação do Trabalho","FCT","Fundo de Compensação do Trabalho","FCT","Fundo de Compensação do Trabalho","FCT","Fundo de Compensação do Trabalho","FCT","Fundo de Compensação do Trabalho","FCT","Fundo de Compensação do Trabalho","FCT","Fundo de Compensação do Trabalho","FCT","Fundo de Compensação do Trabalho","FCT","Fundo de Compensação do Trabalho","FCT","Fundo de Compensação do Trabalho","FCT","Fundo de Compensação do Trabalho","FCT","Fundo de Compensação do Trabalho","FCT","Fundo de Compensação do Trabalho","FCT","Fundo de Compensação do Trabalho","FCT","Fundo de Compensação do Trabalho","FCT","Fundo de Compensação do Trabalho","FCT","Fundo de Compensação do Trabalho","FCT","Fundo de Compensação do Trabalho","FCT","Fundo de Compensação do Trabalho","FCT","Fundo de Compensação do Trabalho","FCT","Fundo de Compensação do Trabalho","FCT","Fundo de Compensação do Trabalho","FCT","Fundo de Compensação do Trabalho","FCT","Fundo de Compensação do Trabalho","FCT","Fundo de Compensação do Trabalho","FCT","Fundo de Compensação do Trabalho","FCT","Fundo de Compensação do Trabalho","FCT","Fundo de Compensação do Trabalho","FCT","Fundo de Compensação do Trabalho","FCT","Fundo de Compensação do Trabalho","FCT","Fundo de Compensação do Trabalho","FCT","Fundo de Compensação do Trabalho","FCT","Fundo de Compensação do Trabalho","FCT","Fundo de Compensação do Trabalho","FCT","Fundo de Compensação do Trabalho","FCT","Fundo de Compensação do Trabalho","FCT","Fundo de Compensação do Trabalho","FCT","Fundo de Compensação do Trabalho","FCT","Fundo de Compensação do Trabalho","FCT","Fundo de Compensação do Trabalho","FCT","Fundo de Compensação do Trabalho","FCT","Fundo de Compensação do Trabalho","FCT","Fundo de Compensação do Trabalho","FCT","Fundo de Compensação do Trabalho","FCT","Fundo de Compensação do Trabalho","FCT","Fundo de Compensação do Trabalho","FCT","Fundo de Compensação do Trabalho","FCT","Fundo de Compensação do Trabalho","FCT","Fundo de Compensação do Trabalho","FCT","Fundo de Compensação do Trabalho","FCT","Fundo de Compensação do Trabalho","FCT","Fundo de Compensação do Trabalho","FCT","Fundo de Compensação do Trabalho","FCT","Fundo de Compensação do Trabalho","FCT","Fundo de Compensação do Trabalho","FCT","Fundo de Compensação do Trabalho","FCT","Fundo de Compensação do Trabalho","FCT","Fundo de Compensação do Trabalho","FCT","Fundo de Compensação do Trabalho","FCT","Fundo de Compensação do Trabalho","FCT","Fundo de Compensação do Trabalho","FCT","Fundo de Compensação do Trabalho","FCT","Fundo de Compensação do Trabalho","FCT","Fundo de Compensação do Trabalho","FCT","Fundo de Compensação do Trabalho","FCT","Fundo de Compensação do Trabalho","FCT","Fundo de Compensação do Trabalho","FCT","Fundo de Compensação do Trabalho","FCT","Fundo de Compensação do Trabalho","FCT","Fundo de Compensação do Trabalho","FCT","Fundo de Compensação do Trabalho","FCT","Fundo de Compensação do Trabalho","FCT","Fundo de Compensação do Trabalho","FCT","Fundo de Compensação do Trabalho","FCT","Fundo de Compensação do Trabalho","FCT","Fundo de Compensação do Trabalho","FCT","Fundo de Compensação do Trabalho","FCT","Fundo de Compensação do Trabalho","FCT","Fundo de Compensação do Trabalho","FCT","Fundo de Compensação do Trabalho","FCT","Fundo de Compensação do Trabalho","FCT","Fundo de Compensação do Trabalho","FCT","Fundo de Compensação do Trabalho","FCT","Fundo de Compensação do Trabalho","FCT","Fundo de Compensação do Trabalho","FCT","Fundo de Compensação do Trabalho","FCT","Fundo de Compensação do Trabalho","FCT","Fundo de Compensação do Trabalho","FCT","Fundo de Compensação do Trabalho","FCT","Fundo de Compensação do Trabalho","FCT","Fundo de Compensação do Trabalho","FCT","Fundo de Compensação do Trabalho","FCT","Fundo de Compensação do Trabalho","FCT","Fundo de Compensação do Trabalho","FCT","Fundo de Compensação do Trabalho","FCT","Fundo de Compensação do Trabalho","FCT","Fundo de Compensação do Trabalho","FCT","Fundo de Compensação do Trabalho","FCT","Fundo de Compensação do Trabalho","FCT","Fundo de Compensação do Trabalho","FCT","Fundo de Compensação do Trabalho","FCT","Fundo de Compensação do Trabalho","FCT","Fundo de Compensação do Trabalho","FCT","Fundo de Compensação do Trabalho","FCT","Fundo de Compensação do Trabalho","FCT","Fundo de Compensação do Trabalho","FCT","Fundo de Compensação do Trabalho","FCT","Fundo de Compensação do Trabalho","FCT","Fundo de Compensação do Trabalho","FCT","Fundo de Compensação do Trabalho","FCT","Fundo de Compensação do Trabalho","FCT","Fundo de Compensação do Trabalho","FCT","Fundo de Compensação do Trabalho","FCT","Fundo de Compensação do Trabalho","FCT","Fundo de Compensação do Trabalho","FCT","Fundo de Compensação do Trabalho","FCT","Fundo de Compensação do Trabalho","FCT","Fundo de Compensação do Trabalho","FCT","Fundo de Compensação do Trabalho","FCT","Fundo de Compensação do Trabalho","FCT","Fundo de Compensação do Trabalho","FCT","Fundo de Compensação do Trabalho","FCT","Fundo de Compensação do Trabalho","FCT","Fundo de Compensação do Trabalho","FCT","Fundo de Compensação do Trabalho","FCT","Fundo de Compensação do Trabalho","FCT","Fundo de Compensação do Trabalho","FCT","Fundo de Compensação do Trabalho","FCT","Fundo de Compensação do Trabalho","FCT","Fundo de Compensação do Trabalho","FCT","Fundo de Compensação do Trabalho","FCT","Fundo de Compensação do Trabalho","FCT","Fundo de Compensação do Trabalho","FCT","Fundo de Compensação do Trabalho","FCT","Fundo de Compensação do Trabalho","FCT","Fundo de Compensação do Trabalho","FCT","Fundo de Compensação do Trabalho","FCT","Fundo de Compensação do Trabalho","FCT","Fundo de Compensação do Trabalho","FCT","Fundo de Compensação do Trabalho","FCT","Fundo de Compensação do Trabalho","FCT","Fundo de Compensação do Trabalho","FCT","Fundo de Compensação do Trabalho","FCT","Fundo de Compensação do Trabalho","FCT","Fundo de Compensação do Trabalho","FCT","Fundo de Compensação do Trabalho","FCT","Fundo de Compensação do Trabalho","FCT","Fundo de Compensação do Trabalho","FCT","Fundo de Compensação do Trabalho","FCT","Fundo de Compensação do Trabalho","FCT","Fundo de Compensação do Trabalho","FCT","Fundo de Compensação do Trabalho","FCT","Fundo de Compensação do Trabalho","FCT","Fundo de Compensação do Trabalho","FCT","Fundo de Compensação do Trabalho","FCT","Fundo de Compensação do Trabalho","FCT","Fundo de Compensação do Trabalho","FCT","Fundo de Compensação do Trabalho","FCT","Fundo de Compensação do Trabalho","FCT","Fundo de Compensação do Trabalho","FCT","Fundo de Compensação do Trabalho","FCT","Fundo de Compensação do Trabalho","FCT","Fundo de Compensação do Trabalho","FCT","Fundo de Compensação do Trabalho","FCT","Fundo de Compensação do Trabalho","FCT","Fundo de Compensação do Trabalho","FCT","Fundo de Compensação do Trabalho","FCT","Fundo de Compensação do Trabalho","FCT","Fundo de Compensação do Trabalho","FCT","Fundo de Compensação do Trabalho","FCT","Fundo de Compensação do Trabalho","FCT","Fundo de Compensação do Trabalho","FCT","Fundo de Compensação do Trabalho","FCT","Fundo de Compensação do Trabalho","FCT","Fundo de Compensação do Trabalho","FCT","Fundo de Compensação do Trabalho","FCT","Fundo de Compensação do Trabalho","FCT","Fundo de Compensação do Trabalho","FCT","Fundo de Compensação do Trabalho","FCT","Fundo de Compensação do Trabalho","FCT","Fundo de Compensação do Trabalho","FCT","Fundo de Compensação do Trabalho","FCT","Fundo de Compensação do Trabalho","FCT","Fundo de Compensação do Trabalho","FCT","Fundo de Compensação do Trabalho","FCT","Fundo de Compensação do Trabalho","FCT","Fundo de Compensação do Trabalho","FCT","Fundo de Compensação do Trabalho","FCT","Fundo de Compensação do Trabalho","FCT","Fundo de Compensação do Trabalho","FCT","Fundo de Compensação do Trabalho","FCT","Fundo de Compensação do Trabalho","FCT","Fundo de Compensação do Trabalho","FCT","Fundo de Compensação do Trabalho","FCT","Fundo de Compensação do Trabalho","FCT","Fundo de Compensação do Trabalho","FCT","Fundo de Compensação do Trabalho","FCT","Fundo de Compensação do Trabalho","FCT","Fundo de Compensação do Trabalho","FCT","Fundo de Compensação do Trabalho","FCT","Fundo de Compensação do Trabalho","FCT","Fundo de Compensação do Trabalho","FCT","Fundo de Compensação do Trabalho","FCT","Fundo de Compensação do Trabalho","FCT","Fundo de Compensação do Trabalho","FCT","Fundo de Compensação do Trabalho","FCT","Fundo de Compensação do Trabalho","FCT","Fundo de Compensação do Trabalho","FCT","Fundo de Compensação do Trabalho","FCT","Fundo de Compensação do Trabalho","FCT","Fundo de Compensação do Trabalho","FCT","Fundo de Compensação do Trabalho","FCT","Fundo de Compensação do Trabalho","FCT","Fundo de Compensação do Trabalho","FCT","Fundo de Compensação do Trabalho","FCT","Fundo de Compensação do Trabalho","FCT","Fundo de Compensação do Trabalho","FCT","Fundo de Compensação do Trabalho","FCT","Fundo de Compensação do Trabalho","FCT","Fundo de Compensação do Trabalho","FCT","Fundo de Compensação do Trabalho","FCT","Fundo de Compensação do Trabalho","FCT","Fundo de Compensação do Trabalho","FCT","Fundo de Compensação do Trabalho","FCT","Fundo de Compensação do Trabalho","FCT","Fundo de Compensação do Trabalho","FCT","Fundo de Compensação do Trabalho","FCT","Fundo de Compensação do Trabalho","FCT","Fundo de Compensação do Trabalho","FCT","Fundo de Compensação do Trabalho","FCT","Fundo de Compensação do Trabalho","FCT","Fundo de Compensação do Trabalho","FCT","Fundo de Compensação do Trabalho","FCT","Fundo de Compensação do Trabalho","FCT","Fundo de Compensação do Trabalho","FCT","Fundo de Compensação do Trabalho","FCT","Fundo de Compensação do Trabalho","FCT","Fundo de Compensação do Trabalho","FCT","Fundo de Compensação do Trabalho","FCT","Fundo de Compensação do Trabalho","FCT","Fundo de Compensação do Trabalho","FCT","Fundo de Compensação do Trabalho","FCT","Fundo de Compensação do Trabalho","FCT","Fundo de Compensação do Trabalho","FCT","Fundo de Compensação do Trabalho","FCT","Fundo de Compensação do Trabalho","FCT","Fundo de Compensação do Trabalho","FCT","Fundo de Compensação do Trabalho","FCT","Fundo de Compensação do Trabalho","FCT","Fundo de Compensação do Trabalho","FCT","Fundo de Compensação do Trabalho","FCT","Fundo de Compensação do Trabalho","FCT","Fundo de Compensação do Trabalho","FCT","Fundo de Compensação do Trabalho","FCT","Fundo de Compensação do Trabalho","FCT","Fundo de Compensação do Trabalho","FCT","Fundo de Compensação do Trabalho","FCT","Fundo de Compensação do Trabalho","FCT","Fundo de Compensação do Trabalho","FCT","Fundo de Compensação do Trabalho","FCT","Fundo de Compensação do Trabalho","FCT","Fundo de Compensação do Trabalho","FCT","Fundo de Compensação do Trabalho","FCT","Fundo de Compensação do Trabalho","FCT","Fundo de Compensação do Trabalho","FCT","Fundo de Compensação do Trabalho","FCT","Fundo de Compensação do Trabalho","FCT","Fundo de Compensação do Trabalho","FCT","Fundo de Compensação do Trabalho","FCT","Fundo de Compensação do Trabalho","FCT","Fundo de Compensação do Trabalho","FCT","Fundo de Compensação do Trabalho","FCT","Fundo de Compensação do Trabalho","FCT","Fundo de Compensação do Trabalho","FCT","Fundo de Compensação do Trabalho","FCT","Fundo de Compensação do Trabalho","FCT","Fundo de Compensação do Trabalho","FCT","Fundo de Compensação do Trabalho","FCT","Fundo de Compensação do Trabalho","FCT","Fundo de Compensação do Trabalho","FCT","Fundo de Compensação do Trabalho","FCT","Fundo de Compensação do Trabalho","FCT","Fundo de Compensação do Trabalho","FCT","Fundo de Compensação do Trabalho","FCT","Fundo de Compensação do Trabalho","FCT","Fundo de Compensação do Trabalho","FCT","Fundo de Compensação do Trabalho","FCT","Fundo de Compensação do Trabalho","FCT","Fundo de Compensação do Trabalho","FCT","Fundo de Compensação do Trabalho","FCT","Fundo de Compensação do Trabalho","FCT","Fundo de Compensação do Trabalho","FCT","Fundo de Compensação do Trabalho","FCT","Fundo de Compensação do Trabalho","FCT","Fundo de Compensação do Trabalho","FCT","Fundo de Compensação do Trabalho","FCT","Fundo de Compensação do Trabalho","FCT","Fundo de Compensação do Trabalho","FCT","Fundo de Compensação do Trabalho","FCT","Fundo de Compensação do Trabalho","FCT","Fundo de Compensação do Trabalho","FCT","Fundo de Compensação do Trabalho","FCT","Fundo de Compensação do Trabalho","FCT","Fundo de Compensação do Trabalho","FCT","Fundo de Compensação do Trabalho","FCT","Fundo de Compensação do Trabalho","FCT","Fundo de Compensação do Trabalho","FCT","Fundo de Compensação do Trabalho","FCT","Fundo de Compensação do Trabalho","FCT","Fundo de Compensação do Trabalho","FCT","Fundo de Compensação do Trabalho","FCT","Fundo de Compensação do Trabalho","FCT","Fundo de Compensação do Trabalho","FCT","Fundo de Compensação do Trabalho","FCT","Fundo de Compensação do Trabalho","FCT","Fundo de Compensação do Trabalho","FCT","Fundo de Compensação do Trabalho","FCT","Fundo de Compensação do Trabalho","FCT","Fundo de Compensação do Trabalho","FCT","Fundo de Compensação do Trabalho","FCT","Fundo de Compensação do Trabalho","FCT","Fundo de Compensação do Trabalho","FCT","Fundo de Compensação do Trabalho","FCT","Fundo de Compensação do Trabalho","FCT","Fundo de Compensação do Trabalho","FCT","Fundo de Compensação do Trabalho","FCT","Fundo de Compensação do Trabalho","FCT","Fundo de Compensação do Trabalho","FCT","Fundo de Compensação do Trabalho","FCT","Fundo de Compensação do Trabalho","FCT","Fundo de Compensação do Trabalho","FCT","Fundo de Compensação do Trabalho","FCT","Fundo de Compensação do Trabalho","FCT","Fundo de Compensação do Trabalho","FCT","Fundo de Compensação do Trabalho","FCT","Fundo de Compensação do Trabalho","FCT","Fundo de Compensação do Trabalho","FCT","Fundo de Compensação do Trabalho","FCT","Fundo de Compensação do Trabalho","FCT","Fundo de Compensação do Trabalho","FCT","Fundo de Compensação do Trabalho","FCT","Fundo de Compensação do Trabalho","FCT","Fundo de Compensação do Trabalho","FCT","Fundo de Compensação do Trabalho","FCT","Fundo de Compensação do Trabalho","FCT","Fundo de Compensação do Trabalho","FCT","Fundo de Compensação do Trabalho","FCT","Fundo de Compensação do Trabalho","FCT","Fundo de Compensação do Trabalho","FCT","Fundo de Compensação do Trabalho","FCT","Fundo de Compensação do Trabalho","FCT","Fundo de Compensação do Trabalho","FCT","Fundo de Compensação do Trabalho","FCT","Fundo de Compensação do Trabalho","FCT","Fundo de Compensação do Trabalho","FCT","Fundo de Compensação do Trabalho","FCT","Fundo de Compensação do Trabalho","FCT","Fundo de Compensação do Trabalho","FCT","Fundo de Compensação do Trabalho","FCT","Fundo de Compensação do Trabalho","FCT","Fundo de Compensação do Trabalho","FCT","Fundo de Compensação do Trabalho","FCT","Fundo de Compensação do Trabalho","FCT","Fundo de Compensação do Trabalho","FCT","Fundo de Compensação do Trabalho","FCT","Fundo de Compensação do Trabalho","FCT","Fundo de Compensação do Trabalho","FCT","Fundo de Compensação do Trabalho","FCT","Fundo de Compensação do Trabalho","FCT","Fundo de Compensação do Trabalho","FCT","Fundo de Compensação do Trabalho","FCT","Fundo de Compensação do Trabalho","FCT","Fundo de Compensação do Trabalho","FCT","Fundo de Compensação do Trabalho","FCT","Fundo de Compensação do Trabalho","FCT","Fundo de Compensação do Trabalho","FCT","Fundo de Compensação do Trabalho","FCT","Fundo de Compensação do Trabalho","FCT","Fundo de Compensação do Trabalho","FCT","Fundo de Compensação do Trabalho","FCT","Fundo de Compensação do Trabalho","FCT","Fundo de Compensação do Trabalho","FCT","Fundo de Compensação do Trabalho","FCT","Fundo de Compensação do Trabalho","FCT","Fundo de Compensação do Trabalho","FCT","Fundo de Compensação do Trabalho","FCT","Fundo de Compensação do Trabalho","FCT","Fundo de Compensação do Trabalho","FCT","Fundo de Compensação do Trabalho","FCT","Fundo de Compensação do Trabalho","FCT","Fundo de Compensação do Trabalho","FCT","Fundo de Compensação do Trabalho","FCT","Fundo de Compensação do Trabalho","FCT","Fundo de Compensação do Trabalho","FCT","Fundo de Compensação do Trabalho","FCT","Fundo de Compensação do Trabalho","FCT","Fundo de Compensação do Trabalho","FCT","Fundo de Compensação do Trabalho","FCT","Fundo de Compensação do Trabalho","FCT","Fundo de Compensação do Trabalho","FCT","Fundo de Compensação do Trabalho","FCT","Fundo de Compensação do Trabalho","FCT","Fundo de Compensação do Trabalho","FCT","Fundo de Compensação do Trabalho","FCT","Fundo de Compensação do Trabalho","FCT","Fundo de Compensação do Trabalho","FCT","Fundo de Compensação do Trabalho","FCT","Fundo de Compensação do Trabalho","FCT","Fundo de Compensação do Trabalho","FCT","Fundo de Compensação do Trabalho","FCT","Fundo de Compensação do Trabalho","FCT","Fundo de Compensação do Trabalho","FCT","Fundo de Compensação do Trabalho","FCT","Fundo de Compensação do Trabalho","FCT","Fundo de Compensação do Trabalho","FCT","Fundo de Compensação do Trabalho","FCT","Fundo de Compensação do Trabalho","FCT","Fundo de Compensação do Trabalho","FCT","Fundo de Compensação do Trabalho","FCT","Fundo de Compensação do Trabalho","FCT","Fundo de Compensação do Trabalho","FCT","Fundo de Compensação do Trabalho","FCT","Fundo de Compensação do Trabalho","FCT","Fundo de Compensação do Trabalho","FCT","Fundo de Compensação do Trabalho","FCT","Fundo de Compensação do Trabalho","FCT","Fundo de Compensação do Trabalho","FCT","Fundo de Compensação do Trabalho","FCT","Fundo de Compensação do Trabalho","FCT","Fundo de Compensação do Trabalho","FCT","Fundo de Compensação do Trabalho","FCT","Fundo de Compensação do Trabalho","FCT","Fundo de Compensação do Trabalho","FCT","Fundo de Compensação do Trabalho","FCT","Fundo de Compensação do Trabalho","FCT","Fundo de Compensação do Trabalho","FCT","Fundo de Compensação do Trabalho","FCT","Fundo de Compensação do Trabalho","FCT","Fundo de Compensação do Trabalho","FCT","Fundo de Compensação do Trabalho","FCT","Fundo de Compensação do Trabalho","FCT","Fundo de Compensação do Trabalho","FCT","Fundo de Compensação do Trabalho","FCT","Fundo de Compensação do Trabalho","FCT","Fundo de Compensação do Trabalho","FCT","Fundo de Compensação do Trabalho","FCT","Fundo de Compensação do Trabalho","FCT","Fundo de Compensação do Trabalho","FCT","Fundo de Compensação do Trabalho","FCT","Fundo de Compensação do Trabalho","FCT","Fundo de Compensação do Trabalho","FCT","Fundo de Compensação do Trabalho","FCT","Fundo de Compensação do Trabalho","FCT","Fundo de Compensação do Trabalho","FCT","Fundo de Compensação do Trabalho","FCT","Fundo de Compensação do Trabalho","FCT","Fundo de Compensação do Trabalho","FCT","Fundo de Compensação do Trabalho","FCT","Fundo de Compensação do Trabalho","FCT","Fundo de Compensação do Trabalho","FCT","Fundo de Compensação do Trabalho","FCT","Fundo de Compensação do Trabalho","FCT","Fundo de Compensação do Trabalho","FCT","Fundo de Compensação do Trabalho","FCT","Fundo de Compensação do Trabalho","FCT","Fundo de Compensação do Trabalho","FCT","Fundo de Compensação do Trabalho","FCT","Fundo de Compensação do Trabalho","FCT","Fundo de Compensação do Trabalho","FCT","Fundo de Compensação do Trabalho","FCT","Fundo de Compensação do Trabalho","FCT","Fundo de Compensação do Trabalho","FCT","Fundo de Compensação do Trabalho","FCT","Fundo de Compensação do Trabalho","FCT","Fundo de Compensação do Trabalho","FCT","Fundo de Compensação do Trabalho","FCT","Fundo de Compensação do Trabalho","FCT","Fundo de Compensação do Trabalho","FCT","Fundo de Compensação do Trabalho","FCT","Fundo de Compensação do Trabalho","FCT","Fundo de Compensação do Trabalho","FCT","Fundo de Compensação do Trabalho","FCT","Fundo de Compensação do Trabalho","FCT","Fundo de Compensação do Trabalho","FCT","Fundo de Compensação do Trabalho","FCT","Fundo de Compensação do Trabalho","FCT","Fundo de Compensação do Trabalho","FCT","Fundo de Compensação do Trabalho","FCT","Fundo de Compensação do Trabalho","FCT","Fundo de Compensação do Trabalho","FCT","Fundo de Compensação do Trabalho","FCT","Fundo de Compensação do Trabalho","FCT","Fundo de Compensação do Trabalho","FCT","Fundo de Compensação do Trabalho","FCT","Fundo de Compensação do Trabalho","FCT","Fundo de Compensação do Trabalho","FCT","Fundo de Compensação do Trabalho","FCT","Fundo de Compensação do Trabalho","FCT","Fundo de Compensação do Trabalho","FCT","Fundo de Compensação do Trabalho","FCT","Fundo de Compensação do Trabalho","FCT","Fundo de Compensação do Trabalho","FCT","Fundo de Compensação do Trabalho","FCT","Fundo de Compensação do Trabalho","FCT","Fundo de Compensação do Trabalho","FCT","Fundo de Compensação do Trabalho","FCT","Fundo de Compensação do Trabalho","FCT","Fundo de Compensação do Trabalho","FCT","Fundo de Compensação do Trabalho","FCT","Fundo de Compensação do Trabalho","FCT","Fundo de Compensação do Trabalho","FCT","Fundo de Compensação do Trabalho","FCT","Fundo de Compensação do Trabalho","FCT","Fundo de Compensação do Trabalho","FCT","Fundo de Compensação do Trabalho","FCT","Fundo de Compensação do Trabalho","FCT","Fundo de Compensação do Trabalho","FCT","Fundo de Compensação do Trabalho","FCT","Fundo de Compensação do Trabalho","FCT","Fundo de Compensação do Trabalho","FCT","Fundo de Compensação do Trabalho","FCT","Fundo de Compensação do Trabalho","FCT","Fundo de Compensação do Trabalho","FCT","Fundo de Compensação do Trabalho","FCT","Fundo de Compensação do Trabalho","FCT","Fundo de Compensação do Trabalho","FCT","Fundo de Compensação do Trabalho","FCT","Fundo de Compensação do Trabalho","FCT","Fundo de Compensação do Trabalho","FCT","Fundo de Compensação do Trabalho","FCT","Fundo de Compensação do Trabalho","FCT","Fundo de Compensação do Trabalho","FCT","Fundo de Compensação do Trabalho","FCT","Fundo de Compensação do Trabalho","FCT","Fundo de Compensação do Trabalho","FCT","Fundo de Compensação do Trabalho","FCT","Fundo de Compensação do Trabalho","FCT","Fundo de Compensação do Trabalho","FCT","Fundo de Compensação do Trabalho","FCT","Fundo de Compensação do Trabalho","FCT","Fundo de Compensação do Trabalho","FCT","Fundo de Compensação do Trabalho","FCT","Fundo de Compensação do Trabalho","FCT","Fundo de Compensação do Trabalho","FCT","Fundo de Compensação do Trabalho","FCT","Fundo de Compensação do Trabalho","FCT","Fundo de Compensação do Trabalho","FCT","Fundo de Compensação do Trabalho","FCT","Fundo de Compensação do Trabalho","FCT","Fundo de Compensação do Trabalho","FCT","Fundo de Compensação do Trabalho","FCT","Fundo de Compensação do Trabalho","FCT","Fundo de Compensação do Trabalho","FCT","Fundo de Compensação do Trabalho","FCT","Fundo de Compensação do Trabalho","FCT","Fundo de Compensação do Trabalho","FCT","Fundo de Compensação do Trabalho","FCT","Fundo de Compensação do Trabalho","FCT","Fundo de Compensação do Trabalho","FCT","Fundo de Compensação do Trabalho","FCT","Fundo de Compensação do Trabalho","FCT","Fundo de Compensação do Trabalho","FCT","Fundo de Compensação do Trabalho","FCT","Fundo de Compensação do Trabalho","FCT","Fundo de Compensação do Trabalho","FCT","Fundo de Compensação do Trabalho","FCT","Fundo de Compensação do Trabalho","FCT","Fundo de Compensação do Trabalho","FCT","Fundo de Compensação do Trabalho","FCT","Fundo de Compensação do Trabalho","FCT","Fundo de Compensação do Trabalho","FCT","Fundo de Compensação do Trabalho","FCT","Fundo de Compensação do Trabalho","FCT","Fundo de Compensação do Trabalho","FCT","Fundo de Compensação do Trabalho","FCT","Fundo de Compensação do Trabalho","FCT","Fundo de Compensação do Trabalho","FCT","Fundo de Compensação do Trabalho","FCT","Fundo de Compensação do Trabalho","FCT","Fundo de Compensação do Trabalho","FCT","Fundo de Compensação do Trabalho","FCT","Fundo de Compensação do Trabalho","FCT","Fundo de Compensação do Trabalho","FCT","Fundo de Compensação do Trabalho","FCT","Fundo de Compensação do Trabalho","FCT","Fundo de Compensação do Trabalho","FCT","Fundo de Compensação do Trabalho","FCT","Fundo de Compensação do Trabalho","FCT","Fundo de Compensação do Trabalho","FCT","Fundo de Compensação do Trabalho","FCT","Fundo de Compensação do Trabalho","FCT","Fundo de Compensação do Trabalho","FCT","Fundo de Compensação do Trabalho","FCT","Fundo de Compensação do Trabalho","FCT","Fundo de Compensação do Trabalho","FCT","Fundo de Compensação do Trabalho","FCT","Fundo de Compensação do Trabalho","FCT","Fundo de Compensação do Trabalho","FCT","Fundo de Compensação do Trabalho","FCT","Fundo de Compensação do Trabalho","FCT","Fundo de Compensação do Trabalho","FCT","Fundo de Compensação do Trabalho","FCT","Fundo de Compensação do Trabalho","FCT","Fundo de Compensação do Trabalho","FCT","Fundo de Compensação do Trabalho","FCT","Fundo de Compensação do Trabalho","FCT","Fundo de Compensação do Trabalho","FCT","Fundo de Compensação do Trabalho","FCT","Fundo de Compensação do Trabalho","FCT","Fundo de Compensação do Trabalho","FCT","Fundo de Compensação do Trabalho","FCT","Fundo de Compensação do Trabalho","FCT","Fundo de Compensação do Trabalho","FCT","Fundo de Compensação do Trabalho","FCT","Fundo de Compensação do Trabalho","FCT","Fundo de Compensação do Trabalho","FCT","Fundo de Compensação do Trabalho","FCT","Fundo de Compensação do Trabalho","FCT","Fundo de Compensação do Trabalho","FCT","Fundo de Compensação do Trabalho","FCT","Fundo de Compensação do Trabalho","FCT","Fundo de Compensação do Trabalho","FCT","Fundo de Compensação do Trabalho","FCT","Fundo de Compensação do Trabalho","FCT","Fundo de Compensação do Trabalho","FCT","Fundo de Compensação do Trabalho","FCT","Fundo de Compensação do Trabalho","FCT","Fundo de Compensação do Trabalho","FCT","Fundo de Compensação do Trabalho","FCT","Fundo de Compensação do Trabalho","FCT","Fundo de Compensação do Trabalho","FCT","Fundo de Compensação do Trabalho","FCT","Fundo de Compensação do Trabalho","FCT","Fundo de Compensação do Trabalho","FCT","Fundo de Compensação do Trabalho","FCT","Fundo de Compensação do Trabalho","FCT","Fundo de Compensação do Trabalho","FCT","Fundo de Compensação do Trabalho","FCT","Fundo de Compensação do Trabalho","FCT","Fundo de Compensação do Trabalho","FCT","Fundo de Compensação do Trabalho","FCT","Fundo de Compensação do Trabalho","FCT","Fundo de Compensação do Trabalho","FCT","Fundo de Compensação do Trabalho","FCT","Fundo de Compensação do Trabalho","FCT","Fundo de Compensação do Trabalho","FCT","Fundo de Compensação do Trabalho","FCT","Fundo de Compensação do Trabalho","FCT","Fundo de Compensação do Trabalho","FCT","Fundo de Compensação do Trabalho","FCT","Fundo de Compensação do Trabalho","FCT","Fundo de Compensação do Trabalho","FCT","Fundo de Compensação do Trabalho","FCT","Fundo de Compensação do Trabalho","FCT","Fundo de Compensação do Trabalho","FCT","Fundo de Compensação do Trabalho","FCT","Fundo de Compensação do Trabalho","FCT","Fundo de Compensação do Trabalho","FCT","Fundo de Compensação do Trabalho","FCT","Fundo de Compensação do Trabalho","FCT","Fundo de Compensação do Trabalho","FCT","Fundo de Compensação do Trabalho","FCT","Fundo de Compensação do Trabalho","FCT","Fundo de Compensação do Trabalho","FCT","Fundo de Compensação do Trabalho","FCT","Fundo de Compensação do Trabalho","FCT","Fundo de Compensação do Trabalho","FCT","Fundo de Compensação do Trabalho","FCT","Fundo de Compensação do Trabalho","FCT","Fundo de Compensação do Trabalho","FCT","Fundo de Compensação do Trabalho","FCT","Fundo de Compensação do Trabalho","FCT","Fundo de Compensação do Trabalho","FCT","Fundo de Compensação do Trabalho","FCT","Fundo de Compensação do Trabalho","FCT","Fundo de Compensação do Trabalho","FCT","Fundo de Compensação do Trabalho","FCT","Fundo de Compensação do Trabalho","FCT","Fundo de Compensação do Trabalho","FCT","Fundo de Compensação do Trabalho","FCT","Fundo de Compensação do Trabalho","FCT","Fundo de Compensação do Trabalho","FCT","Fundo de Compensação do Trabalho","FCT","Fundo de Compensação do Trabalho","FCT","Fundo de Compensação do Trabalho","FCT","Fundo de Compensação do Trabalho","FCT","Fundo de Compensação do Trabalho","FCT","Fundo de Compensação do Trabalho","FCT","Fundo de Compensação do Trabalho","FCT","Fundo de Compensação do Trabalho","FCT","Fundo de Compensação do Trabalho","FCT","Fundo de Compensação do Trabalho","FCT","Fundo de Compensação do Trabalho","FCT","Fundo de Compensação do Trabalho","FCT","Fundo de Compensação do Trabalho","FCT","Fundo de Compensação do Trabalho","FCT","Fundo de Compensação do Trabalho","FCT","Fundo de Compensação do Trabalho","FCT","Fundo de Compensação do Trabalho","FCT","Fundo de Compensação do Trabalho","FCT","Fundo de Compensação do Trabalho","FCT","Fundo de Compensação do Trabalho","FCT","Fundo de Compensação do Trabalho","FCT","Fundo de Compensação do Trabalho","FCT","Fundo de Compensação do Trabalho","FCT","Fundo de Compensação do Trabalho","FCT","Fundo de Compensação do Trabalho","FCT","Fundo de Compensação do Trabalho","FCT","Fundo de Compensação do Trabalho","FCT","Fundo de Compensação do Trabalho","FCT","Fundo de Compensação do Trabalho","FCT","Fundo de Compensação do Trabalho","FCT","Fundo de Compensação do Trabalho","FCT","Fundo de Compensação do Trabalho","FCT","Fundo de Compensação do Trabalho","FCT","Fundo de Compensação do Trabalho","FCT","Fundo de Compensação do Trabalho","FCT","Fundo de Compensação do Trabalho","FCT","Fundo de Compensação do Trabalho","FCT","Fundo de Compensação do Trabalho","FCT","Fundo de Compensação do Trabalho","FCT","Fundo de Compensação do Trabalho","FCT","Fundo de Compensação do Trabalho","FCT","Fundo de Compensação do Trabalho","FCT","Fundo de Compensação do Trabalho","FCT","Fundo de Compensação do Trabalho","FCT","Fundo de Compensação do Trabalho","FCT","Fundo de Compensação do Trabalho","FCT","Fundo de Compensação do Trabalho","FCT","Fundo de Compensação do Trabalho","FCT","Fundo de Compensação do Trabalho","FCT","Fundo de Compensação do Trabalho","FCT","Fundo de Compensação do Trabalho","FCT","Fundo de Compensação do Trabalho","FCT","Fundo de Compensação do Trabalho","FCT","Fundo de Compensação do Trabalho","FCT","Fundo de Compensação do Trabalho","FCT","Fundo de Compensação do Trabalho","FCT","Fundo de Compensação do Trabalho","FCT","Fundo de Compensação do Trabalho","FCT","Fundo de Compensação do Trabalho","FCT","Fundo de Compensação do Trabalho","FCT","Fundo de Compensação do Trabalho","FCT","Fundo de Compensação do Trabalho","FCT","Fundo de Compensação do Trabalho","FCT","Fundo de Compensação do Trabalho","FCT","Fundo de Compensação do Trabalho","FCT","Fundo de Compensação do Trabalho","FCT","Fundo de Compensação do Trabalho","FCT","Fundo de Compensação do Trabalho","FCT","Fundo de Compensação do Trabalho","FCT","Fundo de Compensação do Trabalho","FCT","Fundo de Compensação do Trabalho","FCT","Fundo de Compensação do Trabalho","FCT","Fundo de Compensação do Trabalho","FCT","Fundo de Compensação do Trabalho","FCT","Fundo de Compensação do Trabalho","FCT","Fundo de Compensação do Trabalho","FCT","Fundo de Compensação do Trabalho","FCT","Fundo de Compensação do Trabalho","FCT","Fundo de Compensação do Trabalho","FCT","Fundo de Compensação do Trabalho","FCT","Fundo de Compensação do Trabalho","FCT","Fundo de Compensação do Trabalho","FCT","Fundo de Compensação do Trabalho","FCT","Fundo de Compensação do Trabalho","FCT","Fundo de Compensação do Trabalho","FCT","Fundo de Compensação do Trabalho","FCT","Fundo de Compensação do Trabalho","FCT","Fundo de Compensação do Trabalho","FCT","Fundo de Compensação do Trabalho","FCT","Fundo de Compensação do Trabalho","FCT","Fundo de Compensação do Trabalho","FCT","Fundo de Compensação do Trabalho","FCT","Fundo de Compensação do Trabalho","FCT","Fundo de Compensação do Trabalho","FCT","Fundo de Compensação do Trabalho","FCT","Fundo de Compensação do Trabalho","FCT","Fundo de Compensação do Trabalho","FCT","Fundo de Compensação do Trabalho","FCT","Fundo de Compensação do Trabalho","FCT","Fundo de Compensação do Trabalho","FCT","Fundo de Compensação do Trabalho","FCT","Fundo de Compensação do Trabalho","FCT","Fundo de Compensação do Trabalho","FCT","Fundo de Compensação do Trabalho","FCT","Fundo de Compensação do Trabalho","FCT","Fundo de Compensação do Trabalho","FCT","Fundo de Compensação do Trabalho","FCT","Fundo de Compensação do Trabalho","FCT","Fundo de Compensação do Trabalho","FCT","Fundo de Compensação do Trabalho","FCT","Fundo de Compensação do Trabalho","FCT","Fundo de Compensação do Trabalho","FCT","Fundo de Compensação do Trabalho","FCT","Fundo de Compensação do Trabalho","FCT","Fundo de Compensação do Trabalho","FCT","Fundo de Compensação do Trabalho","FCT","Fundo de Compensação do Trabalho","FCT","Fundo de Compensação do Trabalho","FCT","Fundo de Compensação do Trabalho","FCT","Fundo de Compensação do Trabalho","FCT","Fundo de Compensação do Trabalho","FCT","Fundo de Compensação do Trabalho","FCT","Fundo de Compensação do Trabalho","FCT","Fundo de Compensação do Trabalho","FCT","Fundo de Compensação do Trabalho","FCT","Fundo de Compensação do Trabalho","FCT","Fundo de Compensação do Trabalho","FCT","Fundo de Compensação do Trabalho","FCT","Fundo de Compensação do Trabalho","FCT","Fundo de Compensação do Trabalho","FCT","Fundo de Compensação do Trabalho","FCT","Fundo de Compensação do Trabalho","FCT","Fundo de Compensação do Trabalho","FCT","Fundo de Compensação do Trabalho","FCT","Fundo de Compensação do Trabalho","FCT","Fundo de Compensação do Trabalho","FCT","Fundo de Compensação do Trabalho","FCT","Fundo de Compensação do Trabalho","FCT","Fundo de Compensação do Trabalho","FCT","Fundo de Compensação do Trabalho","FCT","Fundo de Compensação do Trabalho","FCT","Fundo de Compensação do Trabalho","FCT","Fundo de Compensação do Trabalho","FCT","Fundo de Compensação do Trabalho","FCT","Fundo de Compensação do Trabalho","FCT","Fundo de Compensação do Trabalho","FCT","Fundo de Compensação do Trabalho","FCT","Fundo de Compensação do Trabalho","FCT","Fundo de Compensação do Trabalho","FCT","Fundo de Compensação do Trabalho","FCT","Fundo de Compensação do Trabalho","FCT","Fundo de Compensação do Trabalho","FCT","Fundo de Compensação do Trabalho","FCT","Fundo de Compensação do Trabalho","FCT","Fundo de Compensação do Trabalho","FCT","Fundo de Compensação do Trabalho","FCT","Fundo de Compensação do Trabalho","FCT","Fundo de Compensação do Trabalho","FCT","Fundo de Compensação do Trabalho","FCT","Fundo de Compensação do Trabalho","FCT","Fundo de Compensação do Trabalho","FCT","Fundo de Compensação do Trabalho","FCT","Fundo de Compensação do Trabalho","FCT","Fundo de Compensação do Trabalho","FCT","Fundo de Compensação do Trabalho","FCT","Fundo de Compensação do Trabalho","FCT","Fundo de Compensação do Trabalho","FCT","Fundo de Compensação do Trabalho","FCT","Fundo de Compensação do Trabalho","FCT","Fundo de Compensação do Trabalho","FCT","Fundo de Compensação do Trabalho","FCT","Fundo de Compensação do Trabalho","FCT","Fundo de Compensação do Trabalho","FCT","Fundo de Compensação do Trabalho","FCT","Fundo de Compensação do Trabalho","FCT","Fundo de Compensação do Trabalho","FCT","Fundo de Compensação do Trabalho","FCT","Fundo de Compensação do Trabalho","FCT","Fundo de Compensação do Trabalho","FCT","Fundo de Compensação do Trabalho","FCT","Fundo de Compensação do Trabalho","FCT","Fundo de Compensação do Trabalho","FCT","Fundo de Compensação do Trabalho","FCT","Fundo de Compensação do Trabalho","FCT","Fundo de Compensação do Trabalho","FCT","Fundo de Compensação do Trabalho","FCT","Fundo de Compensação do Trabalho","FCT","Fundo de Compensação do Trabalho","FCT","Fundo de Compensação do Trabalho","FCT","Fundo de Compensação do Trabalho","FCT","Fundo de Compensação do Trabalho","FCT","Fundo de Compensação do Trabalho","FCT","Fundo de Compensação do Trabalho","FCT","Fundo de Compensação do Trabalho","FCT","Fundo de Compensação do Trabalho","FCT","Fundo de Compensação do Trabalho","FCT","Fundo de Compensação do Trabalho","FCT","Fundo de Compensação do Trabalho","FCT","Fundo de Compensação do Trabalho","FCT","Fundo de Compensação do Trabalho","FCT","Fundo de Compensação do Trabalho","FCT","Fundo de Compensação do Trabalho","FCT","Fundo de Compensação do Trabalho","FCT","Fundo de Compensação do Trabalho","FCT","Fundo de Compensação do Trabalho","FCT","Fundo de Compensação do Trabalho","FCT","Fundo de Compensação do Trabalho","FCT","Fundo de Compensação do Trabalho","FCT","Fundo de Compensação do Trabalho","FCT","Fundo de Compensação do Trabalho","FCT","Fundo de Compensação do Trabalho","FCT","Fundo de Compensação do Trabalho","FCT","Fundo de Compensação do Trabalho","FCT","Fundo de Compensação do Trabalho","FCT","Fundo de Compensação do Trabalho","FCT","Fundo de Compensação do Trabalho","FCT","Fundo de Compensação do Trabalho","FCT","Fundo de Compensação do Trabalho","FCT","Fundo de Compensação do Trabalho","FCT","Fundo de Compensação do Trabalho","FCT","Fundo de Compensação do Trabalho","FCT","Fundo de Compensação do Trabalho","FCT","Fundo de Compensação do Trabalho","FCT","Fundo de Compensação do Trabalho","FCT","Fundo de Compensação do Trabalho","FCT","Fundo de Compensação do Trabalho","FCT","Fundo de Compensação do Trabalho","FCT","Fundo de Compensação do Trabalho","FCT","Fundo de Compensação do Trabalho","FCT","Fundo de Compensação do Trabalho","FCT","Fundo de Compensação do Trabalho","FCT","Fundo de Compensação do Trabalho","FCT","Fundo de Compensação do Trabalho","FCT","Fundo de Compensação do Trabalho","FCT","Fundo de Compensação do Trabalho","FCT","Fundo de Compensação do Trabalho","FCT","Fundo de Compensação do Trabalho","FCT","Fundo de Compensação do Trabalho","FCT","Fundo de Compensação do Trabalho","FCT","Fundo de Compensação do Trabalho","FCT","Fundo de Compensação do Trabalho","FCT","Fundo de Compensação do Trabalho","FCT","Fundo de Compensação do Trabalho","FCT","Fundo de Compensação do Trabalho","FCT","Fundo de Compensação do Trabalho","FCT","Fundo de Compensação do Trabalho","FCT","Fundo de Compensação do Trabalho","FCT","Fundo de Compensação do Trabalho","FCT","Fundo de Compensação do Trabalho","FCT","Fundo de Compensação do Trabalho","FCT","Fundo de Compensação do Trabalho","FCT","Fundo de Compensação do Trabalho","FCT","Fundo de Compensação do Trabalho","FCT","Fundo de Compensação do Trabalho","FCT","Fundo de Compensação do Trabalho","FCT","Fundo de Compensação do Trabalho","FCT","Fundo de Compensação do Trabalho","FCT","Fundo de Compensação do Trabalho","FCT","Fundo de Compensação do Trabalho","FCT","Fundo de Compensação do Trabalho","FCT","Fundo de Compensação do Trabalho","FCT","Fundo de Compensação do Trabalho","FCT","Fundo de Compensação do Trabalho","FCT","Fundo de Compensação do Trabalho","FCT","Fundo de Compensação do Trabalho","FCT","Fundo de Compensação do Trabalho","FCT","Fundo de Compensação do Trabalho","FCT","Fundo de Compensação do Trabalho","FCT","Fundo de Compensação do Trabalho","FCT","Fundo de Compensação do Trabalho","FCT","Fundo de Compensação do Trabalho","FCT","Fundo de Compensação do Trabalho","FCT","Fundo de Compensação do Trabalho","FCT","Fundo de Compensação do Trabalho","FCT","Fundo de Compensação do Trabalho","FCT","Fundo de Compensação do Trabalho","FCT","Fundo de Compensação do Trabalho","FCT","Fundo de Compensação do Trabalho","FCT","Fundo de Compensação do Trabalho","FCT","Fundo de Compensação do Trabalho","FCT","Fundo de Compensação do Trabalho","FCT","Fundo de Compensação do Trabalho","FCT","Fundo de Compensação do Trabalho","FCT","Fundo de Compensação do Trabalho","FCT","Fundo de Compensação do Trabalho","FCT","Fundo de Compensação do Trabalho","FCT","Fundo de Compensação do Trabalho","FCT","Fundo de Compensação do Trabalho","FCT","Fundo de Compensação do Trabalho","FCT","Fundo de Compensação do Trabalho","FCT","Fundo de Compensação do Trabalho","FCT","Fundo de Compensação do Trabalho","FCT","Fundo de Compensação do Trabalho","FCT","Fundo de Compensação do Trabalho","FCT","Fundo de Compensação do Trabalho","FCT","Fundo de Compensação do Trabalho","FCT","Fundo de Compensação do Trabalho","FCT","Fundo de Compensação do Trabalho","FCT","Fundo de Compensação do Trabalho","FCT","Fundo de Compensação do Trabalho","FCT","Fundo de Compensação do Trabalho","FCT","Fundo de Compensação do Trabalho","FCT","Fundo de Compensação do Trabalho","FCT","Fundo de Compensação do Trabalho","FCT","Fundo de Compensação do Trabalho","FCT","Fundo de Compensação do Trabalho","FCT","Fundo de Compensação do Trabalho","FCT","Fundo de Compensação do Trabalho","FCT","Fundo de Compensação do Trabalho","FCT","Fundo de Compensação do Trabalho","FCT","Fundo de Compensação do Trabalho","FCT","Fundo de Compensação do Trabalho","FCT","Fundo de Compensação do Trabalho","FCT","Fundo de Compensação do Trabalho","FCT","Fundo de Compensação do Trabalho","FCT","Fundo de Compensação do Trabalho","FCT","Fundo de Compensação do Trabalho","FCT","Fundo de Compensação do Trabalho","FCT","Fundo de Compensação do Trabalho","FCT","Fundo de Compensação do Trabalho","FCT","Fundo de Compensação do Trabalho","FCT","Fundo de Compensação do Trabalho","FCT","Fundo de Compensação do Trabalho","FCT","Fundo de Compensação do Trabalho","FCT","Fundo de Compensação do Trabalho","FCT","Fundo de Compensação do Trabalho","FCT","Fundo de Compensação do Trabalho","FCT","Fundo de Compensação do Trabalho","FCT","Fundo de Compensação do Trabalho","FCT","Fundo de Compensação do Trabalho","FCT","Fundo de Compensação do Trabalho","FCT","Fundo de Compensação do Trabalho","FCT","Fundo de Compensação do Trabalho","FCT","Fundo de Compensação do Trabalho","FCT","Fundo de Compensação do Trabalho","FCT","Fundo de Compensação do Trabalho","FCT","Fundo de Compensação do Trabalho","FCT","Fundo de Compensação do Trabalho","FCT","Fundo de Compensação do Trabalho","FCT","Fundo de Compensação do Trabalho","FCT","Fundo de Compensação do Trabalho","FCT","Fundo de Compensação do Trabalho","FCT","Fundo de Compensação do Trabalho","FCT","Fundo de Compensação do Trabalho","FCT","Fundo de Compensação do Trabalho","FCT","Fundo de Compensação do Trabalho","FCT","Fundo de Compensação do Trabalho","FCT","Fundo de Compensação do Trabalho","FCT","Fundo de Compensação do Trabalho","FCT","Fundo de Compensação do Trabalho","FCT","Fundo de Compensação do Trabalho","FCT","Fundo de Compensação do Trabalho","FCT","Fundo de Compensação do Trabalho","FCT","Fundo de Compensação do Trabalho","FCT","Fundo de Compensação do Trabalho","FCT","Fundo de Compensação do Trabalho","FCT","Fundo de Compensação do Trabalho","FCT","Fundo de Compensação do Trabalho","FCT","Fundo de Compensação do Trabalho","FCT","Fundo de Compensação do Trabalho","FCT","Fundo de Compensação do Trabalho","FCT","Fundo de Compensação do Trabalho","FCT","Fundo de Compensação do Trabalho","FCT","Fundo de Compensação do Trabalho","FCT","Fundo de Compensação do Trabalho","FCT","Fundo de Compensação do Trabalho","FCT","Fundo de Compensação do Trabalho","FCT","Fundo de Compensação do Trabalho","FCT","Fundo de Compensação do Trabalho","FCT","Fundo de Compensação do Trabalho","FCT","Fundo de Compensação do Trabalho","FCT","Fundo de Compensação do Trabalho","FCT","Fundo de Compensação do Trabalho","FCT","Fundo de Compensação do Trabalho","FCT","Fundo de Compensação do Trabalho","FCT","Fundo de Compensação do Trabalho","FCT","Fundo de Compensação do Trabalho","FCT","Fundo de Compensação do Trabalho","FCT","Fundo de Compensação do Trabalho","FCT","Fundo de Compensação do Trabalho","FCT","Fundo de Compensação do Trabalho","FCT","Fundo de Compensação do Trabalho","FCT","Fundo de Compensação do Trabalho","FCT","Fundo de Compensação do Trabalho","FCT","Fundo de Compensação do Trabalho","FCT","Fundo de Compensação do Trabalho","FCT","Fundo de Compensação do Trabalho","FCT","Fundo de Compensação do Trabalho","FCT","Fundo de Compensação do Trabalho","FCT","Fundo de Compensação do Trabalho","FCT","Fundo de Compensação do Trabalho","FCT","Fundo de Compensação do Trabalho","FCT","Fundo de Compensação do Trabalho","FCT","Fundo de Compensação do Trabalho","FCT","Fundo de Compensação do Trabalho","FCT","Fundo de Compensação do Trabalho","FCT","Fundo de Compensação do Trabalho","FCT","Fundo de Compensação do Trabalho","FCT","Fundo de Compensação do Trabalho","FCT","Fundo de Compensação do Trabalho","FCT","Fundo de Compensação do Trabalho","FCT","Fundo de Compensação do Trabalho","FCT","Fundo de Compensação do Trabalho","FCT","Fundo de Compensação do Trabalho","FCT","Fundo de Compensação do Trabalho","FCT","Fundo de Compensação do Trabalho","FCT","Fundo de Compensação do Trabalho","FCT","Fundo de Compensação do Trabalho","FCT","Fundo de Compensação do Trabalho","FCT","Fundo de Compensação do Trabalho","FCT","Fundo de Compensação do Trabalho","FCT","Fundo de Compensação do Trabalho","FCT","Fundo de Compensação do Trabalho","FCT","Fundo de Compensação do Trabalho","FCT","Fundo de Compensação do Trabalho","FCT","Fundo de Compensação do Trabalho","FCT","Fundo de Compensação do Trabalho","FCT","Fundo de Compensação do Trabalho","FCT","Fundo de Compensação do Trabalho","FCT","Fundo de Compensação do Trabalho","FCT","Fundo de Compensação do Trabalho","FCT","Fundo de Compensação do Trabalho","FCT","Fundo de Compensação do Trabalho","FCT","Fundo de Compensação do Trabalho","FCT","Fundo de Compensação do Trabalho","FCT","Fundo de Compensação do Trabalho","FCT","Fundo de Compensação do Trabalho","FCT","Fundo de Compensação do Trabalho","FCT","Fundo de Compensação do Trabalho","FCT","Fundo de Compensação do Trabalho","FCT","Fundo de Compensação do Trabalho","FCT","Fundo de Compensação do Trabalho","FCT","Fundo de Compensação do Trabalho","FCT","Fundo de Compensação do Trabalho","FCT","Fundo de Compensação do Trabalho","FCT","Fundo de Compensação do Trabalho","FCT","Fundo de Compensação do Trabalho","FCT","Fundo de Compensação do Trabalho","FCT","Fundo de Compensação do Trabalho","FCT","Fundo de Compensação do Trabalho","FCT","Fundo de Compensação do Trabalho","FCT","Fundo de Compensação do Trabalho","FCT","Fundo de Compensação do Trabalho","FCT","Fundo de Compensação do Trabalho","FCT","Fundo de Compensação do Trabalho","FCT","Fundo de Compensação do Trabalho","FCT","Fundo de Compensação do Trabalho","FCT","Fundo de Compensação do Trabalho","FCT","Fundo de Compensação do Trabalho","FCT","Fundo de Compensação do Trabalho","FCT","Fundo de Compensação do Trabalho","FCT","Fundo de Compensação do Trabalho","FCT","Fundo de Compensação do Trabalho","FCT","Fundo de Compensação do Trabalho","FCT","Fundo de Compensação do Trabalho","FCT","Fundo de Compensação do Trabalho","FCT","Fundo de Compensação do Trabalho","FCT","Fundo de Compensação do Trabalho","FCT","Fundo de Compensação do Trabalho","FCT","Fundo de Compensação do Trabalho","FCT","Fundo de Compensação do Trabalho","FCT","Fundo de Compensação do Trabalho","FCT","Fundo de Compensação do Trabalho","FCT","Fundo de Compensação do Trabalho","FCT","Fundo de Compensação do Trabalho","FCT","Fundo de Compensação do Trabalho","FCT","Fundo de Compensação do Trabalho","FCT","Fundo de Compensação do Trabalho","FCT","Fundo de Compensação do Trabalho","FCT","Fundo de Compensação do Trabalho","FCT","Fundo de Compensação do Trabalho","FCT","Fundo de Compensação do Trabalho","FCT","Fundo de Compensação do Trabalho","FCT","Fundo de Compensação do Trabalho","FCT","Fundo de Compensação do Trabalho","FCT","Fundo de Compensação do Trabalho","FCT","Fundo de Compensação do Trabalho","FCT","Fundo de Compensação do Trabalho","FCT","Fundo de Compensação do Trabalho","FCT","Fundo de Compensação do Trabalho","FCT","Fundo de Compensação do Trabalho","FCT","Fundo de Compensação do Trabalho","FCT","Fundo de Compensação do Trabalho","FCT","Fundo de Compensação do Trabalho","FCT","Fundo de Compensação do Trabalho","FCT","Fundo de Compensação do Trabalho","FCT","Fundo de Compensação do Trabalho","FCT","Fundo de Compensação do Trabalho","FCT","Fundo de Compensação do Trabalho","FCT","Fundo de Compensação do Trabalho","FCT","Fundo de Compensação do Trabalho","FCT","Fundo de Compensação do Trabalho","FCT","Fundo de Compensação do Trabalho","FCT","Fundo de Compensação do Trabalho","FCT","Fundo de Compensação do Trabalho","FCT","Fundo de Compensação do Trabalho","FCT","Fundo de Compensação do Trabalho","FCT","Fundo de Compensação do Trabalho","FCT","Fundo de Compensação do Trabalho","FCT","Fundo de Compensação do Trabalho","FCT","Fundo de Compensação do Trabalho","FCT","Fundo de Compensação do Trabalho","FCT","Fundo de Compensação do Trabalho","FCT","Fundo de Compensação do Trabalho","FCT","Fundo de Compensação do Trabalho","FCT","Fundo de Compensação do Trabalho","FCT","Fundo de Compensação do Trabalho","FCT","Fundo de Compensação do Trabalho","FCT","Fundo de Compensação do Trabalho","FCT","Fundo de Compensação do Trabalho","FCT","Fundo de Compensação do Trabalho","FCT","Fundo de Compensação do Trabalho","FCT","Fundo de Compensação do Trabalho","FCT","Fundo de Compensação do Trabalho","FCT","Fundo de Compensação do Trabalho","FCT","Fundo de Compensação do Trabalho","FCT","Fundo de Compensação do Trabalho","FCT","Fundo de Compensação do Trabalho","FCT","Fundo de Compensação do Trabalho","FCT","Fundo de Compensação do Trabalho","FCT","Fundo de Compensação do Trabalho","FCT","Fundo de Compensação do Trabalho","FCT","Fundo de Compensação do Trabalho","FCT","Fundo de Compensação do Trabalho","FCT","Fundo de Compensação do Trabalho","FCT","Fundo de Compensação do Trabalho","FCT","Fundo de Compensação do Trabalho","FCT","Fundo de Compensação do Trabalho","FCT","Fundo de Compensação do Trabalho","FCT","Fundo de Compensação do Trabalho","FCT","Fundo de Compensação do Trabalho","FCT","Fundo de Compensação do Trabalho","FCT","Fundo de Compensação do Trabalho","FCT","Fundo de Compensação do Trabalho","FCT","Fundo de Compensação do Trabalho","FCT","Fundo de Compensação do Trabalho","FCT","Fundo de Compensação do Trabalho","FCT","Fundo de Compensação do Trabalho","FCT","Fundo de Compensação do Trabalho","FCT","Fundo de Compensação do Trabalho","FCT","Fundo de Compensação do Trabalho","FCT","Fundo de Compensação do Trabalho","FCT","Fundo de Compensação do Trabalho","FCT","Fundo de Compensação do Trabalho","FCT","Fundo de Compensação do Trabalho","FCT","Fundo de Compensação do Trabalho","FCT","Fundo de Compensação do Trabalho","FCT","Fundo de Compensação do Trabalho","FCT","Fundo de Compensação do Trabalho","FCT","Fundo de Compensação do Trabalho","FCT","Fundo de Compensação do Trabalho","FCT","Fundo de Compensação do Trabalho","FCT","Fundo de Compensação do Trabalho","FCT","Fundo de Compensação do Trabalho","FCT","Fundo de Compensação do Trabalho","FCT","Fundo de Compensação do Trabalho","FCT","Fundo de Compensação do Trabalho","FCT","Fundo de Compensação do Trabalho","FCT","Fundo de Compensação do Trabalho","FCT","Fundo de Compensação do Trabalho","FCT","Fundo de Compensação do Trabalho","FCT","Fundo de Compensação do Trabalho","FCT","Fundo de Compensação do Trabalho","FCT","Fundo de Compensação do Trabalho","FCT","Fundo de Compensação do Trabalho","FCT","Fundo de Compensação do Trabalho","FCT","Fundo de Compensação do Trabalho","FCT","Fundo de Compensação do Trabalho","FCT","Fundo de Compensação do Trabalho","FCT","Fundo de Compensação do Trabalho","FCT","Fundo de Compensação do Trabalho","FCT","Fundo de Compensação do Trabalho","FCT","Fundo de Compensação do Trabalho","FCT","Fundo de Compensação do Trabalho","FCT","Fundo de Compensação do Trabalho","FCT","Fundo de Compensação do Trabalho","FCT","Fundo de Compensação do Trabalho","FCT","Fundo de Compensação do Trabalho","FCT","Fundo de Compensação do Trabalho","FCT","Fundo de Compensação do Trabalho","FCT","Fundo de Compensação do Trabalho","FCT","Fundo de Compensação do Trabalho","FCT","Fundo de Compensação do Trabalho","FCT","Fundo de Compensação do Trabalho","FCT","Fundo de Compensação do Trabalho","FCT","Fundo de Compensação do Trabalho","FCT","Fundo de Compensação do Trabalho","FCT","Fundo de Compensação do Trabalho","FCT","Fundo de Compensação do Trabalho","FCT","Fundo de Compensação do Trabalho","FCT","Fundo de Compensação do Trabalho","FCT","Fundo de Compensação do Trabalho","FCT","Fundo de Compensação do Trabalho","FCT","Fundo de Compensação do Trabalho","FCT","Fundo de Compensação do Trabalho","FCT","Fundo de Compensação do Trabalho","FCT","Fundo de Compensação do Trabalho","FCT","Fundo de Compensação do Trabalho","FCT","Fundo de Compensação do Trabalho","FCT","Fundo de Compensação do Trabalho","FCT","Fundo de Compensação do Trabalho","FCT","Fundo de Compensação do Trabalho","FCT","Fundo de Compensação do Trabalho","FCT","Fundo de Compensação do Trabalho","FCT","Fundo de Compensação do Trabalho","FCT","Fundo de Compensação do Trabalho","FCT","Fundo de Compensação do Trabalho","FCT","Fundo de Compensação do Trabalho","FCT","Fundo de Compensação do Trabalho","FCT","Fundo de Compensação do Trabalho","FCT","Fundo de Compensação do Trabalho","FCT","Fundo de Compensação do Trabalho","FCT","Fundo de Compensação do Trabalho","FCT","Fundo de Compensação do Trabalho","FCT","Fundo de Compensação do Trabalho","FCT","Fundo de Compensação do Trabalho","FCT","Fundo de Compensação do Trabalho","FCT","Fundo de Compensação do Trabalho","FCT","Fundo de Compensação do Trabalho","FCT","Fundo de Compensação do Trabalho","FCT","Fundo de Compensação do Trabalho","FCT","Fundo de Compensação do Trabalho","FCT","Fundo de Compensação do Trabalho","FCT","Fundo de Compensação do Trabalho","FCT","Fundo de Compensação do Trabalho","FCT","Fundo de Compensação do Trabalho","FCT","Fundo de Compensação do Trabalho","FCT","Fundo de Compensação do Trabalho","FCT","Fundo de Compensação do Trabalho","FCT","Fundo de Compensação do Trabalho","FCT","Fundo de Compensação do Trabalho","FCT","Fundo de Compensação do Trabalho","FCT","Fundo de Compensação do Trabalho","FCT","Fundo de Compensação do Trabalho","FCT","Fundo de Compensação do Trabalho","FCT","Fundo de Compensação do Trabalho","FCT","Fundo de Compensação do Trabalho","FCT","Fundo de Compensação do Trabalho","FCT","Fundo de Compensação do Trabalho","FCT","Fundo de Compensação do Trabalho","FCT","Fundo de Compensação do Trabalho","FCT","Fundo de Compensação do Trabalho","FCT","Fundo de Compensação do Trabalho","FCT","Fundo de Compensação do Trabalho","FCT","Fundo de Compensação do Trabalho","FCT","Fundo de Compensação do Trabalho","FCT","Fundo de Compensação do Trabalho","FCT","Fundo de Compensação do Trabalho","FCT","Fundo de Compensação do Trabalho","FCT","Fundo de Compensação do Trabalho","FCT","Fundo de Compensação do Trabalho","FCT","Fundo de Compensação do Trabalho","FCT","Fundo de Compensação do Trabalho","FCT","Fundo de Compensação do Trabalho","FCT","Fundo de Compensação do Trabalho","FCT","Fundo de Compensação do Trabalho","FCT","Fundo de Compensação do Trabalho","FCT","Fundo de Compensação do Trabalho","FCT","Fundo de Compensação do Trabalho","FCT","Fundo de Compensação do Trabalho","FCT","Fundo de Compensação do Trabalho","FCT","Fundo de Compensação do Trabalho","FCT","Fundo de Compensação do Trabalho","FCT","Fundo de Compensação do Trabalho","FCT","Fundo de Compensação do Trabalho","FCT","Fundo de Compensação do Trabalho","FCT","Fundo de Compensação do Trabalho","FCT","Fundo de Compensação do Trabalho","FCT","Fundo de Compensação do Trabalho","FCT","Fundo de Compensação do Trabalho","FCT","Fundo de Compensação do Trabalho","FCT","Fundo de Compensação do Trabalho","FCT","Fundo de Compensação do Trabalho","FCT","Fundo de Compensação do Trabalho","FCT","Fundo de Compensação do Trabalho","FCT","Fundo de Compensação do Trabalho","FCT","Fundo de Compensação do Trabalho","FCT","Fundo de Compensação do Trabalho","FCT","Fundo de Compensação do Trabalho","FCT","Fundo de Compensação do Trabalho","FCT","Fundo de Compensação do Trabalho","FCT","Fundo de Compensação do Trabalho","FCT","Fundo de Compensação do Trabalho","FCT","Fundo de Compensação do Trabalho","FCT","Fundo de Compensação do Trabalho","FCT","Fundo de Compensação do Trabalho","FCT","Fundo de Compensação do Trabalho","FCT","Fundo de Compensação do Trabalho","FCT","Fundo de Compensação do Trabalho","FCT","Fundo de Compensação do Trabalho","FCT","Fundo de Compensação do Trabalho","FCT","Fundo de Compensação do Trabalho","FCT","Fundo de Compensação do Trabalho","FCT","Fundo de Compensação do Trabalho","FCT","Fundo de Compensação do Trabalho","FCT","Fundo de Compensação do Trabalho","FCT","Fundo de Compensação do Trabalho","FCT","Fundo de Compensação do Trabalho","FCT","Fundo de Compensação do Trabalho","FCT","Fundo de Compensação do Trabalho","FCT","Fundo de Compensação do Trabalho","FCT","Fundo de Compensação do Trabalho","FCT","Fundo de Compensação do Trabalho","FCT","Fundo de Compensação do Trabalho","FCT","Fundo de Compensação do Trabalho","FCT","Fundo de Compensação do Trabalho","FCT","Fundo de Compensação do Trabalho","FCT","Fundo de Compensação do Trabalho","FCT","Fundo de Compensação do Trabalho","FCT","Fundo de Compensação do Trabalho","FCT","Fundo de Compensação do Trabalho","FCT","Fundo de Compensação do Trabalho","FCT","Fundo de Compensação do Trabalho","FCT","Fundo de Compensação do Trabalho","FCT","Fundo de Compensação do Trabalho","FCT","Fundo de Compensação do Trabalho","FCT","Fundo de Compensação do Trabalho","FCT","Fundo de Compensação do Trabalho","FCT","Fundo de Compensação do Trabalho","FCT","Fundo de Compensação do Trabalho","FCT","Fundo de Compensação do Trabalho","FCT","Fundo de Compensação do Trabalho","FCT","Fundo de Compensação do Trabalho","FCT","Fundo de Compensação do Trabalho","FCT","Fundo de Compensação do Trabalho","FCT","Fundo de Compensação do Trabalho","FCT","Fundo de Compensação do Trabalho","FCT","Fundo de Compensação do Trabalho","FCT","Fundo de Compensação do Trabalho","FCT","Fundo de Compensação do Trabalho","FCT","Fundo de Compensação do Trabalho","FCT","Fundo de Compensação do Trabalho","FCT","Fundo de Compensação do Trabalho","FCT","Fundo de Compensação do Trabalho","FCT","Fundo de Compensação do Trabalho","FCT","Fundo de Compensação do Trabalho","FCT","Fundo de Compensação do Trabalho","FCT","Fundo de Compensação do Trabalho","FCT","Fundo de Compensação do Trabalho","FCT","Fundo de Compensação do Trabalho","FCT","Fundo de Compensação do Trabalho","FCT","Fundo de Compensação do Trabalho","FCT","Fundo de Compensação do Trabalho","FCT","Fundo de Compensação do Trabalho","FCT","Fundo de Compensação do Trabalho","FCT","Fundo de Compensação do Trabalho","FCT","Fundo de Compensação do Trabalho","FCT","Fundo de Compensação do Trabalho","FCT","Fundo de Compensação do Trabalho","FCT","Fundo de Compensação do Trabalho","FCT","Fundo de Compensação do Trabalho","FCT","Fundo de Compensação do Trabalho","FCT","Fundo de Compensação do Trabalho","FCT","Fundo de Compensação do Trabalho","FCT","Fundo de Compensação do Trabalho","FCT","Fundo de Compensação do Trabalho","FCT","Fundo de Compensação do Trabalho","FCT","Fundo de Compensação do Trabalho","FCT","Fundo de Compensação do Trabalho","FCT","Fundo de Compensação do Trabalho","FCT","Fundo de Compensação do Trabalho","FCT","Fundo de Compensação do Trabalho","FCT","Fundo de Compensação do Trabalho","FCT","Fundo de Compensação do Trabalho","FCT","Fundo de Compensação do Trabalho","FCT","Fundo de Compensação do Trabalho","FCT","Fundo de Compensação do Trabalho","FCT","Fundo de Compensação do Trabalho","FCT","Fundo de Compensação do Trabalho","FCT","Fundo de Compensação do Trabalho","FCT","Fundo de Compensação do Trabalho","FCT","Fundo de Compensação do Trabalho","FCT","Fundo de Compensação do Trabalho","FCT","Fundo de Compensação do Trabalho","FCT","Fundo de Compensação do Trabalho","FCT","Fundo de Compensação do Trabalho","FCT","Fundo de Compensação do Trabalho","FCT","Fundo de Compensação do Trabalho","FCT","Fundo de Compensação do Trabalho","FCT","Fundo de Compensação do Trabalho","FCT","Fundo de Compensação do Trabalho","FCT","Fundo de Compensação do Trabalho","FCT","Fundo de Compensação do Trabalho","FCT","Fundo de Compensação do Trabalho","FCT","Fundo de Compensação do Trabalho","FCT","Fundo de Compensação do Trabalho","FCT","Fundo de Compensação do Trabalho","FCT","Fundo de Compensação do Trabalho","FCT","Fundo de Compensação do Trabalho","FCT","Fundo de Compensação do Trabalho","FCT","Fundo de Compensação do Trabalho","FCT","Fundo de Compensação do Trabalho","FCT","Fundo de Compensação do Trabalho","FCT","Fundo de Compensação do Trabalho","FCT","Fundo de Compensação do Trabalho","FCT","Fundo de Compensação do Trabalho","FCT","Fundo de Compensação do Trabalho","FCT","Fundo de Compensação do Trabalho","FCT","Fundo de Compensação do Trabalho","FCT","Fundo de Compensação do Trabalho","FCT","Fundo de Compensação do Trabalho","FCT","Fundo de Compensação do Trabalho","FCT","Fundo de Compensação do Trabalho","FCT","Fundo de Compensação do Trabalho","FCT","Fundo de Compensação do Trabalho","FCT","Fundo de Compensação do Trabalho","FCT","Fundo de Compensação do Trabalho","FCT","Fundo de Compensação do Trabalho","FCT","Fundo de Compensação do Trabalho","FCT","Fundo de Compensação do Trabalho","FCT","Fundo de Compensação do Trabalho","FCT","Fundo de Compensação do Trabalho","FCT","Fundo de Compensação do Trabalho","FCT","Fundo de Compensação do Trabalho","FCT","Fundo de Compensação do Trabalho","FCT","Fundo de Compensação do Trabalho","FCT","Fundo de Compensação do Trabalho","FCT","Fundo de Compensação do Trabalho","FCT","Fundo de Compensação do Trabalho","FCT","Fundo de Compensação do Trabalho","FCT","Fundo de Compensação do Trabalho","FCT","Fundo de Compensação do Trabalho","FCT","Fundo de Compensação do Trabalho","FCT","Fundo de Compensação do Trabalho","FCT","Fundo de Compensação do Trabalho","FCT","Fundo de Compensação do Trabalho","FCT","Fundo de Compensação do Trabalho","FCT","Fundo de Compensação do Trabalho","FCT","Fundo de Compensação do Trabalho","FCT","Fundo de Compensação do Trabalho","FCT","Fundo de Compensação do Trabalho","FCT","Fundo de Compensação do Trabalho","FCT","Fundo de Compensação do Trabalho","FCT","Fundo de Compensação do Trabalho","FCT","Fundo de Compensação do Trabalho","FCT","Fundo de Compensação do Trabalho","FCT","Fundo de Compensação do Trabalho","FCT","Fundo de Compensação do Trabalho","FCT","Fundo de Compensação do Trabalho","FCT","Fundo de Compensação do Trabalho","FCT","Fundo de Compensação do Trabalho","FCT","Fundo de Compensação do Trabalho","FCT","Fundo de Compensação do Trabalho","FCT","Fundo de Compensação do Trabalho","FCT","Fundo de Compensação do Trabalho","FCT","Fundo de Compensação do Trabalho","FCT","Fundo de Compensação do Trabalho","FCT","Fundo de Compensação do Trabalho","FCT","Fundo de Compensação do Trabalho","FCT","Fundo de Compensação do Trabalho","FCT","Fundo de Compensação do Trabalho","FCT","Fundo de Compensação do Trabalho","FCT","Fundo de Compensação do Trabalho","FCT","Fundo de Compensação do Trabalho","FCT","Fundo de Compensação do Trabalho","FCT","Fundo de Compensação do Trabalho","FCT","Fundo de Compensação do Trabalho","FCT","Fundo de Compensação do Trabalho","FCT","Fundo de Compensação do Trabalho","FCT","Fundo de Compensação do Trabalho","FCT","Fundo de Compensação do Trabalho","FCT","Fundo de Compensação do Trabalho","FCT","Fundo de Compensação do Trabalho","FCT","Fundo de Compensação do Trabalho","FCT","Fundo de Compensação do Trabalho","FCT","Fundo de Compensação do Trabalho","FCT","Fundo de Compensação do Trabalho","FCT","Fundo de Compensação do Trabalho","FCT","Fundo de Compensação do Trabalho","FCT","Fundo de Compensação do Trabalho","FCT","Fundo de Compensação do Trabalho","FCT","Fundo de Compensação do Trabalho","FCT","Fundo de Compensação do Trabalho","FCT","Fundo de Compensação do Trabalho","FCT","Fundo de Compensação do Trabalho","FCT","Fundo de Compensação do Trabalho","FCT","Fundo de Compensação do Trabalho","FCT","Fundo de Compensação do Trabalho","FCT","Fundo de Compensação do Trabalho","FCT","Fundo de Compensação do Trabalho","FCT","Fundo de Compensação do Trabalho","FCT","Fundo de Compensação do Trabalho","FCT","Fundo de Compensação do Trabalho","FCT","Fundo de Compensação do Trabalho","FCT","Fundo de Compensação do Trabalho","FCT","Fundo de Compensação do Trabalho","FCT","Fundo de Compensação do Trabalho","FCT","Fundo de Compensação do Trabalho","FCT","Fundo de Compensação do Trabalho","FCT","Fundo de Compensação do Trabalho","FCT","Fundo de Compensação do Trabalho","FCT","Fundo de Compensação do Trabalho","FCT","Fundo de Compensação do Trabalho","FCT","Fundo de Compensação do Trabalho","FCT","Fundo de Compensação do Trabalho","FCT","Fundo de Compensação do Trabalho","FCT","Fundo de Compensação do Trabalho","FCT","Fundo de Compensação do Trabalho","FCT","Fundo de Compensação do Trabalho","FCT","Fundo de Compensação do Trabalho","FCT","Fundo de Compensação do Trabalho","FCT","Fundo de Compensação do Trabalho","FCT","Fundo de Compensação do Trabalho","FCT","Fundo de Compensação do Trabalho","FCT","Fundo de Compensação do Trabalho","FCT","Fundo de Compensação do Trabalho","FCT","Fundo de Compensação do Trabalho","FCT","Fundo de Compensação do Trabalho","FCT","Fundo de Compensação do Trabalho","FCT","Fundo de Compensação do Trabalho","FCT","Fundo de Compensação do Trabalho","FCT","Fundo de Compensação do Trabalho","FCT","Fundo de Compensação do Trabalho","FCT","Fundo de Compensação do Trabalho","FCT","Fundo de Compensação do Trabalho","FCT","Fundo de Compensação do Trabalho","FCT","Fundo de Compensação do Trabalho","FCT","Fundo de Compensação do Trabalho","FCT","Fundo de Compensação do Trabalho","FCT","Fundo de Compensação do Trabalho","FCT","Fundo de Compensação do Trabalho","FCT","Fundo de Compensação do Trabalho","FCT","Fundo de Compensação do Trabalho","FCT","Fundo de Compensação do Trabalho","FCT","Fundo de Compensação do Trabalho","FCT","Fundo de Compensação do Trabalho","FCT","Fundo de Compensação do Trabalho","FCT","Fundo de Compensação do Trabalho","FCT","Fundo de Compensação do Trabalho","FCT","Fundo de Compensação do Trabalho","FCT","Fundo de Compensação do Trabalho","FCT","Fundo de Compensação do Trabalho","FCT","Fundo de Compensação do Trabalho","FCT","Fundo de Compensação do Trabalho","FCT","Fundo de Compensação do Trabalho","FCT","Fundo de Compensação do Trabalho","FCT","Fundo de Compensação do Trabalho","FCT","Fundo de Compensação do Trabalho","FCT","Fundo de Compensação do Trabalho","FCT","Fundo de Compensação do Trabalho","FCT","Fundo de Compensação do Trabalho","FCT","Fundo de Compensação do Trabalho","FCT","Fundo de Compensação do Trabalho","FCT","Fundo de Compensação do Trabalho","FCT","Fundo de Compensação do Trabalho","FCT","Fundo de Compensação do Trabalho","FCT","Fundo de Compensação do Trabalho","FCT","Fundo de Compensação do Trabalho","FCT","Fundo de Compensação do Trabalho","FCT","Fundo de Compensação do Trabalho","FCT","Fundo de Compensação do Trabalho","FCT","Fundo de Compensação do Trabalho","FCT","Fundo de Compensação do Trabalho","FCT","Fundo de Compensação do Trabalho","FCT","Fundo de Compensação do Trabalho","FCT","Fundo de Compensação do Trabalho","FCT","Fundo de Compensação do Trabalho","FCT","Fundo de Compensação do Trabalho","FCT","Fundo de Compensação do Trabalho","FCT","Fundo de Compensação do Trabalho","FCT","Fundo de Compensação do Trabalho","FCT","Fundo de Compensação do Trabalho","FCT","Fundo de Compensação do Trabalho","FCT","Fundo de Compensação do Trabalho","FCT","Fundo de Compensação do Trabalho","FCT","Fundo de Compensação do Trabalho","FCT","Fundo de Compensação do Trabalho","FCT","Fundo de Compensação do Trabalho","FCT","Fundo de Compensação do Trabalho","FCT","Fundo de Compensação do Trabalho","FCT","Fundo de Compensação do Trabalho","FCT","Fundo de Compensação do Trabalho","FCT","Fundo de Compensação do Trabalho","FCT","Fundo de Compensação do Trabalho","FCT","Fundo de Compensação do Trabalho","FCT","Fundo de Compensação do Trabalho","FCT","Fundo de Compensação do Trabalho","FCT","Fundo de Compensação do Trabalho","FCT","Fundo de Compensação do Trabalho","FCT","Fundo de Compensação do Trabalho","FCT","Fundo de Compensação do Trabalho","FCT","Fundo de Compensação do Trabalho","FCT","Fundo de Compensação do Trabalho","FCT","Fundo de Compensação do Trabalho","FCT","Fundo de Compensação do Trabalho","FCT","Fundo de Compensação do Trabalho","FCT","Fundo de Compensação do Trabalho","FCT","Fundo de Compensação do Trabalho","FCT","Fundo de Compensação do Trabalho","FCT","Fundo de Compensação do Trabalho","FCT","Fundo de Compensação do Trabalho","FCT","Fundo de Compensação do Trabalho","FCT","Fundo de Compensação do Trabalho","FCT","Fundo de Compensação do Trabalho","FCT","Fundo de Compensação do Trabalho","FCT","Fundo de Compensação do Trabalho","FCT","Fundo de Compensação do Trabalho","FCT","Fundo de Compensação do Trabalho","FCT","Fundo de Compensação do Trabalho","FCT","Fundo de Compensação do Trabalho","FCT","Fundo de Compensação do Trabalho","FCT","Fundo de Compensação do Trabalho","FCT","Fundo de Compensação do Trabalho","FCT","Fundo de Compensação do Trabalho","FCT","Fundo de Compensação do Trabalho","FCT","Fundo de Compensação do Trabalho","FCT","Fundo de Compensação do Trabalho","FCT","Fundo de Compensação do Trabalho","FCT","Fundo de Compensação do Trabalho","FCT","Fundo de Compensação do Trabalho","FCT","Fundo de Compensação do Trabalho","FCT","Fundo de Compensação do Trabalho","FCT","Fundo de Compensação do Trabalho","FCT","Fundo de Compensação do Trabalho","FCT","Fundo de Compensação do Trabalho","FCT","Fundo de Compensação do Trabalho","FCT","Fundo de Compensação do Trabalho","FCT","Fundo de Compensação do Trabalho","FCT","Fundo de Compensação do Trabalho","FCT","Fundo de Compensação do Trabalho","FCT","Fundo de Compensação do Trabalho","FCT","Fundo de Compensação do Trabalho","FCT","Fundo de Compensação do Trabalho","FCT","Fundo de Compensação do Trabalho","FCT","Fundo de Compensação do Trabalho","FCT","Fundo de Compensação do Trabalho","FCT","Fundo de Compensação do Trabalho","FCT","Fundo de Compensação do Trabalho","FCT","Fundo de Compensação do Trabalho","FCT","Fundo de Compensação do Trabalho","FCT","Fundo de Compensação do Trabalho","FCT","Fundo de Compensação do Trabalho","FCT","Fundo de Compensação do Trabalho","FCT","Fundo de Compensação do Trabalho","FCT","Fundo de Compensação do Trabalho","FCT","Fundo de Compensação do Trabalho","FCT","Fundo de Compensação do Trabalho","FCT","Fundo de Compensação do Trabalho","FCT","Fundo de Compensação do Trabalho","FCT","Fundo de Compensação do Trabalho","FCT","Fundo de Compensação do Trabalho","FCT","Fundo de Compensação do Trabalho","FCT","Fundo de Compensação do Trabalho","FCT","Fundo de Compensação do Trabalho","FCT","Fundo de Compensação do Trabalho","FCT","Fundo de Compensação do Trabalho","FCT","Fundo de Compensação do Trabalho","FCT","Fundo de Compensação do Trabalho","FCT","Fundo de Compensação do Trabalho","FCT","Fundo de Compensação do Trabalho","FCT","Fundo de Compensação do Trabalho","FCT","Fundo de Compensação do Trabalho","FCT","Fundo de Compensação do Trabalho","FCT","Fundo de Compensação do Trabalho","FCT","Fundo de Compensação do Trabalho","FCT","Fundo de Compensação do Trabalho","FCT","Fundo de Compensação do Trabalho","FCT","Fundo de Compensação do Trabalho","FCT","Fundo de Compensação do Trabalho","FCT","Fundo de Compensação do Trabalho","FCT","Fundo de Compensação do Trabalho","FCT","Fundo de Compensação do Trabalho","FCT","Fundo de Compensação do Trabalho","FCT","Fundo de Compensação do Trabalho","FCT","Fundo de Compensação do Trabalho","FCT","Fundo de Compensação do Trabalho","FCT","Fundo de Compensação do Trabalho","FCT","Fundo de Compensação do Trabalho","FCT","Fundo de Compensação do Trabalho","FCT","Fundo de Compensação do Trabalho","FCT","Fundo de Compensação do Trabalho","FCT","Fundo de Compensação do Trabalho","FCT","Fundo de Compensação do Trabalho","FCT","Fundo de Compensação do Trabalho","FCT","Fundo de Compensação do Trabalho","FCT","Fundo de Compensação do Trabalho","FCT","Fundo de Compensação do Trabalho","FCT","Fundo de Compensação do Trabalho","FCT","Fundo de Compensação do Trabalho","FCT","Fundo de Compensação do Trabalho","FCT","Fundo de Compensação do Trabalho","FCT","Fundo de Compensação do Trabalho","FCT","Fundo de Compensação do Trabalho","FCT","Fundo de Compensação do Trabalho","FCT","Fundo de Compensação do Trabalho","FCT","Fundo de Compensação do Trabalho","FCT","Fundo de Compensação do Trabalho","FCT","Fundo de Compensação do Trabalho","FCT","Fundo de Compensação do Trabalho","FCT","Fundo de Compensação do Trabalho","FCT","Fundo de Compensação do Trabalho","FCT","Fundo de Compensação do Trabalho","FCT","Fundo de Compensação do Trabalho","FCT","Fundo de Compensação do Trabalho","FCT","Fundo de Compensação do Trabalho","FCT","Fundo de Compensação do Trabalho","FCT","Fundo de Compensação do Trabalho","FCT","Fundo de Compensação do Trabalho","FCT","Fundo de Compensação do Trabalho","FCT","Fundo de Compensação do Trabalho","FCT","Fundo de Compensação do Trabalho","FCT","Fundo de Compensação do Trabalho","FCT","Fundo de Compensação do Trabalho","FCT","Fundo de Compensação do Trabalho","FCT","Fundo de Compensação do Trabalho","FCT","Fundo de Compensação do Trabalho","FCT","Fundo de Compensação do Trabalho","FCT","Fundo de Compensação do Trabalho","FCT","Fundo de Compensação do Trabalho","FCT","Fundo de Compensação do Trabalho","FCT","Fundo de Compensação do Trabalho","FCT","Fundo de Compensação do Trabalho","FCT","Fundo de Compensação do Trabalho","FCT","Fundo de Compensação do Trabalho","FCT","Fundo de Compensação do Trabalho","FCT","Fundo de Compensação do Trabalho","FCT","Fundo de Compensação do Trabalho","FCT","Fundo de Compensação do Trabalho","FCT","Fundo de Compensação do Trabalho","FCT","Fundo de Compensação do Trabalho","FCT","Fundo de Compensação do Trabalho","FCT","Fundo de Compensação do Trabalho","FCT","Fundo de Compensação do Trabalho","FCT","Fundo de Compensação do Trabalho","FCT","Fundo de Compensação do Trabalho","FCT","Fundo de Compensação do Trabalho","FCT","Fundo de Compensação do Trabalho","FCT","Fundo de Compensação do Trabalho","FCT","Fundo de Compensação do Trabalho","FCT","Fundo de Compensação do Trabalho","FCT","Fundo de Compensação do Trabalho","FCT","Fundo de Compensação do Trabalho","FCT","Fundo de Compensação do Trabalho","FCT","Fundo de Compensação do Trabalho","FCT","Fundo de Compensação do Trabalho","FCT","Fundo de Compensação do Trabalho","FCT","Fundo de Compensação do Trabalho","FCT","Fundo de Compensação do Trabalho","FCT","Fundo de Compensação do Trabalho","FCT","Fundo de Compensação do Trabalho","FCT","Fundo de Compensação do Trabalho","FCT","Fundo de Compensação do Trabalho","FCT","Fundo de Compensação do Trabalho","FCT","Fundo de Compensação do Trabalho","FCT","Fundo de Compensação do Trabalho","FCT","Fundo de Compensação do Trabalho","FCT","Fundo de Compensação do Trabalho","FCT","Fundo de Compensação do Trabalho","FCT","Fundo de Compensação do Trabalho","FCT","Fundo de Compensação do Trabalho","FCT","Fundo de Compensação do Trabalho","FCT","Fundo de Compensação do Trabalho","FCT","Fundo de Compensação do Trabalho","FCT","Fundo de Compensação do Trabalho","FCT","Fundo de Compensação do Trabalho","FCT","Fundo de Compensação do Trabalho","FCT","Fundo de Compensação do Trabalho","FCT","Fundo de Compensação do Trabalho","FCT","Fundo de Compensação do Trabalho","FCT","Fundo de Compensação do Trabalho","FCT","Fundo de Compensação do Trabalho","FCT","Fundo de Compensação do Trabalho","FCT","Fundo de Compensação do Trabalho","FCT","Fundo de Compensação do Trabalho","FCT","Fundo de Compensação do Trabalho","FCT","Fundo de Compensação do Trabalho","FCT","Fundo de Compensação do Trabalho","FCT","Fundo de Compensação do Trabalho","FCT","Fundo de Compensação do Trabalho","FCT","Fundo de Compensação do Trabalho","FCT","Fundo de Compensação do Trabalho","FCT","Fundo de Compensação do Trabalho","FCT","Fundo de Compensação do Trabalho","FCT","Fundo de Compensação do Trabalho","FCT","Fundo de Compensação do Trabalho","FCT","Fundo de Compensação do Trabalho","FCT","Fundo de Compensação do Trabalho","FCT","Fundo de Compensação do Trabalho","FCT","Fundo de Compensação do Trabalho","FCT","Fundo de Compensação do Trabalho","FCT","Fundo de Compensação do Trabalho","FCT","Fundo de Compensação do Trabalho","FCT","Fundo de Compensação do Trabalho","FCT","Fundo de Compensação do Trabalho","FCT","Fundo de Compensação do Trabalho","FCT","Fundo de Compensação do Trabalho","FCT","Fundo de Compensação do Trabalho","FCT","Fundo de Compensação do Trabalho","FCT","Fundo de Compensação do Trabalho","FCT","Fundo de Compensação do Trabalho","FCT","Fundo de Compensação do Trabalho","FCT","Fundo de Compensação do Trabalho","FCT","Fundo de Compensação do Trabalho","FCT","Fundo de Compensação do Trabalho","FCT","Fundo de Compensação do Trabalho","FCT","Fundo de Compensação do Trabalho","FCT","Fundo de Compensação do Trabalho","FCT","Fundo de Compensação do Trabalho","FCT","Fundo de Compensação do Trabalho","FCT","Fundo de Compensação do Trabalho","FCT","Fundo de Compensação do Trabalho","FCT","Fundo de Compensação do Trabalho","FCT","Fundo de Compensação do Trabalho","FCT","Fundo de Compensação do Trabalho","FCT","Fundo de Compensação do Trabalho","FCT","Fundo de Compensação do Trabalho","FCT","Fundo de Compensação do Trabalho","FCT","Fundo de Compensação do Trabalho","FCT","Fundo de Compensação do Trabalho","FCT","Fundo de Compensação do Trabalho","FCT","Fundo de Compensação do Trabalho","FCT","Fundo de Compensação do Trabalho","FCT","Fundo de Compensação do Trabalho","FCT","Fundo de Compensação do Trabalho","FCT","Fundo de Compensação do Trabalho","FCT","Fundo de Compensação do Trabalho","FCT","Fundo de Compensação do Trabalho","FCT","Fundo de Compensação do Trabalho","FCT","Fundo de Compensação do Trabalho","FCT","Fundo de Compensação do Trabalho","FCT","Fundo de Compensação do Trabalho","FCT","Fundo de Compensação do Trabalho","FCT","Fundo de Compensação do Trabalho","FCT","Fundo de Compensação do Trabalho","FCT","Fundo de Compensação do Trabalho","FCT","Fundo de Compensação do Trabalho","FCT","Fundo de Compensação do Trabalho","FCT","Fundo de Compensação do Trabalho","FCT","Fundo de Compensação do Trabalho","FCT","Fundo de Compensação do Trabalho","FCT","Fundo de Compensação do Trabalho","FCT","Fundo de Compensação do Trabalho","FCT","Fundo de Compensação do Trabalho","FCT","Fundo de Compensação do Trabalho","FCT","Fundo de Compensação do Trabalho","FCT","Fundo de Compensação do Trabalho","FCT","Fundo de Compensação do Trabalho","FCT","Fundo de Compensação do Trabalho","FCT","Fundo de Compensação do Trabalho","FCT","Fundo de Compensação do Trabalho","FCT","Fundo de Compensação do Trabalho","FCT","Fundo de Compensação do Trabalho","FCT","Fundo de Compensação do Trabalho","FCT","Fundo de Compensação do Trabalho","FCT","Fundo de Compensação do Trabalho","FCT","Fundo de Compensação do Trabalho","FCT","Fundo de Compensação do Trabalho","FCT","Fundo de Compensação do Trabalho","FCT","Fundo de Compensação do Trabalho","FCT","Fundo de Compensação do Trabalho","FCT","Fundo de Compensação do Trabalho","FCT","Fundo de Compensação do Trabalho","FCT","Fundo de Compensação do Trabalho","FCT","Fundo de Compensação do Trabalho","FCT","Fundo de Compensação do Trabalho","FCT","Fundo de Compensação do Trabalho","FCT","Fundo de Compensação do Trabalho","FCT","Fundo de Compensação do Trabalho","FCT","Fundo de Compensação do Trabalho","FCT","Fundo de Compensação do Trabalho","FCT","Fundo de Compensação do Trabalho","FCT","Fundo de Compensação do Trabalho","FCT","Fundo de Compensação do Trabalho","FCT","Fundo de Compensação do Trabalho","FCT","Fundo de Compensação do Trabalho","FCT","Fundo de Compensação do Trabalho","FCT","Fundo de Compensação do Trabalho","FCT","Fundo de Compensação do Trabalho","FCT","Fundo de Compensação do Trabalho","FCT","Fundo de Compensação do Trabalho","FCT","Fundo de Compensação do Trabalho","FCT","Fundo de Compensação do Trabalho","FCT","Fundo de Compensação do Trabalho","FCT","Fundo de Compensação do Trabalho","FCT","Fundo de Compensação do Trabalho","FCT","Fundo de Compensação do Trabalho","FCT","Fundo de Compensação do Trabalho","FCT","Fundo de Compensação do Trabalho","FCT","Fundo de Compensação do Trabalho","FCT","Fundo de Compensação do Trabalho","FCT","Fundo de Compensação do Trabalho","FCT","Fundo de Compensação do Trabalho","FCT","Fundo de Compensação do Trabalho","FCT","Fundo de Compensação do Trabalho","FCT","Fundo de Compensação do Trabalho","FCT","Fundo de Compensação do Trabalho","FCT","Fundo de Compensação do Trabalho","FCT","Fundo de Compensação do Trabalho","FCT","Fundo de Compensação do Trabalho","FCT","Fundo de Compensação do Trabalho","FCT","Fundo de Compensação do Trabalho","FCT","Fundo de Compensação do Trabalho","FCT","Fundo de Compensação do Trabalho","FCT","Fundo de Compensação do Trabalho","FCT","Fundo de Compensação do Trabalho","FCT","Fundo de Compensação do Trabalho","FCT","Fundo de Compensação do Trabalho","FCT","Fundo de Compensação do Trabalho","FCT","Fundo de Compensação do Trabalho","FCT","Fundo de Compensação do Trabalho","FCT","Fundo de Compensação do Trabalho","FCT","Fundo de Compensação do Trabalho","FCT","Fundo de Compensação do Trabalho","FCT","Fundo de Compensação do Trabalho","FCT","Fundo de Compensação do Trabalho","FCT","Fundo de Compensação do Trabalho","FCT","Fundo de Compensação do Trabalho","FCT","Fundo de Compensação do Trabalho","FCT","Fundo de Compensação do Trabalho","FCT","Fundo de Compensação do Trabalho","FCT","Fundo de Compensação do Trabalho","FCT","Fundo de Compensação do Trabalho","FCT","Fundo de Compensação do Trabalho","FCT","Fundo de Compensação do Trabalho","FCT","Fundo de Compensação do Trabalho","FCT","Fundo de Compensação do Trabalho","FCT","Fundo de Compensação do Trabalho","FCT","Fundo de Compensação do Trabalho","FCT","Fundo de Compensação do Trabalho","FCT","Fundo de Compensação do Trabalho","FCT","Fundo de Compensação do Trabalho","FCT","Fundo de Compensação do Trabalho","FCT","Fundo de Compensação do Trabalho","FCT","Fundo de Compensação do Trabalho","FCT","Fundo de Compensação do Trabalho","FCT","Fundo de Compensação do Trabalho","FCT","Fundo de Compensação do Trabalho","FCT","Fundo de Compensação do Trabalho","FCT","Fundo de Compensação do Trabalho","FCT","Fundo de Compensação do Trabalho","FCT","Fundo de Compensação do Trabalho","FCT","Fundo de Compensação do Trabalho","FCT","Fundo de Compensação do Trabalho","FCT","Fundo de Compensação do Trabalho","FCT","Fundo de Compensação do Trabalho","FCT","Fundo de Compensação do Trabalho","FCT","Fundo de Compensação do Trabalho","FCT","Fundo de Compensação do Trabalho","FCT","Fundo de Compensação do Trabalho","FCT","Fundo de Compensação do Trabalho","FCT","Fundo de Compensação do Trabalho","FCT","Fundo de Compensação do Trabalho","FCT","Fundo de Compensação do Trabalho","FCT","Fundo de Compensação do Trabalho","FCT","Fundo de Compensação do Trabalho","FCT","Fundo de Compensação do Trabalho","FCT","Fundo de Compensação do Trabalho","FCT","Fundo de Compensação do Trabalho","FCT","Fundo de Compensação do Trabalho","FCT","Fundo de Compensação do Trabalho","FCT","Fundo de Compensação do Trabalho","FCT","Fundo de Compensação do Trabalho","FCT","Fundo de Compensação do Trabalho","FCT","Fundo de Compensação do Trabalho","FCT","Fundo de Compensação do Trabalho","FCT","Fundo de Compensação do Trabalho","FCT","Fundo de Compensação do Trabalho","FCT","Fundo de Compensação do Trabalho","FCT","Fundo de Compensação do Trabalho","FCT","Fundo de Compensação do Trabalho","FCT","Fundo de Compensação do Trabalho","FCT","Fundo de Compensação do Trabalho","FCT","Fundo de Compensação do Trabalho","FCT","Fundo de Compensação do Trabalho","FCT","Fundo de Compensação do Trabalho","FCT","Fundo de Compensação do Trabalho","FCT","Fundo de Compensação do Trabalho","FCT","Fundo de Compensação do Trabalho","FCT","Fundo de Compensação do Trabalho","FCT","Fundo de Compensação do Trabalho","FCT","Fundo de Compensação do Trabalho","FCT","Fundo de Compensação do Trabalho","FCT","Fundo de Compensação do Trabalho","FCT","Fundo de Compensação do Trabalho","FCT","Fundo de Compensação do Trabalho","FCT","Fundo de Compensação do Trabalho","FCT","Fundo de Compensação do Trabalho","FCT","Fundo de Compensação do Trabalho","FCT","Fundo de Compensação do Trabalho","FCT","Fundo de Compensação do Trabalho","FCT","Fundo de Compensação do Trabalho","FCT","Fundo de Compensação do Trabalho","FCT","Fundo de Compensação do Trabalho","FCT","Fundo de Compensação do Trabalho","FCT","Fundo de Compensação do Trabalho","FCT","Fundo de Compensação do Trabalho","FCT","Fundo de Compensação do Trabalho","FCT","Fundo de Compensação do Trabalho","FCT","Fundo de Compensação do Trabalho","FCT","Fundo de Compensação do Trabalho","FCT","Fundo de Compensação do Trabalho","FCT","Fundo de Compensação do Trabalho","FCT","Fundo de Compensação do Trabalho","FCT","Fundo de Compensação do Trabalho","FCT","Fundo de Compensação do Trabalho","FCT","Fundo de Compensação do Trabalho","FCT","Fundo de Compensação do Trabalho","FCT","Fundo de Compensação do Trabalho","FCT","Fundo de Compensação do Trabalho","FCT","Fundo de Compensação do Trabalho","FCT","Fundo de Compensação do Trabalho","FCT","Fundo de Compensação do Trabalho","FCT","Fundo de Compensação do Trabalho","FCT","Fundo de Compensação do Trabalho","FCT","Fundo de Compensação do Trabalho","FCT","Fundo de Compensação do Trabalho","FCT","Fundo de Compensação do Trabalho","FCT","Fundo de Compensação do Trabalho","FCT","Fundo de Compensação do Trabalho","FCT","Fundo de Compensação do Trabalho","FCT","Fundo de Compensação do Trabalho","FCT","Fundo de Compensação do Trabalho","FCT","Fundo de Compensação do Trabalho","FCT","Fundo de Compensação do Trabalho","FCT","Fundo de Compensação do Trabalho","FCT","Fundo de Compensação do Trabalho","FCT","Fundo de Compensação do Trabalho","FCT","Fundo de Compensação do Trabalho","FCT","Fundo de Compensação do Trabalho","FCT","Fundo de Compensação do Trabalho","FCT","Fundo de Compensação do Trabalho","FCT","Fundo de Compensação do Trabalho","FCT","Fundo de Compensação do Trabalho","FCT","Fundo de Compensação do Trabalho","FCT","Fundo de Compensação do Trabalho","FCT","Fundo de Compensação do Trabalho","FCT","Fundo de Compensação do Trabalho","FCT","Fundo de Compensação do Trabalho","FCT","Fundo de Compensação do Trabalho","FCT","Fundo de Compensação do Trabalho","FCT","Fundo de Compensação do Trabalho","FCT","Fundo de Compensação do Trabalho","FCT","Fundo de Compensação do Trabalho","FCT","Fundo de Compensação do Trabalho","FCT","Fundo de Compensação do Trabalho","FCT","Fundo de Compensação do Trabalho","FCT","Fundo de Compensação do Trabalho","FCT","Fundo de Compensação do Trabalho","FCT","Fundo de Compensação do Trabalho","FCT","Fundo de Compensação do Trabalho","FCT","Fundo de Compensação do Trabalho","FCT","Fundo de Compensação do Trabalho","FCT","Fundo de Compensação do Trabalho","FCT","Fundo de Compensação do Trabalho","FCT","Fundo de Compensação do Trabalho","FCT","Fundo de Compensação do Trabalho","FCT","Fundo de Compensação do Trabalho","FCT","Fundo de Compensação do Trabalho","FCT","Fundo de Compensação do Trabalho","FCT","Fundo de Compensação do Trabalho","FCT","Fundo de Compensação do Trabalho","FCT","Fundo de Compensação do Trabalho","FCT","Fundo de Compensação do Trabalho","FCT","Fundo de Compensação do Trabalho","FCT","Fundo de Compensação do Trabalho","FCT","Fundo de Compensação do Trabalho","FCT","Fundo de Compensação do Trabalho","FCT","Fundo de Compensação do Trabalho","FCT","Fundo de Compensação do Trabalho","FCT","Fundo de Compensação do Trabalho","FCT","Fundo de Compensação do Trabalho","FCT","Fundo de Compensação do Trabalho","FCT","Fundo de Compensação do Trabalho","FCT","Fundo de Compensação do Trabalho","FCT","Fundo de Compensação do Trabalho","FCT","Fundo de Compensação do Trabalho","FCT","Fundo de Compensação do Trabalho","FCT","Fundo de Compensação do Trabalho","FCT","Fundo de Compensação do Trabalho","FCT","Fundo de Compensação do Trabalho","FCT","Fundo de Compensação do Trabalho","FCT","Fundo de Compensação do Trabalho","FCT","Fundo de Compensação do Trabalho","FCT","Fundo de Compensação do Trabalho","FCT","Fundo de Compensação do Trabalho","FCT","Fundo de Compensação do Trabalho","FCT","Fundo de Compensação do Trabalho","FCT","Fundo de Compensação do Trabalho","FCT","Fundo de Compensação do Trabalho","FCT","Fundo de Compensação do Trabalho","FCT","Fundo de Compensação do Trabalho","FCT","Fundo de Compensação do Trabalho","FCT","Fundo de Compensação do Trabalho","FCT","Fundo de Compensação do Trabalho","FCT","Fundo de Compensação do Trabalho","FCT","Fundo de Compensação do Trabalho","FCT","Fundo de Compensação do Trabalho","FCT","Fundo de Compensação do Trabalho","FCT","Fundo de Compensação do Trabalho","FCT","Fundo de Compensação do Trabalho","FCT","Fundo de Compensação do Trabalho","FCT","Fundo de Compensação do Trabalho","FCT","Fundo de Compensação do Trabalho","FCT","Fundo de Compensação do Trabalho","FCT","Fundo de Compensação do Trabalho","FCT","Fundo de Compensação do Trabalho","FCT","Fundo de Compensação do Trabalho","FCT","Fundo de Compensação do Trabalho","FCT","Fundo de Compensação do Trabalho","FCT","Fundo de Compensação do Trabalho","FCT","Fundo de Compensação do Trabalho","FCT","Fundo de Compensação do Trabalho","FCT","Fundo de Compensação do Trabalho","FCT","Fundo de Compensação do Trabalho","FCT","Fundo de Compensação do Trabalho","FCT","Fundo de Compensação do Trabalho","FCT","Fundo de Compensação do Trabalho","FCT","Fundo de Compensação do Trabalho","FCT","Fundo de Compensação do Trabalho","FCT","Fundo de Compensação do Trabalho","FCT","Fundo de Compensação do Trabalho","FCT","Fundo de Compensação do Trabalho","FCT","Fundo de Compensação do Trabalho","FCT","Fundo de Compensação do Trabalho","FCT","Fundo de Compensação do Trabalho","FCT","Fundo de Compensação do Trabalho","FCT","Fundo de Compensação do Trabalho","FCT","Fundo de Compensação do Trabalho","FCT","Fundo de Compensação do Trabalho","FCT","Fundo de Compensação do Trabalho","FCT","Fundo de Compensação do Trabalho","FCT","Fundo de Compensação do Trabalho","FCT","Fundo de Compensação do Trabalho","FCT","Fundo de Compensação do Trabalho","FCT","Fundo de Compensação do Trabalho","FCT","Fundo de Compensação do Trabalho","FCT","Fundo de Compensação do Trabalho","FCT","Fundo de Compensação do Trabalho","FCT","Fundo de Compensação do Trabalho","FCT","Fundo de Compensação do Trabalho","FCT","Fundo de Compensação do Trabalho","FCT","Fundo de Compensação do Trabalho","FCT","Fundo de Compensação do Trabalho","FCT","Fundo de Compensação do Trabalho","FCT","Fundo de Compensação do Trabalho","FCT","Fundo de Compensação do Trabalho","FCT","Fundo de Compensação do Trabalho","FCT","Fundo de Compensação do Trabalho","FCT","Fundo de Compensação do Trabalho","FCT","Fundo de Compensação do Trabalho","FCT","Fundo de Compensação do Trabalho","FCT","Fundo de Compensação do Trabalho","FCT","Fundo de Compensação do Trabalho","FCT","Fundo de Compensação do Trabalho","FCT","Fundo de Compensação do Trabalho","FCT","Fundo de Compensação do Trabalho","FCT","Fundo de Compensação do Trabalho","FCT","Fundo de Compensação do Trabalho","FCT","Fundo de Compensação do Trabalho","FCT","Fundo de Compensação do Trabalho","FCT","Fundo de Compensação do Trabalho","FCT","Fundo de Compensação do Trabalho","FCT","Fundo de Compensação do Trabalho","FCT","Fundo de Compensação do Trabalho","FCT","Fundo de Compensação do Trabalho","FCT","Fundo de Compensação do Trabalho","FCT","Fundo de Compensação do Trabalho","FCT","Fundo de Compensação do Trabalho","FCT","Fundo de Compensação do Trabalho","FCT","Fundo de Compensação do Trabalho","FCT","Fundo de Compensação do Trabalho","FCT","Fundo de Compensação do Trabalho","FCT","Fundo de Compensação do Trabalho","FCT","Fundo de Compensação do Trabalho","FCT","Fundo de Compensação do Trabalho","FCT","Fundo de Compensação do Trabalho","FCT","Fundo de Compensação do Trabalho","FCT","Fundo de Compensação do Trabalho","FCT","Fundo de Compensação do Trabalho","FCT","Fundo de Compensação do Trabalho","FCT","Fundo de Compensação do Trabalho","FCT","Fundo de Compensação do Trabalho","FCT","Fundo de Compensação do Trabalho","FCT","Fundo de Compensação do Trabalho","FCT","Fundo de Compensação do Trabalho","FCT","Fundo de Compensação do Trabalho","FCT","Fundo de Compensação do Trabalho","FCT","Fundo de Compensação do Trabalho","FCT","Fundo de Compensação do Trabalho","FCT","Fundo de Compensação do Trabalho","FCT","Fundo de Compensação do Trabalho","FCT","Fundo de Compensação do Trabalho","FCT","Fundo de Compensação do Trabalho","FCT","Fundo de Compensação do Trabalho","FCT","Fundo de Compensação do Trabalho","FCT","Fundo de Compensação do Trabalho","FCT","Fundo de Compensação do Trabalho","FCT","Fundo de Compensação do Trabalho","FCT","Fundo de Compensação do Trabalho","FCT","Fundo de Compensação do Trabalho","FCT","Fundo de Compensação do Trabalho","FCT","Fundo de Compensação do Trabalho","FCT","Fundo de Compensação do Trabalho","FCT","Fundo de Compensação do Trabalho","FCT","Fundo de Compensação do Trabalho","FCT","Fundo de Compensação do Trabalho","FCT","Fundo de Compensação do Trabalho","FCT","Fundo de Compensação do Trabalho","FCT","Fundo de Compensação do Trabalho","FCT","Fundo de Compensação do Trabalho","FCT","Fundo de Compensação do Trabalho","FCT","Fundo de Compensação do Trabalho","FCT","Fundo de Compensação do Trabalho","FCT","Fundo de Compensação do Trabalho","FCT","Fundo de Compensação do Trabalho","FCT","Fundo de Compensação do Trabalho","FCT","Fundo de Compensação do Trabalho","FCT","Fundo de Compensação do Trabalho","FCT","Fundo de Compensação do Trabalho","FCT","Fundo de Compensação do Trabalho","FCT","Fundo de Compensação do Trabalho","FCT","Fundo de Compensação do Trabalho","FCT","Fundo de Compensação do Trabalho","FCT","Fundo de Compensação do Trabalho","FCT","Fundo de Compensação do Trabalho","FCT","Fundo de Compensação do Trabalho","FCT","Fundo de Compensação do Trabalho","FCT","Fundo de Compensação do Trabalho","FCT","Fundo de Compensação do Trabalho","FCT","Fundo de Compensação do Trabalho","FCT","Fundo de Compensação do Trabalho","FCT","Fundo de Compensação do Trabalho","FCT","Fundo de Compensação do Trabalho","FCT","Fundo de Compensação do Trabalho","FCT","Fundo de Compensação do Trabalho","FCT","Fundo de Compensação do Trabalho","FCT","Fundo de Compensação do Trabalho","FCT","Fundo de Compensação do Trabalho","FCT","Fundo de Compensação do Trabalho","FCT","Fundo de Compensação do Trabalho","FCT","Fundo de Compensação do Trabalho","FCT","Fundo de Compensação do Trabalho","FCT","Fundo de Compensação do Trabalho","FCT","Fundo de Compensação do Trabalho","FCT","Fundo de Compensação do Trabalho","FCT","Fundo de Compensação do Trabalho","FCT","Fundo de Compensação do Trabalho","FCT","Fundo de Compensação do Trabalho","FCT","Fundo de Compensação do Trabalho","FCT","Fundo de Compensação do Trabalho","FCT","Fundo de Compensação do Trabalho","FCT","Fundo de Compensação do Trabalho","FCT","Fundo de Compensação do Trabalho","FCT","Fundo de Compensação do Trabalho","FCT","Fundo de Compensação do Trabalho","FCT","Fundo de Compensação do Trabalho","FCT","Fundo de Compensação do Trabalho","FCT","Fundo de Compensação do Trabalho","FCT","Fundo de Compensação do Trabalho","FCT","Fundo de Compensação do Trabalho","FCT","Fundo de Compensação do Trabalho","FCT","Fundo de Compensação do Trabalho","FCT","Fundo de Compensação do Trabalho","FCT","Fundo de Compensação do Trabalho","FCT","Fundo de Compensação do Trabalho","FCT","Fundo de Compensação do Trabalho","FCT","Fundo de Compensação do Trabalho","FCT","Fundo de Compensação do Trabalho","FCT","Fundo de Compensação do Trabalho","FCT","Fundo de Compensação do Trabalho","FCT","Fundo de Compensação do Trabalho","FCT","Fundo de Compensação do Trabalho","FCT","Fundo de Compensação do Trabalho","FCT","Fundo de Compensação do Trabalho","FCT","Fundo de Compensação do Trabalho","FCT","Fundo de Compensação do Trabalho","FCT","Fundo de Compensação do Trabalho","FCT","Fundo de Compensação do Trabalho","FCT","Fundo de Compensação do Trabalho","FCT","Fundo de Compensação do Trabalho","FCT","Fundo de Compensação do Trabalho","FCT","Fundo de Compensação do Trabalho","FCT","Fundo de Compensação do Trabalho","FCT","Fundo de Compensação do Trabalho","FCT","Fundo de Compensação do Trabalho","FCT","Fundo de Compensação do Trabalho","FCT","Fundo de Compensação do Trabalho","FCT","Fundo de Compensação do Trabalho","FCT","Fundo de Compensação do Trabalho","FCT","Fundo de Compensação do Trabalho","FCT","Fundo de Compensação do Trabalho","FCT","Fundo de Compensação do Trabalho","FCT","Fundo de Compensação do Trabalho","FCT","Fundo de Compensação do Trabalho","FCT","Fundo de Compensação do Trabalho","FCT","Fundo de Compensação do Trabalho","FCT","Fundo de Compensação do Trabalho","FCT","Fundo de Compensação do Trabalho","FCT","Fundo de Compensação do Trabalho","FCT","Fundo de Compensação do Trabalho","FCT","Fundo de Compensação do Trabalho","FCT","Fundo de Compensação do Trabalho","FCT","Fundo de Compensação do Trabalho","FCT","Fundo de Compensação do Trabalho","FCT","Fundo de Compensação do Trabalho","FCT","Fundo de Compensação do Trabalho","FCT","Fundo de Compensação do Trabalho","FCT","Fundo de Compensação do Trabalho","FCT","Fundo de Compensação do Trabalho","FCT","Fundo de Compensação do Trabalho","FCT","Fundo de Compensação do Trabalho","FCT","Fundo de Compensação do Trabalho","FCT","Fundo de Compensação do Trabalho","FCT","Fundo de Compensação do Trabalho","FCT","Fundo de Compensação do Trabalho","FCT","Fundo de Compensação do Trabalho","FCT","Fundo de Compensação do Trabalho","FCT","Fundo de Compensação do Trabalho","FCT","Fundo de Compensação do Trabalho","FCT","Fundo de Compensação do Trabalho","FCT","Fundo de Compensação do Trabalho","FCT","Fundo de Compensação do Trabalho","FCT","Fundo de Compensação do Trabalho","FCT","Fundo de Compensação do Trabalho","FCT","Fundo de Compensação do Trabalho","FCT","Fundo de Compensação do Trabalho","FCT","Fundo de Compensação do Trabalho","FCT","Fundo de Compensação do Trabalho","FCT","Fundo de Compensação do Trabalho","FCT","Fundo de Compensação do Trabalho","FCT","Fundo de Compensação do Trabalho","FCT","Fundo de Compensação do Trabalho","FCT","Fundo de Compensação do Trabalho","FCT","Fundo de Compensação do Trabalho","FCT","Fundo de Compensação do Trabalho","FCT","Fundo de Compensação do Trabalho","FCT","Fundo de Compensação do Trabalho","FCT","Fundo de Compensação do Trabalho","FCT","Fundo de Compensação do Trabalho","FCT","Fundo de Compensação do Trabalho","FCT","Fundo de Compensação do Trabalho","FCT","Fundo de Compensação do Trabalho","FCT","Fundo de Compensação do Trabalho","FCT","Fundo de Compensação do Trabalho","FCT","Fundo de Compensação do Trabalho","FCT","Fundo de Compensação do Trabalho","FCT","Fundo de Compensação do Trabalho","FCT","Fundo de Compensação do Trabalho","FCT","Fundo de Compensação do Trabalho","FCT","Fundo de Compensação do Trabalho","FCT","Fundo de Compensação do Trabalho","FCT","Fundo de Compensação do Trabalho","FCT","Fundo de Compensação do Trabalho","FCT","Fundo de Compensação do Trabalho","FCT","Fundo de Compensação do Trabalho","FCT","Fundo de Compensação do Trabalho","FCT","Fundo de Compensação do Trabalho","FCT","Fundo de Compensação do Trabalho","FCT","Fundo de Compensação do Trabalho","FCT","Fundo de Compensação do Trabalho","FCT","Fundo de Compensação do Trabalho","FCT","Fundo de Compensação do Trabalho","FCT","Fundo de Compensação do Trabalho","FCT","Fundo de Compensação do Trabalho","FCT","Fundo de Compensação do Trabalho","FCT","Fundo de Compensação do Trabalho","FCT","Fundo de Compensação do Trabalho","FCT","Fundo de Compensação do Trabalho","FCT","Fundo de Compensação do Trabalho","FCT","Fundo de Compensação do Trabalho","FCT","Fundo de Compensação do Trabalho","FCT","Fundo de Compensação do Trabalho","FCT","Fundo de Compensação do Trabalho","FCT","Fundo de Compensação do Trabalho","FCT","Fundo de Compensação do Trabalho","FCT","Fundo de Compensação do Trabalho","FCT","Fundo de Compensação do Trabalho","FCT","Fundo de Compensação do Trabalho","FCT","Fundo de Compensação do Trabalho","FCT","Fundo de Compensação do Trabalho","FCT","Fundo de Compensação do Trabalho","FCT","Fundo de Compensação do Trabalho","FCT","Fundo de Compensação do Trabalho","FCT","Fundo de Compensação do Trabalho","FCT","Fundo de Compensação do Trabalho","FCT","Fundo de Compensação do Trabalho","FCT","Fundo de Compensação do Trabalho","FCT","Fundo de Compensação do Trabalho","FCT","Fundo de Compensação do Trabalho","FCT","Fundo de Compensação do Trabalho","FCT","Fundo de Compensação do Trabalho","FCT","Fundo de Compensação do Trabalho","FCT","Fundo de Compensação do Trabalho","FCT","Fundo de Compensação do Trabalho","FCT","Fundo de Compensação do Trabalho","FCT","Fundo de Compensação do Trabalho","FCT","Fundo de Compensação do Trabalho","FCT","Fundo de Compensação do Trabalho","FCT","Fundo de Compensação do Trabalho","FCT","Fundo de Compensação do Trabalho","FCT","Fundo de Compensação do Trabalho","FCT","Fundo de Compensação do Trabalho","FCT","Fundo de Compensação do Trabalho","FCT","Fundo de Compensação do Trabalho","FCT","Fundo de Compensação do Trabalho","FCT","Fundo de Compensação do Trabalho","FCT","Fundo de Compensação do Trabalho","FCT","Fundo de Compensação do Trabalho","FCT","Fundo de Compensação do Trabalho","FCT","Fundo de Compensação do Trabalho","FCT","Fundo de Compensação do Trabalho","FCT","Fundo de Compensação do Trabalho","FCT","Fundo de Compensação do Trabalho","FCT","Fundo de Compensação do Trabalho","FCT","Fundo de Compensação do Trabalho","FCT","Fundo de Compensação do Trabalho","FCT","Fundo de Compensação do Trabalho","FCT","Fundo de Compensação do Trabalho","FCT","Fundo de Compensação do Trabalho","FCT","Fundo de Compensação do Trabalho","FCT","Fundo de Compensação do Trabalho","FCT","Fundo de Compensação do Trabalho","FCT","Fundo de Compensação do Trabalho","FCT","Fundo de Compensação do Trabalho","FCT","Fundo de Compensação do Trabalho","FCT","Fundo de Compensação do Trabalho","FCT","Fundo de Compensação do Trabalho","FCT","Fundo de Compensação do Trabalho","FCT","Fundo de Compensação do Trabalho","FCT","Fundo de Compensação do Trabalho","FCT","Fundo de Compensação do Trabalho","FCT","Fundo de Compensação do Trabalho","FCT","Fundo de Compensação do Trabalho","FCT","Fundo de Compensação do Trabalho","FCT","Fundo de Compensação do Trabalho","FCT","Fundo de Compensação do Trabalho","FCT","Fundo de Compensação do Trabalho","FCT","Fundo de Compensação do Trabalho","FCT","Fundo de Compensação do Trabalho","FCT","Fundo de Compensação do Trabalho","FCT","Fundo de Compensação do Trabalho","FCT","Fundo de Compensação do Trabalho","FCT","Fundo de Compensação do Trabalho","FCT","Fundo de Compensação do Trabalho","FCT","Fundo de Compensação do Trabalho","FCT","Fundo de Compensação do Trabalho","FCT","Fundo de Compensação do Trabalho","FCT","Fundo de Compensação do Trabalho","FCT","Fundo de Compensação do Trabalho","FCT","Fundo de Compensação do Trabalho","FCT","Fundo de Compensação do Trabalho","FCT","Fundo de Compensação do Trabalho","FCT","Fundo de Compensação do Trabalho","FCT","Fundo de Compensação do Trabalho","FCT","Fundo de Compensação do Trabalho","FCT","Fundo de Compensação do Trabalho","FCT","Fundo de Compensação do Trabalho","FCT","Fundo de Compensação do Trabalho","FCT","Fundo de Compensação do Trabalho","FCT","Fundo de Compensação do Trabalho","FCT","Fundo de Compensação do Trabalho","FCT","Fundo de Compensação do Trabalho","FCT","Fundo de Compensação do Trabalho","FCT","Fundo de Compensação do Trabalho","FCT","Fundo de Compensação do Trabalho","FCT","Fundo de Compensação do Trabalho","FCT","Fundo de Compensação do Trabalho","FCT","Fundo de Compensação do Trabalho","FCT","Fundo de Compensação do Trabalho","FCT","Fundo de Compensação do Trabalho","FCT","Fundo de Compensação do Trabalho","FCT","Fundo de Compensação do Trabalho","FCT","Fundo de Compensação do Trabalho","FCT","Fundo de Compensação do Trabalho","FCT","Fundo de Compensação do Trabalho","FCT","Fundo de Compensação do Trabalho","FCT","Fundo de Compensação do Trabalho","FCT","Fundo de Compensação do Trabalho","FCT","Fundo de Compensação do Trabalho","FCT","Fundo de Compensação do Trabalho","FCT","Fundo de Compensação do Trabalho","FCT","Fundo de Compensação do Trabalho","FCT","Fundo de Compensação do Trabalho","FCT","Fundo de Compensação do Trabalho","FCT","Fundo de Compensação do Trabalho","FCT","Fundo de Compensação do Trabalho","FCT","Fundo de Compensação do Trabalho","FCT","Fundo de Compensação do Trabalho","FCT","Fundo de Compensação do Trabalho","FCT","Fundo de Compensação do Trabalho","FCT","Fundo de Compensação do Trabalho","FCT","Fundo de Compensação do Trabalho","FCT","Fundo de Compensação do Trabalho","FCT","Fundo de Compensação do Trabalho","FCT","Fundo de Compensação do Trabalho","FCT","Fundo de Compensação do Trabalho","FCT","Fundo de Compensação do Trabalho","FCT","Fundo de Compensação do Trabalho","FCT","Fundo de Compensação do Trabalho","FCT","Fundo de Compensação do Trabalho","FCT","Fundo de Compensação do Trabalho","FCT","Fundo de Compensação do Trabalho","FCT","Fundo de Compensação do Trabalho","FCT","Fundo de Compensação do Trabalho","FCT","Fundo de Compensação do Trabalho","FCT","Fundo de Compensação do Trabalho","FCT","Fundo de Compensação do Trabalho","FCT","Fundo de Compensação do Trabalho","FCT","Fundo de Compensação do Trabalho","FCT","Fundo de Compensação do Trabalho","FCT","Fundo de Compensação do Trabalho","FCT","Fundo de Compensação do Trabalho","FCT","Fundo de Compensação do Trabalho","FCT","Fundo de Compensação do Trabalho","FCT","Fundo de Compensação do Trabalho","FCT","Fundo de Compensação do Trabalho","FCT","Fundo de Compensação do Trabalho","FCT","Fundo de Compensação do Trabalho","FCT","Fundo de Compensação do Trabalho","FCT","Fundo de Compensação do Trabalho","FCT","Fundo de Compensação do Trabalho","FCT","Fundo de Compensação do Trabalho","FCT","Fundo de Compensação do Trabalho","FCT","Fundo de Compensação do Trabalho","FCT","Fundo de Compensação do Trabalho","FCT","Fundo de Compensação do Trabalho","FCT","Fundo de Compensação do Trabalho","FCT","Fundo de Compensação do Trabalho","FCT","Fundo de Compensação do Trabalho","FCT","Fundo de Compensação do Trabalho","FCT","Fundo de Compensação do Trabalho","FCT","Fundo de Compensação do Trabalho","FCT","Fundo de Compensação do Trabalho","FCT","Fundo de Compensação do Trabalho","FCT","Fundo de Compensação do Trabalho","FCT","Fundo de Compensação do Trabalho","FCT","Fundo de Compensação do Trabalho","FCT","Fundo de Compensação do Trabalho","FCT","Fundo de Compensação do Trabalho","FCT","Fundo de Compensação do Trabalho","FCT","Fundo de Compensação do Trabalho","FCT","Fundo de Compensação do Trabalho","FCT","Fundo de Compensação do Trabalho","FCT","Fundo de Compensação do Trabalho","FCT","Fundo de Compensação do Trabalho","FCT","Fundo de Compensação do Trabalho","FCT","Fundo de Compensação do Trabalho","FCT","Fundo de Compensação do Trabalho","FCT","Fundo de Compensação do Trabalho","FCT","Fundo de Compensação do Trabalho","FCT","Fundo de Compensação do Trabalho","FCT","Fundo de Compensação do Trabalho","FCT","Fundo de Compensação do Trabalho","FCT","Fundo de Compensação do Trabalho","FCT","Fundo de Compensação do Trabalho","FCT","Fundo de Compensação do Trabalho","FCT","Fundo de Compensação do Trabalho","FCT","Fundo de Compensação do Trabalho","FCT","Fundo de Compensação do Trabalho","FCT","Fundo de Compensação do Trabalho","FCT","Fundo de Compensação do Trabalho","FCT","Fundo de Compensação do Trabalho","FCT","Fundo de Compensação do Trabalho","FCT","Fundo de Compensação do Trabalho","FCT","Fundo de Compensação do Trabalho","FCT","Fundo de Compensação do Trabalho","FCT","Fundo de Compensação do Trabalho","FCT","Fundo de Compensação do Trabalho","FCT","Fundo de Compensação do Trabalho","FCT","Fundo de Compensação do Trabalho","FCT","Fundo de Compensação do Trabalho","FCT","Fundo de Compensação do Trabalho","FCT","Fundo de Compensação do Trabalho","FCT","Fundo de Compensação do Trabalho","FCT","Fundo de Compensação do Trabalho","FCT","Fundo de Compensação do Trabalho","FCT","Fundo de Compensação do Trabalho","FCT","Fundo de Compensação do Trabalho","FCT","Fundo de Compensação do Trabalho","FCT","Fundo de Compensação do Trabalho","FCT","Fundo de Compensação do Trabalho","FCT","Fundo de Compensação do Trabalho","FCT","Fundo de Compensação do Trabalho","FCT","Fundo de Compensação do Trabalho","FCT","Fundo de Compensação do Trabalho","FCT","Fundo de Compensação do Trabalho","FCT","Fundo de Compensação do Trabalho","FCT","Fundo de Compensação do Trabalho","FCT","Fundo de Compensação do Trabalho","FCT","Fundo de Compensação do Trabalho","FCT","Fundo de Compensação do Trabalho","FCT","Fundo de Compensação do Trabalho","FCT","Fundo de Compensação do Trabalho","FCT","Fundo de Compensação do Trabalho","FCT","Fundo de Compensação do Trabalho","FCT","Fundo de Compensação do Trabalho","FCT","Fundo de Compensação do Trabalho","FCT","Fundo de Compensação do Trabalho","FCT","Fundo de Compensação do Trabalho","FCT","Fundo de Compensação do Trabalho","FCT","Fundo de Compensação do Trabalho","FCT","Fundo de Compensação do Trabalho","FCT","Fundo de Compensação do Trabalho","FCT","Fundo de Compensação do Trabalho","FCT","Fundo de Compensação do Trabalho","FCT","Fundo de Compensação do Trabalho","FCT","Fundo de Compensação do Trabalho","FCT","Fundo de Compensação do Trabalho","FCT","Fundo de Compensação do Trabalho","FCT","Fundo de Compensação do Trabalho","FCT","Fundo de Compensação do Trabalho","FCT","Fundo de Compensação do Trabalho","FCT","Fundo de Compensação do Trabalho","FCT","Fundo de Compensação do Trabalho","FCT","Fundo de Compensação do Trabalho","FCT","Fundo de Compensação do Trabalho","FCT","Fundo de Compensação do Trabalho","FCT","Fundo de Compensação do Trabalho","FCT","Fundo de Compensação do Trabalho","FCT","Fundo de Compensação do Trabalho","FCT","Fundo de Compensação do Trabalho","FCT","Fundo de Compensação do Trabalho","FCT","Fundo de Compensação do Trabalho","FCT","Fundo de Compensação do Trabalho","FCT","Fundo de Compensação do Trabalho","FCT","Fundo de Compensação do Trabalho","FCT","Fundo de Compensação do Trabalho","FCT","Fundo de Compensação do Trabalho","FCT","Fundo de Compensação do Trabalho","FCT","Fundo de Compensação do Trabalho","FCT","Fundo de Compensação do Trabalho","FCT","Fundo de Compensação do Trabalho","FCT","Fundo de Compensação do Trabalho","FCT","Fundo de Compensação do Trabalho","FCT","Fundo de Compensação do Trabalho","FCT","Fundo de Compensação do Trabalho","FCT","Fundo de Compensação do Trabalho","FCT","Fundo de Compensação do Trabalho","FCT","Fundo de Compensação do Trabalho","FCT","Fundo de Compensação do Trabalho","FCT","Fundo de Compensação do Trabalho","FCT","Fundo de Compensação do Trabalho","FCT","Fundo de Compensação do Trabalho","FCT","Fundo de Compensação do Trabalho","FCT","Fundo de Compensação do Trabalho","FCT","Fundo de Compensação do Trabalho","FCT","Fundo de Compensação do Trabalho","FCT","Fundo de Compensação do Trabalho","FCT","Fundo de Compensação do Trabalho","FCT","Fundo de Compensação do Trabalho","FCT","Fundo de Compensação do Trabalho","FCT","Fundo de Compensação do Trabalho","FCT","Fundo de Compensação do Trabalho","FCT","Fundo de Compensação do Trabalho","FCT","Fundo de Compensação do Trabalho","FCT","Fundo de Compensação do Trabalho","FCT","Fundo de Compensação do Trabalho","FCT","Fundo de Compensação do Trabalho","FCT","Fundo de Compensação do Trabalho","FCT","Fundo de Compensação do Trabalho","FCT","Fundo de Compensação do Trabalho","FCT","Fundo de Compensação do Trabalho","FCT","Fundo de Compensação do Trabalho","FCT","Fundo de Compensação do Trabalho","FCT","Fundo de Compensação do Trabalho","FCT","Fundo de Compensação do Trabalho","FCT","Fundo de Compensação do Trabalho","FCT","Fundo de Compensação do Trabalho","FCT","Fundo de Compensação do Trabalho","FCT","Fundo de Compensação do Trabalho","FCT","Fundo de Compensação do Trabalho","FCT","Fundo de Compensação do Trabalho","FCT","Fundo de Compensação do Trabalho","FCT","Fundo de Compensação do Trabalho","FCT","Fundo de Compensação do Trabalho","FCT","Fundo de Compensação do Trabalho","FCT","Fundo de Compensação do Trabalho","FCT","Fundo de Compensação do Trabalho","FCT","Fundo de Compensação do Trabalho","FCT","Fundo de Compensação do Trabalho","FCT","Fundo de Compensação do Trabalho","FCT","Fundo de Compensação do Trabalho","FCT","Fundo de Compensação do Trabalho","FCT","Fundo de Compensação do Trabalho","FCT","Fundo de Compensação do Trabalho","FCT","Fundo de Compensação do Trabalho","FCT","Fundo de Compensação do Trabalho","FCT","Fundo de Compensação do Trabalho","FCT","Fundo de Compensação do Trabalho","FCT","Fundo de Compensação do Trabalho","FCT","Fundo de Compensação do Trabalho","FCT","Fundo de Compensação do Trabalho","FCT","Fundo de Compensação do Trabalho","FCT","Fundo de Compensação do Trabalho","FCT","Fundo de Compensação do Trabalho","FCT","Fundo de Compensação do Trabalho","FCT","Fundo de Compensação do Trabalho","FCT","Fundo de Compensação do Trabalho","FCT","Fundo de Compensação do Trabalho","FCT","Fundo de Compensação do Trabalho","FCT","Fundo de Compensação do Trabalho","FCT","Fundo de Compensação do Trabalho","FCT","Fundo de Compensação do Trabalho","FCT","Fundo de Compensação do Trabalho","FCT","Fundo de Compensação do Trabalho","FCT","Fundo de Compensação do Trabalho","FCT","Fundo de Compensação do Trabalho","FCT","Fundo de Compensação do Trabalho","FCT","Fundo de Compensação do Trabalho","FCT","Fundo de Compensação do Trabalho","FCT","Fundo de Compensação do Trabalho","FCT","Fundo de Compensação do Trabalho","FCT","Fundo de Compensação do Trabalho","FCT","Fundo de Compensação do Trabalho","FCT","Fundo de Compensação do Trabalho","FCT","Fundo de Compensação do Trabalho","FCT","Fundo de Compensação do Trabalho","FCT","Fundo de Compensação do Trabalho","FCT","Fundo de Compensação do Trabalho","FCT","Fundo de Compensação do Trabalho","FCT","Fundo de Compensação do Trabalho","FCT","Fundo de Compensação do Trabalho","FCT","Fundo de Compensação do Trabalho","FCT","Fundo de Compensação do Trabalho","FCT","Fundo de Compensação do Trabalho","FCT","Fundo de Compensação do Trabalho","FCT","Fundo de Compensação do Trabalho","FCT","Fundo de Compensação do Trabalho","FCT","Fundo de Compensação do Trabalho","FCT","Fundo de Compensação do Trabalho","FCT","Fundo de Compensação do Trabalho","FCT","Fundo de Compensação do Trabalho","FCT","Fundo de Compensação do Trabalho","FCT","Fundo de Compensação do Trabalho","FCT","Fundo de Compensação do Trabalho","FCT","Fundo de Compensação do Trabalho","FCT","Fundo de Compensação do Trabalho","FCT","Fundo de Compensação do Trabalho","FCT","Fundo de Compensação do Trabalho","FCT","Fundo de Compensação do Trabalho","FCT","Fundo de Compensação do Trabalho","FCT","Fundo de Compensação do Trabalho","FCT","Fundo de Compensação do Trabalho","FCT","Fundo de Compensação do Trabalho","FCT","Fundo de Compensação do Trabalho","FCT","Fundo de Compensação do Trabalho","FCT","Fundo de Compensação do Trabalho","FCT","Fundo de Compensação do Trabalho","FCT","Fundo de Compensação do Trabalho","FCT","Fundo de Compensação do Trabalho","FCT","Fundo de Compensação do Trabalho","FCT","Fundo de Compensação do Trabalho","FCT","Fundo de Compensação do Trabalho","FCT","Fundo de Compensação do Trabalho","FCT","Fundo de Compensação do Trabalho","FCT","Fundo de Compensação do Trabalho","FCT","Fundo de Compensação do Trabalho","FCT","Fundo de Compensação do Trabalho","FCT","Fundo de Compensação do Trabalho","FCT","Fundo de Compensação do Trabalho","FCT","Fundo de Compensação do Trabalho","FCT","Fundo de Compensação do Trabalho","FCT","Fundo de Compensação do Trabalho","FCT","Fundo de Compensação do Trabalho","FCT","Fundo de Compensação do Trabalho","FCT","Fundo de Compensação do Trabalho","FCT","Fundo de Compensação do Trabalho","FCT","Fundo de Compensação do Trabalho","FCT","Fundo de Compensação do Trabalho","FCT","Fundo de Compensação do Trabalho","FCT","Fundo de Compensação do Trabalho","FCT","Fundo de Compensação do Trabalho","FCT","Fundo de Compensação do Trabalho","FCT","Fundo de Compensação do Trabalho","FCT","Fundo de Compensação do Trabalho","FCT","Fundo de Compensação do Trabalho","FCT","Fundo de Compensação do Trabalho","FCT","Fundo de Compensação do Trabalho","FCT","Fundo de Compensação do Trabalho","FCT","Fundo de Compensação do Trabalho","FCT","Fundo de Compensação do Trabalho","FCT","Fundo de Compensação do Trabalho","FCT","Fundo de Compensação do Trabalho","FCT","Fundo de Compensação do Trabalho","FCT","Fundo de Compensação do Trabalho","FCT","Fundo de Compensação do Trabalho","FCT","Fundo de Compensação do Trabalho","FCT","Fundo de Compensação do Trabalho","FCT","Fundo de Compensação do Trabalho","FCT","Fundo de Compensação do Trabalho","FCT","Fundo de Compensação do Trabalho","FCT","Fundo de Compensação do Trabalho","FCT","Fundo de Compensação do Trabalho","FCT","Fundo de Compensação do Trabalho","FCT","Fundo de Compensação do Trabalho","FCT","Fundo de Compensação do Trabalho","FCT","Fundo de Compensação do Trabalho","FCT","Fundo de Compensação do Trabalho","FCT","Fundo de Compensação do Trabalho","FCT","Fundo de Compensação do Trabalho","FCT","Fundo de Compensação do Trabalho","FCT","Fundo de Compensação do Trabalho","FCT","Fundo de Compensação do Trabalho","FCT","Fundo de Compensação do Trabalho","FCT","Fundo de Compensação do Trabalho","FCT","Fundo de Compensação do Trabalho","FCT","Fundo de Compensação do Trabalho","FCT","Fundo de Compensação do Trabalho","FCT","Fundo de Compensação do Trabalho","FCT","Fundo de Compensação do Trabalho","FCT","Fundo de Compensação do Trabalho","FCT","Fundo de Compensação do Trabalho","FCT","Fundo de Compensação do Trabalho","FCT","Fundo de Compensação do Trabalho","FCT","Fundo de Compensação do Trabalho","FCT","Fundo de Compensação do Trabalho","FCT","Fundo de Compensação do Trabalho","FCT","Fundo de Compensação do Trabalho","FCT","Fundo de Compensação do Trabalho","FCT","Fundo de Compensação do Trabalho","FCT","Fundo de Compensação do Trabalho","FCT","Fundo de Compensação do Trabalho","FCT","Fundo de Compensação do Trabalho","FCT","Fundo de Compensação do Trabalho","FCT","Fundo de Compensação do Trabalho","FCT","Fundo de Compensação do Trabalho","FCT","Fundo de Compensação do Trabalho","FCT","Fundo de Compensação do Trabalho","FCT","Fundo de Compensação do Trabalho","FCT","Fundo de Compensação do Trabalho","FCT","Fundo de Compensação do Trabalho","FCT","Fundo de Compensação do Trabalho","FCT","Fundo de Compensação do Trabalho","FCT","Fundo de Compensação do Trabalho","FCT","Fundo de Compensação do Trabalho","FCT","Fundo de Compensação do Trabalho","FCT","Fundo de Compensação do Trabalho","FCT","Fundo de Compensação do Trabalho","FCT","Fundo de Compensação do Trabalho","FCT","Fundo de Compensação do Trabalho","FCT","Fundo de Compensação do Trabalho","FCT","Fundo de Compensação do Trabalho","FCT","Fundo de Compensação do Trabalho","FCT","Fundo de Compensação do Trabalho","FCT","Fundo de Compensação do Trabalho","FCT","Fundo de Compensação do Trabalho","FCT","Fundo de Compensação do Trabalho","FCT","Fundo de Compensação do Trabalho","FCT","Fundo de Compensação do Trabalho","FCT","Fundo de Compensação do Trabalho","FCT","Fundo de Compensação do Trabalho","FCT","Fundo de Compensação do Trabalho","FCT","Fundo de Compensação do Trabalho","FCT","Fundo de Compensação do Trabalho","FCT","Fundo de Compensação do Trabalho","FCT","Fundo de Compensação do Trabalho","FCT","Fundo de Compensação do Trabalho","FCT","Fundo de Compensação do Trabalho","FCT","Fundo de Compensação do Trabalho","FCT","Fundo de Compensação do Trabalho","FCT","Fundo de Compensação do Trabalho","FCT","Fundo de Compensação do Trabalho","FCT","Fundo de Compensação do Trabalho","FCT","Fundo de Compensação do Trabalho","FCT","Fundo de Compensação do Trabalho","FCT","Fundo de Compensação do Trabalho","FCT","Fundo de Compensação do Trabalho","FCT","Fundo de Compensação do Trabalho","FCT","Fundo de Compensação do Trabalho","FCT","Fundo de Compensação do Trabalho","FCT","Fundo de Compensação do Trabalho","FCT","Fundo de Compensação do Trabalho","FCT","Fundo de Compensação do Trabalho","FCT","Fundo de Compensação do Trabalho","FCT","Fundo de Compensação do Trabalho","FCT","Fundo de Compensação do Trabalho","FCT","Fundo de Compensação do Trabalho","FCT","Fundo de Compensação do Trabalho","FCT","Fundo de Compensação do Trabalho","FCT","Fundo de Compensação do Trabalho","FCT","Fundo de Compensação do Trabalho","FCT","Fundo de Compensação do Trabalho","FCT","Fundo de Compensação do Trabalho","FCT","Fundo de Compensação do Trabalho","FCT","Fundo de Compensação do Trabalho","FCT","Fundo de Compensação do Trabalho","FCT","Fundo de Compensação do Trabalho","FCT","Fundo de Compensação do Trabalho","FCT","Fundo de Compensação do Trabalho","FCT","Fundo de Compensação do Trabalho","FCT","Fundo de Compensação do Trabalho","FCT","Fundo de Compensação do Trabalho","FCT","Fundo de Compensação do Trabalho","FCT","Fundo de Compensação do Trabalho","FCT","Fundo de Compensação do Trabalho","FCT","Fundo de Compensação do Trabalho","FCT","Fundo de Compensação do Trabalho","FCT","Fundo de Compensação do Trabalho","FCT","Fundo de Compensação do Trabalho","FCT","Fundo de Compensação do Trabalho","FCT","Fundo de Compensação do Trabalho","FCT","Fundo de Compensação do Trabalho","FCT","Fundo de Compensação do Trabalho","FCT","Fundo de Compensação do Trabalho","FCT","Fundo de Compensação do Trabalho","FCT","Fundo de Compensação do Trabalho","FCT","Fundo de Compensação do Trabalho","FCT","Fundo de Compensação do Trabalho","FCT","Fundo de Compensação do Trabalho","FCT","Fundo de Compensação do Trabalho","FCT","Fundo de Compensação do Trabalho","FCT","Fundo de Compensação do Trabalho","FCT","Fundo de Compensação do Trabalho","FCT","Fundo de Compensação do Trabalho","FCT","Fundo de Compensação do Trabalho","FCT","Fundo de Compensação do Trabalho","FCT","Fundo de Compensação do Trabalho","FCT","Fundo de Compensação do Trabalho","FCT","Fundo de Compensação do Trabalho","FCT","Fundo de Compensação do Trabalho","FCT","Fundo de Compensação do Trabalho","FCT","Fundo de Compensação do Trabalho","FCT","Fundo de Compensação do Trabalho","FCT","Fundo de Compensação do Trabalho","FCT","Fundo de Compensação do Trabalho","FCT","Fundo de Compensação do Trabalho","FCT","Fundo de Compensação do Trabalho","FCT","Fundo de Compensação do Trabalho","FCT","Fundo de Compensação do Trabalho","FCT","Fundo de Compensação do Trabalho","FCT","Fundo de Compensação do Trabalho","FCT","Fundo de Compensação do Trabalho","FCT","Fundo de Compensação do Trabalho","FCT","Fundo de Compensação do Trabalho","FCT","Fundo de Compensação do Trabalho","FCT","Fundo de Compensação do Trabalho","FCT","Fundo de Compensação do Trabalho","FCT","Fundo de Compensação do Trabalho","FCT","Fundo de Compensação do Trabalho","FCT","Fundo de Compensação do Trabalho","FCT","Fundo de Compensação do Trabalho","FCT","Fundo de Compensação do Trabalho","FCT","Fundo de Compensação do Trabalho","FCT","Fundo de Compensação do Trabalho","FCT","Fundo de Compensação do Trabalho","FCT","Fundo de Compensação do Trabalho","FCT","Fundo de Compensação do Trabalho","FCT","Fundo de Compensação do Trabalho","FCT","Fundo de Compensação do Trabalho","FCT","Fundo de Compensação do Trabalho","FCT","Fundo de Compensação do Trabalho","FCT","Fundo de Compensação do Trabalho","FCT","Fundo de Compensação do Trabalho","FCT","Fundo de Compensação do Trabalho","FCT","Fundo de Compensação do Trabalho","FCT","Fundo de Compensação do Trabalho","FCT","Fundo de Compensação do Trabalho","FCT","Fundo de Compensação do Trabalho","FCT","Fundo de Compensação do Trabalho","FCT","Fundo de Compensação do Trabalho","FCT","Fundo de Compensação do Trabalho","FCT","Fundo de Compensação do Trabalho","FCT","Fundo de Compensação do Trabalho","FCT","Fundo de Compensação do Trabalho","FCT","Fundo de Compensação do Trabalho","FCT","Fundo de Compensação do Trabalho","FCT","Fundo de Compensação do Trabalho","FCT","Fundo de Compensação do Trabalho","FCT","Fundo de Compensação do Trabalho","FCT","Fundo de Compensação do Trabalho","FCT","Fundo de Compensação do Trabalho","FCT","Fundo de Compensação do Trabalho","FCT","Fundo de Compensação do Trabalho","FCT","Fundo de Compensação do Trabalho","FCT","Fundo de Compensação do Trabalho","FCT","Fundo de Compensação do Trabalho","FCT","Fundo de Compensação do Trabalho","FCT","Fundo de Compensação do Trabalho","FCT","Fundo de Compensação do Trabalho","FCT","Fundo de Compensação do Trabalho","FCT","Fundo de Compensação do Trabalho","FCT","Fundo de Compensação do Trabalho","FCT","Fundo de Compensação do Trabalho","FCT","Fundo de Compensação do Trabalho","FCT","Fundo de Compensação do Trabalho","FCT","Fundo de Compensação do Trabalho","FCT","Fundo de Compensação do Trabalho","FCT","Fundo de Compensação do Trabalho","FCT","Fundo de Compensação do Trabalho","FCT","Fundo de Compensação do Trabalho","FCT","Fundo de Compensação do Trabalho","FCT","Fundo de Compensação do Trabalho","FCT","Fundo de Compensação do Trabalho","FCT","Fundo de Compensação do Trabalho","FCT","Fundo de Compensação do Trabalho","FCT","Fundo de Compensação do Trabalho","FCT","Fundo de Compensação do Trabalho","FCT","Fundo de Compensação do Trabalho","FCT","Fundo de Compensação do Trabalho","FCT","Fundo de Compensação do Trabalho","FCT","Fundo de Compensação do Trabalho","FCT","Fundo de Compensação do Trabalho","FCT","Fundo de Compensação do Trabalho","FCT","Fundo de Compensação do Trabalho","FCT","Fundo de Compensação do Trabalho","FCT","Fundo de Compensação do Trabalho","FCT","Fundo de Compensação do Trabalho","FCT","Fundo de Compensação do Trabalho","FCT","Fundo de Compensação do Trabalho","FCT","Fundo de Compensação do Trabalho","FCT","Fundo de Compensação do Trabalho","FCT","Fundo de Compensação do Trabalho","FCT","Fundo de Compensação do Trabalho","FCT","Fundo de Compensação do Trabalho","FCT","Fundo de Compensação do Trabalho","FCT","Fundo de Compensação do Trabalho","FCT","Fundo de Compensação do Trabalho","FCT","Fundo de Compensação do Trabalho","FCT","Fundo de Compensação do Trabalho","FCT","Fundo de Compensação do Trabalho","FCT","Fundo de Compensação do Trabalho","FCT","Fundo de Compensação do Trabalho","FCT","Fundo de Compensação do Trabalho","FCT","Fundo de Compensação do Trabalho","FCT","Fundo de Compensação do Trabalho","FCT","Fundo de Compensação do Trabalho","FCT","Fundo de Compensação do Trabalho","FCT","Fundo de Compensação do Trabalho","FCT","Fundo de Compensação do Trabalho","FCT","Fundo de Compensação do Trabalho","FCT","Fundo de Compensação do Trabalho","FCT","Fundo de Compensação do Trabalho","FCT","Fundo de Compensação do Trabalho","FCT","Fundo de Compensação do Trabalho","FCT","Fundo de Compensação do Trabalho","FCT","Fundo de Compensação do Trabalho","FCT","Fundo de Compensação do Trabalho","FCT","Fundo de Compensação do Trabalho","FCT","Fundo de Compensação do Trabalho","FCT","Fundo de Compensação do Trabalho","FCT","Fundo de Compensação do Trabalho","FCT","Fundo de Compensação do Trabalho","FCT","Fundo de Compensação do Trabalho","FCT","Fundo de Compensação do Trabalho","FCT","Fundo de Compensação do Trabalho","FCT","Fundo de Compensação do Trabalho","FCT","Fundo de Compensação do Trabalho","FCT","Fundo de Compensação do Trabalho","FCT","Fundo de Compensação do Trabalho","FCT","Fundo de Compensação do Trabalho","FCT","Fundo de Compensação do Trabalho","FCT","Fundo de Compensação do Trabalho","FCT","Fundo de Compensação do Trabalho","FCT","Fundo de Compensação do Trabalho","FCT","Fundo de Compensação do Trabalho","FCT","Fundo de Compensação do Trabalho","FCT","Fundo de Compensação do Trabalho","FCT","Fundo de Compensação do Trabalho","FCT","Fundo de Compensação do Trabalho","FCT","Fundo de Compensação do Trabalho","FCT","Fundo de Compensação do Trabalho","FCT","Fundo de Compensação do Trabalho","FCT","Fundo de Compensação do Trabalho","FCT","Fundo de Compensação do Trabalho","FCT","Fundo de Compensação do Trabalho","FCT","Fundo de Compensação do Trabalho","FCT","Fundo de Compensação do Trabalho","FCT","Fundo de Compensação do Trabalho","FCT","Fundo de Compensação do Trabalho","FCT","Fundo de Compensação do Trabalho","FCT","Fundo de Compensação do Trabalho","FCT","Fundo de Compensação do Trabalho","FCT","Fundo de Compensação do Trabalho","FCT","Fundo de Compensação do Trabalho","FCT","Fundo de Compensação do Trabalho","FCT","Fundo de Compensação do Trabalho","FCT","Fundo de Compensação do Trabalho","FCT","Fundo de Compensação do Trabalho","FCT","Fundo de Compensação do Trabalho","FCT","Fundo de Compensação do Trabalho","FCT","Fundo de Compensação do Trabalho","FCT","Fundo de Compensação do Trabalho","FCT","Fundo de Compensação do Trabalho","FCT","Fundo de Compensação do Trabalho","FCT","Fundo de Compensação do Trabalho","FCT","Fundo de Compensação do Trabalho","FCT","Fundo de Compensação do Trabalho","FCT","Fundo de Compensação do Trabalho","FCT","Fundo de Compensação do Trabalho","FCT","Fundo de Compensação do Trabalho","FCT","Fundo de Compensação do Trabalho","FCT","Fundo de Compensação do Trabalho","FCT","Fundo de Compensação do Trabalho","FCT","Fundo de Compensação do Trabalho","FCT","Fundo de Compensação do Trabalho","FCT","Fundo de Compensação do Trabalho","FCT","Fundo de Compensação do Trabalho","FCT","Fundo de Compensação do Trabalho","FCT","Fundo de Compensação do Trabalho","FCT","Fundo de Compensação do Trabalho","FCT","Fundo de Compensação do Trabalho","FCT","Fundo de Compensação do Trabalho","FCT","Fundo de Compensação do Trabalho","FCT","Fundo de Compensação do Trabalho","FCT","Fundo de Compensação do Trabalho","FCT","Fundo de Compensação do Trabalho","FCT","Fundo de Compensação do Trabalho","FCT","Fundo de Compensação do Trabalho","FCT","Fundo de Compensação do Trabalho","FCT","Fundo de Compensação do Trabalho","FCT","Fundo de Compensação do Trabalho","FCT","Fundo de Compensação do Trabalho","FCT","Fundo de Compensação do Trabalho","FCT","Fundo de Compensação do Trabalho","FCT","Fundo de Compensação do Trabalho","FCT","Fundo de Compensação do Trabalho","FCT","Fundo de Compensação do Trabalho","FCT","Fundo de Compensação do Trabalho","FCT","Fundo de Compensação do Trabalho","FCT","Fundo de Compensação do Trabalho","FCT","Fundo de Compensação do Trabalho","FCT","Fundo de Compensação do Trabalho","FCT","Fundo de Compensação do Trabalho","FCT","Fundo de Compensação do Trabalho","FCT","Fundo de Compensação do Trabalho","FCT","Fundo de Compensação do Trabalho","FCT","Fundo de Compensação do Trabalho","FCT","Fundo de Compensação do Trabalho","FCT","Fundo de Compensação do Trabalho","FCT","Fundo de Compensação do Trabalho","FCT","Fundo de Compensação do Trabalho","FCT","Fundo de Compensação do Trabalho","FCT","Fundo de Compensação do Trabalho","FCT","Fundo de Compensação do Trabalho","FCT","Fundo de Compensação do Trabalho","FCT","Fundo de Compensação do Trabalho","FCT","Fundo de Compensação do Trabalho","FCT","Fundo de Compensação do Trabalho","FCT","Fundo de Compensação do Trabalho","FCT","Fundo de Compensação do Trabalho","FCT","Fundo de Compensação do Trabalho","FCT","Fundo de Compensação do Trabalho","FCT","Fundo de Compensação do Trabalho","FCT","Fundo de Compensação do Trabalho","FCT","Fundo de Compensação do Trabalho","FCT","Fundo de Compensação do Trabalho","FCT","Fundo de Compensação do Trabalho","FCT","Fundo de Compensação do Trabalho","FCT","Fundo de Compensação do Trabalho","FCT","Fundo de Compensação do Trabalho","FCT","Fundo de Compensação do Trabalho","FCT","Fundo de Compensação do Trabalho","FCT","Fundo de Compensação do Trabalho","FCT","Fundo de Compensação do Trabalho","FCT","Fundo de Compensação do Trabalho","FCT","Fundo de Compensação do Trabalho","FCT","Fundo de Compensação do Trabalho","FCT","Fundo de Compensação do Trabalho","FCT","Fundo de Compensação do Trabalho","FCT","Fundo de Compensação do Trabalho","FCT","Fundo de Compensação do Trabalho","FCT","Fundo de Compensação do Trabalho","FCT","Fundo de Compensação do Trabalho","FCT","Fundo de Compensação do Trabalho","FCT","Fundo de Compensação do Trabalho","FCT","Fundo de Compensação do Trabalho","FCT","Fundo de Compensação do Trabalho","FCT","Fundo de Compensação do Trabalho","FCT","Fundo de Compensação do Trabalho","FCT","Fundo de Compensação do Trabalho","FCT","Fundo de Compensação do Trabalho","FCT","Fundo de Compensação do Trabalho","FCT","Fundo de Compensação do Trabalho","FCT","Fundo de Compensação do Trabalho","FCT","Fundo de Compensação do Trabalho","FCT","Fundo de Compensação do Trabalho","FCT","Fundo de Compensação do Trabalho","FCT","Fundo de Compensação do Trabalho","FCT","Fundo de Compensação do Trabalho","FCT","Fundo de Compensação do Trabalho","FCT","Fundo de Compensação do Trabalho","FCT","Fundo de Compensação do Trabalho","FCT","Fundo de Compensação do Trabalho","FCT","Fundo de Compensação do Trabalho","FCT","Fundo de Compensação do Trabalho","FCT","Fundo de Compensação do Trabalho","FCT","Fundo de Compensação do Trabalho","FCT","Fundo de Compensação do Trabalho","FCT","Fundo de Compensação do Trabalho","FCT","Fundo de Compensação do Trabalho","FCT","Fundo de Compensação do Trabalho","FCT","Fundo de Compensação do Trabalho","FCT","Fundo de Compensação do Trabalho","FCT","Fundo de Compensação do Trabalho","FCT","Fundo de Compensação do Trabalho","FCT","Fundo de Compensação do Trabalho","FCT","Fundo de Compensação do Trabalho","FCT","Fundo de Compensação do Trabalho","FCT","Fundo de Compensação do Trabalho","FCT","Fundo de Compensação do Trabalho","FCT","Fundo de Compensação do Trabalho","FCT","Fundo de Compensação do Trabalho","FCT","Fundo de Compensação do Trabalho","FCT","Fundo de Compensação do Trabalho","FCT","Fundo de Compensação do Trabalho","FCT","Fundo de Compensação do Trabalho","FCT","Fundo de Compensação do Trabalho","FCT","Fundo de Compensação do Trabalho","FCT","Fundo de Compensação do Trabalho","FCT","Fundo de Compensação do Trabalho","FCT","Fundo de Compensação do Trabalho","FCT","Fundo de Compensação do Trabalho","FCT","Fundo de Compensação do Trabalho","FCT","Fundo de Compensação do Trabalho","FCT","Fundo de Compensação do Trabalho","FCT","Fundo de Compensação do Trabalho","FCT","Fundo de Compensação do Trabalho","FCT","Fundo de Compensação do Trabalho","FCT","Fundo de Compensação do Trabalho","FCT","Fundo de Compensação do Trabalho","FCT","Fundo de Compensação do Trabalho","FCT","Fundo de Compensação do Trabalho","FCT","Fundo de Compensação do Trabalho","FCT","Fundo de Compensação do Trabalho","FCT","Fundo de Compensação do Trabalho","FCT","Fundo de Compensação do Trabalho","FCT","Fundo de Compensação do Trabalho","FCT","Fundo de Compensação do Trabalho","FCT","Fundo de Compensação do Trabalho","FCT","Fundo de Compensação do Trabalho","FCT","Fundo de Compensação do Trabalho","FCT","Fundo de Compensação do Trabalho","FCT","Fundo de Compensação do Trabalho","FCT","Fundo de Compensação do Trabalho","FCT","Fundo de Compensação do Trabalho","FCT","Fundo de Compensação do Trabalho","FCT","Fundo de Compensação do Trabalho","FCT","Fundo de Compensação do Trabalho","FCT","Fundo de Compensação do Trabalho","FCT","Fundo de Compensação do Trabalho","FCT","Fundo de Compensação do Trabalho","FCT","Fundo de Compensação do Trabalho","FCT","Fundo de Compensação do Trabalho","FCT","Fundo de Compensação do Trabalho","FCT","Fundo de Compensação do Trabalho","FCT","Fundo de Compensação do Trabalho","FCT","Fundo de Compensação do Trabalho","FCT","Fundo de Compensação do Trabalho","FCT","Fundo de Compensação do Trabalho","FCT","Fundo de Compensação do Trabalho","FCT","Fundo de Compensação do Trabalho","FCT","Fundo de Compensação do Trabalho","FCT","Fundo de Compensação do Trabalho","FCT","Fundo de Compensação do Trabalho","FCT","Fundo de Compensação do Trabalho","FCT","Fundo de Compensação do Trabalho","FCT","Fundo de Compensação do Trabalho","FCT","Fundo de Compensação do Trabalho","FCT","Fundo de Compensação do Trabalho","FCT","Fundo de Compensação do Trabalho","FCT","Fundo de Compensação do Trabalho","FCT","Fundo de Compensação do Trabalho","FCT","Fundo de Compensação do Trabalho","FCT","Fundo de Compensação do Trabalho","FCT","Fundo de Compensação do Trabalho","FCT","Fundo de Compensação do Trabalho","FCT","Fundo de Compensação do Trabalho","FCT","Fundo de Compensação do Trabalho","FCT","Fundo de Compensação do Trabalho","FCT","Fundo de Compensação do Trabalho","FCT","Fundo de Compensação do Trabalho","FCT","Fundo de Compensação do Trabalho","FCT","Fundo de Compensação do Trabalho","FCT","Fundo de Compensação do Trabalho","FCT","Fundo de Compensação do Trabalho","FCT","Fundo de Compensação do Trabalho","FCT","Fundo de Compensação do Trabalho","FCT","Fundo de Compensação do Trabalho","FCT","Fundo de Compensação do Trabalho","FCT","Fundo de Compensação do Trabalho","FCT","Fundo de Compensação do Trabalho","FCT","Fundo de Compensação do Trabalho","FCT","Fundo de Compensação do Trabalho","FCT","Fundo de Compensação do Trabalho","FCT","Fundo de Compensação do Trabalho","FCT","Fundo de Compensação do Trabalho","FCT","Fundo de Compensação do Trabalho","FCT","Fundo de Compensação do Trabalho","FCT","Fundo de Compensação do Trabalho","FCT","Fundo de Compensação do Trabalho","FCT","Fundo de Compensação do Trabalho","FCT","Fundo de Compensação do Trabalho","FCT","Fundo de Compensação do Trabalho","FCT","Fundo de Compensação do Trabalho","FCT","Fundo de Compensação do Trabalho","FCT","Fundo de Compensação do Trabalho","FCT","Fundo de Compensação do Trabalho","FCT","Fundo de Compensação do Trabalho","FCT","Fundo de Compensação do Trabalho","FCT","Fundo de Compensação do Trabalho","FCT","Fundo de Compensação do Trabalho","FCT","Fundo de Compensação do Trabalho","FCT","Fundo de Compensação do Trabalho","FCT","Fundo de Compensação do Trabalho","FCT","Fundo de Compensação do Trabalho","FCT","Fundo de Compensação do Trabalho","FCT","Fundo de Compensação do Trabalho","FCT","Fundo de Compensação do Trabalho","FCT","Fundo de Compensação do Trabalho","FCT","Fundo de Compensação do Trabalho","FCT","Fundo de Compensação do Trabalho","FCT","Fundo de Compensação do Trabalho","FCT","Fundo de Compensação do Trabalho","FCT","Fundo de Compensação do Trabalho","FCT","Fundo de Compensação do Trabalho","FCT","Fundo de Compensação do Trabalho","FCT","Fundo de Compensação do Trabalho","FCT","Fundo de Compensação do Trabalho","FCT","Fundo de Compensação do Trabalho","FCT","Fundo de Compensação do Trabalho","FCT","Fundo de Compensação do Trabalho","FCT","Fundo de Compensação do Trabalho","FCT","Fundo de Compensação do Trabalho","FCT","Fundo de Compensação do Trabalho","FCT","Fundo de Compensação do Trabalho","FCT","Fundo de Compensação do Trabalho","FCT","Fundo de Compensação do Trabalho","FCT","Fundo de Compensação do Trabalho","FCT","Fundo de Compensação do Trabalho","FCT","Fundo de Compensação do Trabalho","FCT","Fundo de Compensação do Trabalho","FCT","Fundo de Compensação do Trabalho","FCT","Fundo de Compensação do Trabalho","FCT","Fundo de Compensação do Trabalho","FCT","Fundo de Compensação do Trabalho","FCT","Fundo de Compensação do Trabalho","FCT","Fundo de Compensação do Trabalho","FCT","Fundo de Compensação do Trabalho","FCT","Fundo de Compensação do Trabalho","FCT","Fundo de Compensação do Trabalho","FCT","Fundo de Compensação do Trabalho","FCT","Fundo de Compensação do Trabalho","FCT","Fundo de Compensação do Trabalho","FCT","Fundo de Compensação do Trabalho","FCT","Fundo de Compensação do Trabalho","FCT","Fundo de Compensação do Trabalho","FCT","Fundo de Compensação do Trabalho","FCT","Fundo de Compensação do Trabalho","FCT","Fundo de Compensação do Trabalho","FCT","Fundo de Compensação do Trabalho","FCT","Fundo de Compensação do Trabalho","FCT","Fundo de Compensação do Trabalho","FCT","Fundo de Compensação do Trabalho","FCT","Fundo de Compensação do Trabalho","FCT","Fundo de Compensação do Trabalho","FCT","Fundo de Compensação do Trabalho","FCT","Fundo de Compensação do Trabalho","FCT","Fundo de Compensação do Trabalho","FCT","Fundo de Compensação do Trabalho","FCT","Fundo de Compensação do Trabalho","FCT","Fundo de Compensação do Trabalho","FCT","Fundo de Compensação do Trabalho","FCT","Fundo de Compensação do Trabalho","FCT","Fundo de Compensação do Trabalho","FCT","Fundo de Compensação do Trabalho","FCT","Fundo de Compensação do Trabalho","FCT","Fundo de Compensação do Trabalho","FCT","Fundo de Compensação do Trabalho","FCT","Fundo de Compensação do Trabalho","FCT","Fundo de Compensação do Trabalho","FCT","Fundo de Compensação do Trabalho","FCT","Fundo de Compensação do Trabalho","FCT","Fundo de Compensação do Trabalho","FCT","Fundo de Compensação do Trabalho","FCT","Fundo de Compensação do Trabalho","FCT","Fundo de Compensação do Trabalho","FCT","Fundo de Compensação do Trabalho","FCT","Fundo de Compensação do Trabalho","FCT","Fundo de Compensação do Trabalho","FCT","Fundo de Compensação do Trabalho","FCT","Fundo de Compensação do Trabalho","FCT","Fundo de Compensação do Trabalho","FCT","Fundo de Compensação do Trabalho","FCT","Fundo de Compensação do Trabalho","FCT","Fundo de Compensação do Trabalho","FCT","Fundo de Compensação do Trabalho","FCT","Fundo de Compensação do Trabalho","FCT","Fundo de Compensação do Trabalho","FCT","Fundo de Compensação do Trabalho","FCT","Fundo de Compensação do Trabalho","FCT","Fundo de Compensação do Trabalho","FCT","Fundo de Compensação do Trabalho","FCT","Fundo de Compensação do Trabalho","FCT","Fundo de Compensação do Trabalho","FCT","Fundo de Compensação do Trabalho","FCT","Fundo de Compensação do Trabalho","FCT","Fundo de Compensação do Trabalho","FCT","Fundo de Compensação do Trabalho","FCT","Fundo de Compensação do Trabalho","FCT","Fundo de Compensação do Trabalho","FCT","Fundo de Compensação do Trabalho","FCT","Fundo de Compensação do Trabalho","FCT","Fundo de Compensação do Trabalho","FCT","Fundo de Compensação do Trabalho","FCT","Fundo de Compensação do Trabalho","FCT","Fundo de Compensação do Trabalho","FCT","Fundo de Compensação do Trabalho","FCT","Fundo de Compensação do Trabalho","FCT","Fundo de Compensação do Trabalho","FCT","Fundo de Compensação do Trabalho","FCT","Fundo de Compensação do Trabalho","FCT","Fundo de Compensação do Trabalho","FCT","Fundo de Compensação do Trabalho","FCT","Fundo de Compensação do Trabalho","FCT","Fundo de Compensação do Trabalho","FCT","Fundo de Compensação do Trabalho","FCT","Fundo de Compensação do Trabalho","FCT","Fundo de Compensação do Trabalho","FCT","Fundo de Compensação do Trabalho","FCT","Fundo de Compensação do Trabalho","FCT","Fundo de Compensação do Trabalho","FCT","Fundo de Compensação do Trabalho","FCT","Fundo de Compensação do Trabalho","FCT","Fundo de Compensação do Trabalho","FCT","Fundo de Compensação do Trabalho","FCT","Fundo de Compensação do Trabalho","FCT","Fundo de Compensação do Trabalho","FCT","Fundo de Compensação do Trabalho","FCT","Fundo de Compensação do Trabalho","FCT","Fundo de Compensação do Trabalho","FCT","Fundo de Compensação do Trabalho","FCT","Fundo de Compensação do Trabalho","FCT","Fundo de Compensação do Trabalho","FCT","Fundo de Compensação do Trabalho","FCT","Fundo de Compensação do Trabalho","FCT","Fundo de Compensação do Trabalho","FCT","Fundo de Compensação do Trabalho","FCT","Fundo de Compensação do Trabalho","FCT","Fundo de Compensação do Trabalho","FCT","Fundo de Compensação do Trabalho","FCT","Fundo de Compensação do Trabalho","FCT","Fundo de Compensação do Trabalho","FCT","Fundo de Compensação do Trabalho","FCT","Fundo de Compensação do Trabalho","FCT","Fundo de Compensação do Trabalho","FCT","Fundo de Compensação do Trabalho","FCT","Fundo de Compensação do Trabalho","FCT","Fundo de Compensação do Trabalho","FCT","Fundo de Compensação do Trabalho","FCT","Fundo de Compensação do Trabalho","FCT","Fundo de Compensação do Trabalho","FCT","Fundo de Compensação do Trabalho","FCT","Fundo de Compensação do Trabalho","FCT","Fundo de Compensação do Trabalho","FCT","Fundo de Compensação do Trabalho","FCT","Fundo de Compensação do Trabalho","FCT","Fundo de Compensação do Trabalho","FCT","Fundo de Compensação do Trabalho","FCT","Fundo de Compensação do Trabalho","FCT","Fundo de Compensação do Trabalho","FCT","Fundo de Compensação do Trabalho","FCT","Fundo de Compensação do Trabalho","FCT","Fundo de Compensação do Trabalho","FCT","Fundo de Compensação do Trabalho","FCT","Fundo de Compensação do Trabalho","FCT","Fundo de Compensação do Trabalho","FCT","Fundo de Compensação do Trabalho","FCT","Fundo de Compensação do Trabalho","FCT","Fundo de Compensação do Trabalho","FCT","Fundo de Compensação do Trabalho","FCT","Fundo de Compensação do Trabalho","FCT","Fundo de Compensação do Trabalho","FCT","Fundo de Compensação do Trabalho","FCT","Fundo de Compensação do Trabalho","FCT","Fundo de Compensação do Trabalho","FCT","Fundo de Compensação do Trabalho","FCT","Fundo de Compensação do Trabalho","FCT","Fundo de Compensação do Trabalho","FCT","Fundo de Compensação do Trabalho","FCT","Fundo de Compensação do Trabalho","FCT","Fundo de Compensação do Trabalho","FCT","Fundo de Compensação do Trabalho","FCT","Fundo de Compensação do Trabalho","FCT","Fundo de Compensação do Trabalho","FCT","Fundo de Compensação do Trabalho","FCT","Fundo de Compensação do Trabalho","FCT","Fundo de Compensação do Trabalho","FCT","Fundo de Compensação do Trabalho","FCT","Fundo de Compensação do Trabalho","FCT","Fundo de Compensação do Trabalho","FCT","Fundo de Compensação do Trabalho","FCT","Fundo de Compensação do Trabalho","FCT","Fundo de Compensação do Trabalho","FCT","Fundo de Compensação do Trabalho","FCT","Fundo de Compensação do Trabalho","FCT","Fundo de Compensação do Trabalho","FCT","Fundo de Compensação do Trabalho","FCT","Fundo de Compensação do Trabalho","FCT","Fundo de Compensação do Trabalho","FCT","Fundo de Compensação do Trabalho","FCT","Fundo de Compensação do Trabalho","FCT","Fundo de Compensação do Trabalho","FCT","Fundo de Compensação do Trabalho","FCT","Fundo de Compensação do Trabalho","FCT","Fundo de Compensação do Trabalho","FCT","Fundo de Compensação do Trabalho","FCT","Fundo de Compensação do Trabalho","FCT","Fundo de Compensação do Trabalho","FCT","Fundo de Compensação do Trabalho","FCT","Fundo de Compensação do Trabalho","FCT","Fundo de Compensação do Trabalho","FCT","Fundo de Compensação do Trabalho","FCT","Fundo de Compensação do Trabalho","FCT","Fundo de Compensação do Trabalho","FCT","Fundo de Compensação do Trabalho","FCT","Fundo de Compensação do Trabalho","FCT","Fundo de Compensação do Trabalho","FCT","Fundo de Compensação do Trabalho","FCT","Fundo de Compensação do Trabalho","FCT","Fundo de Compensação do Trabalho","FCT","Fundo de Compensação do Trabalho","FCT","Fundo de Compensação do Trabalho","FCT","Fundo de Compensação do Trabalho","FCT","Fundo de Compensação do Trabalho","FCT","Fundo de Compensação do Trabalho","FCT","Fundo de Compensação do Trabalho","FCT","Fundo de Compensação do Trabalho","FCT","Fundo de Compensação do Trabalho","FCT","Fundo de Compensação do Trabalho","FCT","Fundo de Compensação do Trabalho","FCT","Fundo de Compensação do Trabalho","FCT","Fundo de Compensação do Trabalho","FCT","Fundo de Compensação do Trabalho","FCT","Fundo de Compensação do Trabalho","FCT","Fundo de Compensação do Trabalho","FCT","Fundo de Compensação do Trabalho","FCT","Fundo de Compensação do Trabalho","FCT","Fundo de Compensação do Trabalho","FCT","Fundo de Compensação do Trabalho","FCT","Fundo de Compensação do Trabalho","FCT","Fundo de Compensação do Trabalho","FCT","Fundo de Compensação do Trabalho","FCT","Fundo de Compensação do Trabalho","FCT","Fundo de Compensação do Trabalho","FCT","Fundo de Compensação do Trabalho","FCT","Fundo de Compensação do Trabalho","FCT","Fundo de Compensação do Trabalho","FCT","Fundo de Compensação do Trabalho","FCT","Fundo de Compensação do Trabalho","FCT","Fundo de Compensação do Trabalho","FCT","Fundo de Compensação do Trabalho","FCT","Fundo de Compensação do Trabalho","FCT","Fundo de Compensação do Trabalho","FCT","Fundo de Compensação do Trabalho","FCT","Fundo de Compensação do Trabalho","FCT","Fundo de Compensação do Trabalho","FCT","Fundo de Compensação do Trabalho","FCT","Fundo de Compensação do Trabalho","FCT","Fundo de Compensação do Trabalho","FCT","Fundo de Compensação do Trabalho","FCT","Fundo de Compensação do Trabalho","FCT","Fundo de Compensação do Trabalho","FCT","Fundo de Compensação do Trabalho","FCT","Fundo de Compensação do Trabalho","FCT","Fundo de Compensação do Trabalho","FCT","Fundo de Compensação do Trabalho","FCT","Fundo de Compensação do Trabalho","FCT","Fundo de Compensação do Trabalho","FCT","Fundo de Compensação do Trabalho","FCT","Fundo de Compensação do Trabalho","FCT","Fundo de Compensação do Trabalho","FCT","Fundo de Compensação do Trabalho","FCT","Fundo de Compensação do Trabalho","FCT","Fundo de Compensação do Trabalho","FCT","Fundo de Compensação do Trabalho","FCT","Fundo de Compensação do Trabalho","FCT","Fundo de Compensação do Trabalho","FCT","Fundo de Compensação do Trabalho","FCT","Fundo de Compensação do Trabalho","FCT","Fundo de Compensação do Trabalho","FCT","Fundo de Compensação do Trabalho","FCT","Fundo de Compensação do Trabalho","FCT","Fundo de Compensação do Trabalho","FCT","Fundo de Compensação do Trabalho","FCT","Fundo de Compensação do Trabalho","FCT","Fundo de Compensação do Trabalho","FCT","Fundo de Compensação do Trabalho","FCT","Fundo de Compensação do Trabalho","FCT","Fundo de Compensação do Trabalho","FCT","Fundo de Compensação do Trabalho","FCT","Fundo de Compensação do Trabalho","FCT","Fundo de Compensação do Trabalho","FCT","Fundo de Compensação do Trabalho","FCT","Fundo de Compensação do Trabalho","FCT","Fundo de Compensação do Trabalho","FCT","Fundo de Compensação do Trabalho","FCT","Fundo de Compensação do Trabalho","FCT","Fundo de Compensação do Trabalho","FCT","Fundo de Compensação do Trabalho","FCT","Fundo de Compensação do Trabalho","FCT","Fundo de Compensação do Trabalho","FCT","Fundo de Compensação do Trabalho","FCT","Fundo de Compensação do Trabalho","FCT","Fundo de Compensação do Trabalho","FCT","Fundo de Compensação do Trabalho","FCT","Fundo de Compensação do Trabalho","FCT","Fundo de Compensação do Trabalho","FCT","Fundo de Compensação do Trabalho","FCT","Fundo de Compensação do Trabalho","FCT","Fundo de Compensação do Trabalho","FCT","Fundo de Compensação do Trabalho","FCT","Fundo de Compensação do Trabalho","FCT","Fundo de Compensação do Trabalho","FCT","Fundo de Compensação do Trabalho","FCT","Fundo de Compensação do Trabalho","FCT","Fundo de Compensação do Trabalho","FCT","Fundo de Compensação do Trabalho","FCT","Fundo de Compensação do Trabalho","FCT","Fundo de Compensação do Trabalho","FCT","Fundo de Compensação do Trabalho","FCT","Fundo de Compensação do Trabalho","FCT","Fundo de Compensação do Trabalho","FCT","Fundo de Compensação do Trabalho","FCT","Fundo de Compensação do Trabalho","FCT","Fundo de Compensação do Trabalho","FCT","Fundo de Compensação do Trabalho","FCT","Fundo de Compensação do Trabalho","FCT","Fundo de Compensação do Trabalho","FCT","Fundo de Compensação do Trabalho","FCT","Fundo de Compensação do Trabalho","FCT","Fundo de Compensação do Trabalho","FCT","Fundo de Compensação do Trabalho","FCT","Fundo de Compensação do Trabalho","FCT","Fundo de Compensação do Trabalho","FCT","Fundo de Compensação do Trabalho","FCT","Fundo de Compensação do Trabalho","FCT","Fundo de Compensação do Trabalho","FCT","Fundo de Compensação do Trabalho","FCT","Fundo de Compensação do Trabalho","FCT","Fundo de Compensação do Trabalho","FCT","Fundo de Compensação do Trabalho","FCT","Fundo de Compensação do Trabalho","FCT","Fundo de Compensação do Trabalho","FCT","Fundo de Compensação do Trabalho","FCT","Fundo de Compensação do Trabalho","FCT","Fundo de Compensação do Trabalho","FCT","Fundo de Compensação do Trabalho","FCT","Fundo de Compensação do Trabalho","FCT","Fundo de Compensação do Trabalho","FCT","Fundo de Compensação do Trabalho","FCT","Fundo de Compensação do Trabalho","FCT","Fundo de Compensação do Trabalho","FCT","Fundo de Compensação do Trabalho","FCT","Fundo de Compensação do Trabalho","FCT","Fundo de Compensação do Trabalho","FCT","Fundo de Compensação do Trabalho","FCT","Fundo de Compensação do Trabalho","FCT","Fundo de Compensação do Trabalho","FCT","Fundo de Compensação do Trabalho","FCT","Fundo de Compensação do Trabalho","FCT","Fundo de Compensação do Trabalho","FCT","Fundo de Compensação do Trabalho","FCT","Fundo de Compensação do Trabalho","FCT","Fundo de Compensação do Trabalho","FCT","Fundo de Compensação do Trabalho","FCT","Fundo de Compensação do Trabalho","FCT","Fundo de Compensação do Trabalho","FCT","Fundo de Compensação do Trabalho","FCT","Fundo de Compensação do Trabalho","FCT","Fundo de Compensação do Trabalho","FCT","Fundo de Compensação do Trabalho","FCT","Fundo de Compensação do Trabalho","FCT","Fundo de Compensação do Trabalho","FCT","Fundo de Compensação do Trabalho","FCT","Fundo de Compensação do Trabalho","FCT","Fundo de Compensação do Trabalho","FCT","Fundo de Compensação do Trabalho","FCT","Fundo de Compensação do Trabalho","FCT","Fundo de Compensação do Trabalho","FCT","Fundo de Compensação do Trabalho","FCT","Fundo de Compensação do Trabalho","FCT","Fundo de Compensação do Trabalho","FCT","Fundo de Compensação do Trabalho","FCT","Fundo de Compensação do Trabalho","FCT","Fundo de Compensação do Trabalho","FCT","Fundo de Compensação do Trabalho","FCT","Fundo de Compensação do Trabalho","FCT","Fundo de Compensação do Trabalho","FCT","Fundo de Compensação do Trabalho","FCT","Fundo de Compensação do Trabalho","FCT","Fundo de Compensação do Trabalho","FCT","Fundo de Compensação do Trabalho","FCT","Fundo de Compensação do Trabalho","FCT","Fundo de Compensação do Trabalho","FCT","Fundo de Compensação do Trabalho","FCT","Fundo de Compensação do Trabalho","FCT","Fundo de Compensação do Trabalho","FCT","Fundo de Compensação do Trabalho","FCT","Fundo de Compensação do Trabalho","FCT","Fundo de Compensação do Trabalho","FCT","Fundo de Compensação do Trabalho","FCT","Fundo de Compensação do Trabalho","FCT","Fundo de Compensação do Trabalho","FCT","Fundo de Compensação do Trabalho","FCT","Fundo de Compensação do Trabalho","FCT","Fundo de Compensação do Trabalho","FCT","Fundo de Compensação do Trabalho","FCT","Fundo de Compensação do Trabalho","FCT","Fundo de Compensação do Trabalho","FCT","Fundo de Compensação do Trabalho","FCT","Fundo de Compensação do Trabalho","FCT","Fundo de Compensação do Trabalho","FCT","Fundo de Compensação do Trabalho","FCT","Fundo de Compensação do Trabalho","FCT","Fundo de Compensação do Trabalho","FCT","Fundo de Compensação do Trabalho","FCT","Fundo de Compensação do Trabalho","FCT","Fundo de Compensação do Trabalho","FCT","Fundo de Compensação do Trabalho","FCT","Fundo de Compensação do Trabalho","FCT","Fundo de Compensação do Trabalho","FCT","Fundo de Compensação do Trabalho","FCT","Fundo de Compensação do Trabalho","FCT","Fundo de Compensação do Trabalho","FCT","Fundo de Compensação do Trabalho","FCT","Fundo de Compensação do Trabalho","FCT","Fundo de Compensação do Trabalho","FCT","Fundo de Compensação do Trabalho","FCT","Fundo de Compensação do Trabalho","FCT","Fundo de Compensação do Trabalho","FCT","Fundo de Compensação do Trabalho","FCT","Fundo de Compensação do Trabalho","FCT","Fundo de Compensação do Trabalho","FCT","Fundo de Compensação do Trabalho","FCT","Fundo de Compensação do Trabalho","FCT","Fundo de Compensação do Trabalho","FCT","Fundo de Compensação do Trabalho","FCT","Fundo de Compensação do Trabalho","FCT","Fundo de Compensação do Trabalho","FCT","Fundo de Compensação do Trabalho","FCT","Fundo de Compensação do Trabalho","FCT","Fundo de Compensação do Trabalho","FCT","Fundo de Compensação do Trabalho","FCT","Fundo de Compensação do Trabalho","FCT","Fundo de Compensação do Trabalho","FCT","Fundo de Compensação do Trabalho","FCT","Fundo de Compensação do Trabalho","FCT","Fundo de Compensação do Trabalho","FCT","Fundo de Compensação do Trabalho","FCT","Fundo de Compensação do Trabalho","FCT","Fundo de Compensação do Trabalho","FCT","Fundo de Compensação do Trabalho","FCT","Fundo de Compensação do Trabalho","FCT","Fundo de Compensação do Trabalho","FCT","Fundo de Compensação do Trabalho","FCT","Fundo de Compensação do Trabalho","FCT","Fundo de Compensação do Trabalho","FCT","Fundo de Compensação do Trabalho","FCT","Fundo de Compensação do Trabalho","FCT","Fundo de Compensação do Trabalho","FCT","Fundo de Compensação do Trabalho","FCT","Fundo de Compensação do Trabalho","FCT","Fundo de Compensação do Trabalho","FCT","Fundo de Compensação do Trabalho","FCT","Fundo de Compensação do Trabalho","FCT","Fundo de Compensação do Trabalho","FCT","Fundo de Compensação do Trabalho","FCT","Fundo de Compensação do Trabalho","FCT","Fundo de Compensação do Trabalho","FCT","Fundo de Compensação do Trabalho","FCT","Fundo de Compensação do Trabalho","FCT","Fundo de Compensação do Trabalho","FCT","Fundo de Compensação do Trabalho","FCT","Fundo de Compensação do Trabalho","FCT","Fundo de Compensação do Trabalho","FCT","Fundo de Compensação do Trabalho","FCT","Fundo de Compensação do Trabalho","FCT","Fundo de Compensação do Trabalho","FCT","Fundo de Compensação do Trabalho","FCT","Fundo de Compensação do Trabalho","FCT","Fundo de Compensação do Trabalho","FCT","Fundo de Compensação do Trabalho","FCT","Fundo de Compensação do Trabalho","FCT","Fundo de Compensação do Trabalho","FCT","Fundo de Compensação do Trabalho","FCT","Fundo de Compensação do Trabalho","FCT","Fundo de Compensação do Trabalho","FCT","Fundo de Compensação do Trabalho","FCT","Fundo de Compensação do Trabalho","FCT","Fundo de Compensação do Trabalho","FCT","Fundo de Compensação do Trabalho","FCT","Fundo de Compensação do Trabalho","FCT","Fundo de Compensação do Trabalho","FCT","Fundo de Compensação do Trabalho","FCT","Fundo de Compensação do Trabalho","FCT","Fundo de Compensação do Trabalho","FCT","Fundo de Compensação do Trabalho","FCT","Fundo de Compensação do Trabalho","FCT","Fundo de Compensação do Trabalho","FCT","Fundo de Compensação do Trabalho","FCT","Fundo de Compensação do Trabalho","FCT","Fundo de Compensação do Trabalho","FCT","Fundo de Compensação do Trabalho","FCT","Fundo de Compensação do Trabalho","FCT","Fundo de Compensação do Trabalho","FCT","Fundo de Compensação do Trabalho","FCT","Fundo de Compensação do Trabalho","FCT","Fundo de Compensação do Trabalho","FCT","Fundo de Compensação do Trabalho","FCT","Fundo de Compensação do Trabalho","FCT","Fundo de Compensação do Trabalho","FCT","Fundo de Compensação do Trabalho","FCT","Fundo de Compensação do Trabalho","FCT","Fundo de Compensação do Trabalho","FCT","Fundo de Compensação do Trabalho","FCT","Fundo de Compensação do Trabalho","FCT","Fundo de Compensação do Trabalho","FCT","Fundo de Compensação do Trabalho","FCT","Fundo de Compensação do Trabalho","FCT","Fundo de Compensação do Trabalho","FCT","Fundo de Compensação do Trabalho","FCT","Fundo de Compensação do Trabalho","FCT","Fundo de Compensação do Trabalho","FCT","Fundo de Compensação do Trabalho","FCT","Fundo de Compensação do Trabalho","FCT","Fundo de Compensação do Trabalho","FCT","Fundo de Compensação do Trabalho","FCT","Fundo de Compensação do Trabalho","FCT","Fundo de Compensação do Trabalho","FCT","Fundo de Compensação do Trabalho","FCT","Fundo de Compensação do Trabalho","FCT","Fundo de Compensação do Trabalho","FCT","Fundo de Compensação do Trabalho","FCT","Fundo de Compensação do Trabalho","FCT","Fundo de Compensação do Trabalho","FCT","Fundo de Compensação do Trabalho","FCT","Fundo de Compensação do Trabalho","FCT","Fundo de Compensação do Trabalho","FCT","Fundo de Compensação do Trabalho","FCT","Fundo de Compensação do Trabalho","FCT","Fundo de Compensação do Trabalho","FCT","Fundo de Compensação do Trabalho","FCT","Fundo de Compensação do Trabalho","FCT","Fundo de Compensação do Trabalho","FCT","Fundo de Compensação do Trabalho","FCT","Fundo de Compensação do Trabalho","FCT","Fundo de Compensação do Trabalho","FCT","Fundo de Compensação do Trabalho","FCT","Fundo de Compensação do Trabalho","FCT","Fundo de Compensação do Trabalho","FCT","Fundo de Compensação do Trabalho","FCT","Fundo de Compensação do Trabalho","FCT","Fundo de Compensação do Trabalho","FCT","Fundo de Compensação do Trabalho","FCT","Fundo de Compensação do Trabalho","FCT","Fundo de Compensação do Trabalho","FCT","Fundo de Compensação do Trabalho","FCT","Fundo de Compensação do Trabalho","FCT","Fundo de Compensação do Trabalho","FCT","Fundo de Compensação do Trabalho","FCT","Fundo de Compensação do Trabalho","FCT","Fundo de Compensação do Trabalho","FCT","Fundo de Compensação do Trabalho","FCT","Fundo de Compensação do Trabalho","FCT","Fundo de Compensação do Trabalho","FCT","Fundo de Compensação do Trabalho","FCT","Fundo de Compensação do Trabalho","FCT","Fundo de Compensação do Trabalho","FCT","Fundo de Compensação do Trabalho","FCT","Fundo de Compensação do Trabalho","FCT","Fundo de Compensação do Trabalho","FCT","Fundo de Compensação do Trabalho","FCT","Fundo de Compensação do Trabalho","FCT","Fundo de Compensação do Trabalho","FCT","Fundo de Compensação do Trabalho","FCT","Fundo de Compensação do Trabalho","FCT","Fundo de Compensação do Trabalho","FCT","Fundo de Compensação do Trabalho","FCT","Fundo de Compensação do Trabalho","FCT","Fundo de Compensação do Trabalho","FCT","Fundo de Compensação do Trabalho","FCT","Fundo de Compensação do Trabalho","FCT","Fundo de Compensação do Trabalho","FCT","Fundo de Compensação do Trabalho","FCT","Fundo de Compensação do Trabalho","FCT","Fundo de Compensação do Trabalho","FCT","Fundo de Compensação do Trabalho","FCT","Fundo de Compensação do Trabalho","FCT","Fundo de Compensação do Trabalho","FCT","Fundo de Compensação do Trabalho","FCT","Fundo de Compensação do Trabalho","FCT","Fundo de Compensação do Trabalho","FCT","Fundo de Compensação do Trabalho","FCT","Fundo de Compensação do Trabalho","FCT","Fundo de Compensação do Trabalho","FCT","Fundo de Compensação do Trabalho","FCT","Fundo de Compensação do Trabalho","FCT","Fundo de Compensação do Trabalho","FCT","Fundo de Compensação do Trabalho","FCT","Fundo de Compensação do Trabalho","FCT","Fundo de Compensação do Trabalho","FCT","Fundo de Compensação do Trabalho","FCT","Fundo de Compensação do Trabalho","FCT","Fundo de Compensação do Trabalho","FCT","Fundo de Compensação do Trabalho","FCT","Fundo de Compensação do Trabalho","FCT","Fundo de Compensação do Trabalho","FCT","Fundo de Compensação do Trabalho","FCT","Fundo de Compensação do Trabalho","FCT","Fundo de Compensação do Trabalho","FCT","Fundo de Compensação do Trabalho","FCT","Fundo de Compensação do Trabalho","FCT","Fundo de Compensação do Trabalho","FCT","Fundo de Compensação do Trabalho","FCT","Fundo de Compensação do Trabalho","FCT","Fundo de Compensação do Trabalho","FCT","Fundo de Compensação do Trabalho","FCT","Fundo de Compensação do Trabalho","FCT","Fundo de Compensação do Trabalho","FCT","Fundo de Compensação do Trabalho","FCT","Fundo de Compensação do Trabalho","FCT","Fundo de Compensação do Trabalho","FCT","Fundo de Compensação do Trabalho","FCT","Fundo de Compensação do Trabalho","FCT","Fundo de Compensação do Trabalho","FCT","Fundo de Compensação do Trabalho","FCT","Fundo de Compensação do Trabalho","FCT","Fundo de Compensação do Trabalho","FCT","Fundo de Compensação do Trabalho","FCT","Fundo de Compensação do Trabalho","FCT","Fundo de Compensação do Trabalho","FCT","Fundo de Compensação do Trabalho","FCT","Fundo de Compensação do Trabalho","FCT","Fundo de Compensação do Trabalho","FCT","Fundo de Compensação do Trabalho","FCT","Fundo de Compensação do Trabalho","FCT","Fundo de Compensação do Trabalho","FCT","Fundo de Compensação do Trabalho","FCT","Fundo de Compensação do Trabalho","FCT","Fundo de Compensação do Trabalho","FCT","Fundo de Compensação do Trabalho","FCT","Fundo de Compensação do Trabalho","FCT","Fundo de Compensação do Trabalho","FCT","Fundo de Compensação do Trabalho","FCT","Fundo de Compensação do Trabalho","FCT","Fundo de Compensação do Trabalho","FCT","Fundo de Compensação do Trabalho","FCT","Fundo de Compensação do Trabalho","FCT","Fundo de Compensação do Trabalho","FCT","Fundo de Compensação do Trabalho","FCT","Fundo de Compensação do Trabalho","FCT","Fundo de Compensação do Trabalho","FCT","Fundo de Compensação do Trabalho","FCT","Fundo de Compensação do Trabalho","FCT","Fundo de Compensação do Trabalho","FCT","Fundo de Compensação do Trabalho","FCT","Fundo de Compensação do Trabalho","FCT","Fundo de Compensação do Trabalho","FCT","Fundo de Compensação do Trabalho","FCT","Fundo de Compensação do Trabalho","FCT","Fundo de Compensação do Trabalho","FCT","Fundo de Compensação do Trabalho","FCT","Fundo de Compensação do Trabalho","FCT","Fundo de Compensação do Trabalho","FCT","Fundo de Compensação do Trabalho","FCT","Fundo de Compensação do Trabalho","FCT","Fundo de Compensação do Trabalho","FCT","Fundo de Compensação do Trabalho","FCT","Fundo de Compensação do Trabalho","FCT","Fundo de Compensação do Trabalho","FCT","Fundo de Compensação do Trabalho","FCT","Fundo de Compensação do Trabalho","FCT","Fundo de Compensação do Trabalho","FCT","Fundo de Compensação do Trabalho","FCT","Fundo de Compensação do Trabalho","FCT","Fundo de Compensação do Trabalho","FCT","Fundo de Compensação do Trabalho","FCT","Fundo de Compensação do Trabalho","FCT","Fundo de Compensação do Trabalho","FCT","Fundo de Compensação do Trabalho","FCT","Fundo de Compensação do Trabalho","FCT","Fundo de Compensação do Trabalho","FCT","Fundo de Compensação do Trabalho","FCT","Fundo de Compensação do Trabalho","FCT","Fundo de Compensação do Trabalho","FCT","Fundo de Compensação do Trabalho","FCT","Fundo de Compensação do Trabalho","FCT","Fundo de Compensação do Trabalho","FCT","Fundo de Compensação do Trabalho","FCT","Fundo de Compensação do Trabalho","FCT","Fundo de Compensação do Trabalho","FCT","Fundo de Compensação do Trabalho","FCT","Fundo de Compensação do Trabalho","FCT","Fundo de Compensação do Trabalho","FCT","Fundo de Compensação do Trabalho","FCT","Fundo de Compensação do Trabalho","FCT","Fundo de Compensação do Trabalho","FCT","Fundo de Compensação do Trabalho","FCT","Fundo de Compensação do Trabalho","FCT","Fundo de Compensação do Trabalho","FCT","Fundo de Compensação do Trabalho","FCT","Fundo de Compensação do Trabalho","FCT","Fundo de Compensação do Trabalho","FCT","Fundo de Compensação do Trabalho","FCT","Fundo de Compensação do Trabalho","FCT","Fundo de Compensação do Trabalho","FCT","Fundo de Compensação do Trabalho","FCT","Fundo de Compensação do Trabalho","FCT","Fundo de Compensação do Trabalho","FCT","Fundo de Compensação do Trabalho","FCT","Fundo de Compensação do Trabalho","FCT","Fundo de Compensação do Trabalho","FCT","Fundo de Compensação do Trabalho","FCT","Fundo de Compensação do Trabalho","FCT","Fundo de Compensação do Trabalho","FCT","Fundo de Compensação do Trabalho","FCT","Fundo de Compensação do Trabalho","FCT","Fundo de Compensação do Trabalho","FCT","Fundo de Compensação do Trabalho","FCT","Fundo de Compensação do Trabalho","FCT","Fundo de Compensação do Trabalho","FCT","Fundo de Compensação do Trabalho","FCT","Fundo de Compensação do Trabalho","FCT","Fundo de Compensação do Trabalho","FCT","Fundo de Compensação do Trabalho","FCT","Fundo de Compensação do Trabalho","FCT","Fundo de Compensação do Trabalho","FCT","Fundo de Compensação do Trabalho","FCT","Fundo de Compensação do Trabalho","FCT","Fundo de Compensação do Trabalho","FCT","Fundo de Compensação do Trabalho","FCT","Fundo de Compensação do Trabalho","FCT","Fundo de Compensação do Trabalho","FCT","Fundo de Compensação do Trabalho","FCT","Fundo de Compensação do Trabalho","FCT","Fundo de Compensação do Trabalho","FCT","Fundo de Compensação do Trabalho","FCT","Fundo de Compensação do Trabalho","FCT","Fundo de Compensação do Trabalho","FCT","Fundo de Compensação do Trabalho","FCT","Fundo de Compensação do Trabalho","FCT","Fundo de Compensação do Trabalho","FCT","Fundo de Compensação do Trabalho","FCT","Fundo de Compensação do Trabalho","FCT","Fundo de Compensação do Trabalho","FCT","Fundo de Compensação do Trabalho","FCT","Fundo de Compensação do Trabalho","FCT","Fundo de Compensação do Trabalho","FCT","Fundo de Compensação do Trabalho","FCT","Fundo de Compensação do Trabalho","FCT","Fundo de Compensação do Trabalho","FCT","Fundo de Compensação do Trabalho","FCT","Fundo de Compensação do Trabalho","FCT","Fundo de Compensação do Trabalho","FCT","Fundo de Compensação do Trabalho","FCT","Fundo de Compensação do Trabalho","FCT","Fundo de Compensação do Trabalho","FCT","Fundo de Compensação do Trabalho","FCT","Fundo de Compensação do Trabalho","FCT","Fundo de Compensação do Trabalho","FCT","Fundo de Compensação do Trabalho","FCT","Fundo de Compensação do Trabalho","FCT","Fundo de Compensação do Trabalho","FCT","Fundo de Compensação do Trabalho","FCT","Fundo de Compensação do Trabalho","FCT","Fundo de Compensação do Trabalho","FCT","Fundo de Compensação do Trabalho","FCT","Fundo de Compensação do Trabalho","FCT","Fundo de Compensação do Trabalho","FCT","Fundo de Compensação do Trabalho","FCT","Fundo de Compensação do Trabalho","FCT","Fundo de Compensação do Trabalho","FCT","Fundo de Compensação do Trabalho","FCT","Fundo de Compensação do Trabalho","FCT","Fundo de Compensação do Trabalho","FCT","Fundo de Compensação do Trabalho","FCT","Fundo de Compensação do Trabalho","FCT","Fundo de Compensação do Trabalho","FCT","Fundo de Compensação do Trabalho","FCT","Fundo de Compensação do Trabalho","FCT","Fundo de Compensação do Trabalho","FCT","Fundo de Compensação do Trabalho","FCT","Fundo de Compensação do Trabalho","FCT","Fundo de Compensação do Trabalho","FCT","Fundo de Compensação do Trabalho","FCT","Fundo de Compensação do Trabalho","FCT","Fundo de Compensação do Trabalho","FCT","Fundo de Compensação do Trabalho","FCT","Fundo de Compensação do Trabalho","FCT","Fundo de Compensação do Trabalho","FCT","Fundo de Compensação do Trabalho","FCT","Fundo de Compensação do Trabalho","FCT","Fundo de Compensação do Trabalho","FCT","Fundo de Compensação do Trabalho","FCT","Fundo de Compensação do Trabalho","FCT","Fundo de Compensação do Trabalho","FCT","Fundo de Compensação do Trabalho","FCT","Fundo de Compensação do Trabalho","FCT","Fundo de Compensação do Trabalho","FCT","Fundo de Compensação do Trabalho","FCT","Fundo de Compensação do Trabalho","FCT","Fundo de Compensação do Trabalho","FCT","Fundo de Compensação do Trabalho","FCT","Fundo de Compensação do Trabalho","FCT","Fundo de Compensação do Trabalho","FCT","Fundo de Compensação do Trabalho","FCT","Fundo de Compensação do Trabalho","FCT","Fundo de Compensação do Trabalho","FCT","Fundo de Compensação do Trabalho","FCT","Fundo de Compensação do Trabalho","FCT","Fundo de Compensação do Trabalho","FCT","Fundo de Compensação do Trabalho","FCT","Fundo de Compensação do Trabalho","FCT","Fundo de Compensação do Trabalho","FCT","Fundo de Compensação do Trabalho","FCT","Fundo de Compensação do Trabalho","FCT","Fundo de Compensação do Trabalho","FCT","Fundo de Compensação do Trabalho","FCT","Fundo de Compensação do Trabalho","FCT","Fundo de Compensação do Trabalho","FCT","Fundo de Compensação do Trabalho","FCT","Fundo de Compensação do Trabalho","FCT","Fundo de Compensação do Trabalho","FCT","Fundo de Compensação do Trabalho","FCT","Fundo de Compensação do Trabalho","FCT","Fundo de Compensação do Trabalho","FCT","Fundo de Compensação do Trabalho","FCT","Fundo de Compensação do Trabalho","FCT","Fundo de Compensação do Trabalho","FCT","Fundo de Compensação do Trabalho","FCT","Fundo de Compensação do Trabalho","FCT","Fundo de Compensação do Trabalho","FCT","Fundo de Compensação do Trabalho","FCT","Fundo de Compensação do Trabalho","FCT","Fundo de Compensação do Trabalho","FCT","Fundo de Compensação do Trabalho","FCT","Fundo de Compensação do Trabalho","FCT","Fundo de Compensação do Trabalho","FCT","Fundo de Compensação do Trabalho","FCT","Fundo de Compensação do Trabalho","FCT","Fundo de Compensação do Trabalho","FCT","Fundo de Compensação do Trabalho","FCT","Fundo de Compensação do Trabalho","FCT","Fundo de Compensação do Trabalho","FCT","Fundo de Compensação do Trabalho","FCT","Fundo de Compensação do Trabalho","FCT","Fundo de Compensação do Trabalho","FCT","Fundo de Compensação do Trabalho","FCT","Fundo de Compensação do Trabalho","FCT","Fundo de Compensação do Trabalho","FCT","Fundo de Compensação do Trabalho","FCT","Fundo de Compensação do Trabalho","FCT","Fundo de Compensação do Trabalho","FCT","Fundo de Compensação do Trabalho","FCT","Fundo de Compensação do Trabalho","FCT","Fundo de Compensação do Trabalho","FCT","Fundo de Compensação do Trabalho","FCT","Fundo de Compensação do Trabalho","FCT","Fundo de Compensação do Trabalho","FCT","Fundo de Compensação do Trabalho","FCT","Fundo de Compensação do Trabalho","FCT","Fundo de Compensação do Trabalho","FCT","Fundo de Compensação do Trabalho","FCT","Fundo de Compensação do Trabalho","FCT","Fundo de Compensação do Trabalho","FCT","Fundo de Compensação do Trabalho","FCT","Fundo de Compensação do Trabalho","FCT","Fundo de Compensação do Trabalho","FCT","Fundo de Compensação do Trabalho","FCT","Fundo de Compensação do Trabalho","FCT","Fundo de Compensação do Trabalho","FCT","Fundo de Compensação do Trabalho","FCT","Fundo de Compensação do Trabalho","FCT","Fundo de Compensação do Trabalho","FCT","Fundo de Compensação do Trabalho","FCT","Fundo de Compensação do Trabalho","FCT","Fundo de Compensação do Trabalho","FCT","Fundo de Compensação do Trabalho","FCT","Fundo de Compensação do Trabalho","FCT","Fundo de Compensação do Trabalho","FCT","Fundo de Compensação do Trabalho","FCT","Fundo de Compensação do Trabalho","FCT","Fundo de Compensação do Trabalho","FCT","Fundo de Compensação do Trabalho","FCT","Fundo de Compensação do Trabalho","FCT","Fundo de Compensação do Trabalho","FCT","Fundo de Compensação do Trabalho","FCT","Fundo de Compensação do Trabalho","FCT","Fundo de Compensação do Trabalho","FCT","Fundo de Compensação do Trabalho","FCT","Fundo de Compensação do Trabalho","FCT","Fundo de Compensação do Trabalho","FCT","Fundo de Compensação do Trabalho","FCT","Fundo de Compensação do Trabalho","FCT","Fundo de Compensação do Trabalho","FCT","Fundo de Compensação do Trabalho","FCT","Fundo de Compensação do Trabalho","FCT","Fundo de Compensação do Trabalho","FCT","Fundo de Compensação do Trabalho","FCT","Fundo de Compensação do Trabalho","FCT","Fundo de Compensação do Trabalho","FCT","Fundo de Compensação do Trabalho","FCT","Fundo de Compensação do Trabalho","FCT","Fundo de Compensação do Trabalho","FCT","Fundo de Compensação do Trabalho","FCT","Fundo de Compensação do Trabalho","FCT","Fundo de Compensação do Trabalho","FCT","Fundo de Compensação do Trabalho","FCT","Fundo de Compensação do Trabalho","FCT","Fundo de Compensação do Trabalho","FCT","Fundo de Compensação do Trabalho","FCT","Fundo de Compensação do Trabalho","FCT","Fundo de Compensação do Trabalho","FCT","Fundo de Compensação do Trabalho","FCT","Fundo de Compensação do Trabalho","FCT","Fundo de Compensação do Trabalho","FCT","Fundo de Compensação do Trabalho","FCT","Fundo de Compensação do Trabalho","FCT","Fundo de Compensação do Trabalho","FCT","Fundo de Compensação do Trabalho","FCT","Fundo de Compensação do Trabalho","FCT","Fundo de Compensação do Trabalho","FCT","Fundo de Compensação do Trabalho","FCT","Fundo de Compensação do Trabalho","FCT","Fundo de Compensação do Trabalho","FCT","Fundo de Compensação do Trabalho","FCT","Fundo de Compensação do Trabalho","FCT","Fundo de Compensação do Trabalho","FCT","Fundo de Compensação do Trabalho","FCT","Fundo de Compensação do Trabalho","FCT","Fundo de Compensação do Trabalho","FCT","Fundo de Compensação do Trabalho","FCT","Fundo de Compensação do Trabalho","FCT","Fundo de Compensação do Trabalho","FCT","Fundo de Compensação do Trabalho","FCT","Fundo de Compensação do Trabalho","FCT","Fundo de Compensação do Trabalho","FCT","Fundo de Compensação do Trabalho","FCT","Fundo de Compensação do Trabalho","FCT","Fundo de Compensação do Trabalho","FCT","Fundo de Compensação do Trabalho","FCT","Fundo de Compensação do Trabalho","FCT","Fundo de Compensação do Trabalho","FCT","Fundo de Compensação do Trabalho","FCT","Fundo de Compensação do Trabalho","FCT","Fundo de Compensação do Trabalho","FCT","Fundo de Compensação do Trabalho","FCT","Fundo de Compensação do Trabalho","FCT","Fundo de Compensação do Trabalho","FCT","Fundo de Compensação do Trabalho","FCT","Fundo de Compensação do Trabalho","FCT","Fundo de Compensação do Trabalho","FCT","Fundo de Compensação do Trabalho","FCT","Fundo de Compensação do Trabalho","FCT","Fundo de Compensação do Trabalho","FCT","Fundo de Compensação do Trabalho","FCT","Fundo de Compensação do Trabalho","FCT","Fundo de Compensação do Trabalho","FCT","Fundo de Compensação do Trabalho","FCT","Fundo de Compensação do Trabalho","FCT","Fundo de Compensação do Trabalho","FCT","Fundo de Compensação do Trabalho","FCT","Fundo de Compensação do Trabalho","FCT","Fundo de Compensação do Trabalho","FCT","Fundo de Compensação do Trabalho","FCT","Fundo de Compensação do Trabalho","FCT","Fundo de Compensação do Trabalho","FCT","Fundo de Compensação do Trabalho","FCT","Fundo de Compensação do Trabalho","FCT","Fundo de Compensação do Trabalho","FCT","Fundo de Compensação do Trabalho","FCT","Fundo de Compensação do Trabalho","FCT","Fundo de Compensação do Trabalho","FCT","Fundo de Compensação do Trabalho","FCT","Fundo de Compensação do Trabalho","FCT","Fundo de Compensação do Trabalho","FCT","Fundo de Compensação do Trabalho","FCT","Fundo de Compensação do Trabalho","FCT","Fundo de Compensação do Trabalho","FCT","Fundo de Compensação do Trabalho","FCT","Fundo de Compensação do Trabalho","FCT","Fundo de Compensação do Trabalho","FCT","Fundo de Compensação do Trabalho","FCT","Fundo de Compensação do Trabalho","FCT","Fundo de Compensação do Trabalho","FCT","Fundo de Compensação do Trabalho","FCT","Fundo de Compensação do Trabalho","FCT","Fundo de Compensação do Trabalho","FCT","Fundo de Compensação do Trabalho","FCT","Fundo de Compensação do Trabalho","FCT","Fundo de Compensação do Trabalho","FCT","Fundo de Compensação do Trabalho","FCT","Fundo de Compensação do Trabalho","FCT","Fundo de Compensação do Trabalho","FCT","Fundo de Compensação do Trabalho","FCT","Fundo de Compensação do Trabalho","FCT","Fundo de Compensação do Trabalho","FCT","Fundo de Compensação do Trabalho","FCT","Fundo de Compensação do Trabalho","FCT","Fundo de Compensação do Trabalho","FCT","Fundo de Compensação do Trabalho","FCT","Fundo de Compensação do Trabalho","FCT","Fundo de Compensação do Trabalho","FCT","Fundo de Compensação do Trabalho","FCT","Fundo de Compensação do Trabalho","FCT","Fundo de Compensação do Trabalho","FCT","Fundo de Compensação do Trabalho","FCT","Fundo de Compensação do Trabalho","FCT","Fundo de Compensação do Trabalho","FCT","Fundo de Compensação do Trabalho","FCT","Fundo de Compensação do Trabalho","FCT","Fundo de Compensação do Trabalho","FCT","Fundo de Compensação do Trabalho","FCT","Fundo de Compensação do Trabalho","FCT","Fundo de Compensação do Trabalho","FCT","Fundo de Compensação do Trabalho","FCT","Fundo de Compensação do Trabalho","FCT","Fundo de Compensação do Trabalho","FCT","Fundo de Compensação do Trabalho","FCT","Fundo de Compensação do Trabalho","FCT","Fundo de Compensação do Trabalho","FCT","Fundo de Compensação do Trabalho","FCT","Fundo de Compensação do Trabalho","FCT","Fundo de Compensação do Trabalho","FCT","Fundo de Compensação do Trabalho","FCT","Fundo de Compensação do Trabalho","FCT","Fundo de Compensação do Trabalho","FCT","Fundo de Compensação do Trabalho","FCT","Fundo de Compensação do Trabalho","FCT","Fundo de Compensação do Trabalho","FCT","Fundo de Compensação do Trabalho","FCT","Fundo de Compensação do Trabalho","FCT","Fundo de Compensação do Trabalho","FCT","Fundo de Compensação do Trabalho","FCT","Fundo de Compensação do Trabalho","FCT","Fundo de Compensação do Trabalho","FCT","Fundo de Compensação do Trabalho","FCT","Fundo de Compensação do Trabalho","FCT","Fundo de Compensação do Trabalho","FCT","Fundo de Compensação do Trabalho","FCT","Fundo de Compensação do Trabalho","FCT","Fundo de Compensação do Trabalho","FCT","Fundo de Compensação do Trabalho","FCT","Fundo de Compensação do Trabalho","FCT","Fundo de Compensação do Trabalho","FCT","Fundo de Compensação do Trabalho","FCT","Fundo de Compensação do Trabalho","FCT","Fundo de Compensação do Trabalho","FCT","Fundo de Compensação do Trabalho","FCT","Fundo de Compensação do Trabalho","FCT","Fundo de Compensação do Trabalho","FCT","Fundo de Compensação do Trabalho","FCT","Fundo de Compensação do Trabalho","FCT","Fundo de Compensação do Trabalho","FCT","Fundo de Compensação do Trabalho","FCT","Fundo de Compensação do Trabalho","FCT","Fundo de Compensação do Trabalho","FCT","Fundo de Compensação do Trabalho","FCT","Fundo de Compensação do Trabalho","FCT","Fundo de Compensação do Trabalho","FCT","Fundo de Compensação do Trabalho","FCT","Fundo de Compensação do Trabalho","FCT","Fundo de Compensação do Trabalho","FCT","Fundo de Compensação do Trabalho","FCT","Fundo de Compensação do Trabalho","FCT","Fundo de Compensação do Trabalho","FCT","Fundo de Compensação do Trabalho","FCT","Fundo de Compensação do Trabalho","FCT","Fundo de Compensação do Trabalho","FCT","Fundo de Compensação do Trabalho","FCT","Fundo de Compensação do Trabalho","FCT","Fundo de Compensação do Trabalho","FCT","Fundo de Compensação do Trabalho","FCT","Fundo de Compensação do Trabalho","FCT","Fundo de Compensação do Trabalho","FCT","Fundo de Compensação do Trabalho","FCT","Fundo de Compensação do Trabalho","FCT","Fundo de Compensação do Trabalho","FCT","Fundo de Compensação do Trabalho","FCT","Fundo de Compensação do Trabalho","FCT","Fundo de Compensação do Trabalho","FCT","Fundo de Compensação do Trabalho","FCT","Fundo de Compensação do Trabalho","FCT","Fundo de Compensação do Trabalho","FCT","Fundo de Compensação do Trabalho","FCT","Fundo de Compensação do Trabalho","FCT","Fundo de Compensação do Trabalho","FCT","Fundo de Compensação do Trabalho","FCT","Fundo de Compensação do Trabalho","FCT","Fundo de Compensação do Trabalho","FCT","Fundo de Compensação do Trabalho","FCT","Fundo de Compensação do Trabalho","FCT","Fundo de Compensação do Trabalho","FCT","Fundo de Compensação do Trabalho","FCT","Fundo de Compensação do Trabalho","FCT","Fundo de Compensação do Trabalho","FCT","Fundo de Compensação do Trabalho","FCT","Fundo de Compensação do Trabalho","FCT","Fundo de Compensação do Trabalho","FCT","Fundo de Compensação do Trabalho","FCT","Fundo de Compensação do Trabalho","FCT","Fundo de Compensação do Trabalho","FCT","Fundo de Compensação do Trabalho","FCT","Fundo de Compensação do Trabalho","FCT","Fundo de Compensação do Trabalho","FCT","Fundo de Compensação do Trabalho","FCT","Fundo de Compensação do Trabalho","FCT","Fundo de Compensação do Trabalho","FCT","Fundo de Compensação do Trabalho","FCT","Fundo de Compensação do Trabalho","FCT","Fundo de Compensação do Trabalho","FCT","Fundo de Compensação do Trabalho","FCT","Fundo de Compensação do Trabalho","FCT","Fundo de Compensação do Trabalho","FCT","Fundo de Compensação do Trabalho","FCT","Fundo de Compensação do Trabalho","FCT","Fundo de Compensação do Trabalho","FCT","Fundo de Compensação do Trabalho","FCT","Fundo de Compensação do Trabalho","FCT","Fundo de Compensação do Trabalho","FCT","Fundo de Compensação do Trabalho","FCT","Fundo de Compensação do Trabalho","FCT","Fundo de Compensação do Trabalho","FCT","Fundo de Compensação do Trabalho","FCT","Fundo de Compensação do Trabalho","FCT","Fundo de Compensação do Trabalho","FCT","Fundo de Compensação do Trabalho","FCT","Fundo de Compensação do Trabalho","FCT","Fundo de Compensação do Trabalho","FCT","Fundo de Compensação do Trabalho","FCT","Fundo de Compensação do Trabalho","FCT","Fundo de Compensação do Trabalho","FCT","Fundo de Compensação do Trabalho","FCT","Fundo de Compensação do Trabalho","FCT","Fundo de Compensação do Trabalho","FCT","Fundo de Compensação do Trabalho","FCT","Fundo de Compensação do Trabalho","FCT","Fundo de Compensação do Trabalho","FCT","Fundo de Compensação do Trabalho","FCT","Fundo de Compensação do Trabalho","FCT","Fundo de Compensação do Trabalho","FCT","Fundo de Compensação do Trabalho","FCT","Fundo de Compensação do Trabalho","FCT","Fundo de Compensação do Trabalho","FCT","Fundo de Compensação do Trabalho","FCT","Fundo de Compensação do Trabalho","FCT","Fundo de Compensação do Trabalho","FCT","Fundo de Compensação do Trabalho","FCT","Fundo de Compensação do Trabalho","FCT","Fundo de Compensação do Trabalho","FCT","Fundo de Compensação do Trabalho","FCT","Fundo de Compensação do Trabalho","FCT","Fundo de Compensação do Trabalho","FCT","Fundo de Compensação do Trabalho","FCT","Fundo de Compensação do Trabalho","FCT","Fundo de Compensação do Trabalho","FCT","Fundo de Compensação do Trabalho","FCT","Fundo de Compensação do Trabalho","FCT","Fundo de Compensação do Trabalho","FCT","Fundo de Compensação do Trabalho","FCT","Fundo de Compensação do Trabalho","FCT","Fundo de Compensação do Trabalho","FCT","Fundo de Compensação do Trabalho","FCT","Fundo de Compensação do Trabalho","FCT","Fundo de Compensação do Trabalho","FCT","Fundo de Compensação do Trabalho","FCT","Fundo de Compensação do Trabalho","FCT","Fundo de Compensação do Trabalho","FCT","Fundo de Compensação do Trabalho","FCT","Fundo de Compensação do Trabalho","FCT","Fundo de Compensação do Trabalho","FCT","Fundo de Compensação do Trabalho","FCT","Fundo de Compensação do Trabalho","FCT","Fundo de Compensação do Trabalho","FCT","Fundo de Compensação do Trabalho","FCT","Fundo de Compensação do Trabalho","FCT","Fundo de Compensação do Trabalho","FCT","Fundo de Compensação do Trabalho","FCT","Fundo de Compensação do Trabalho","FCT","Fundo de Compensação do Trabalho","FCT","Fundo de Compensação do Trabalho","FCT","Fundo de Compensação do Trabalho","FCT","Fundo de Compensação do Trabalho","FCT","Fundo de Compensação do Trabalho","FCT","Fundo de Compensação do Trabalho","FCT","Fundo de Compensação do Trabalho","FCT","Fundo de Compensação do Trabalho","FCT","Fundo de Compensação do Trabalho","FCT","Fundo de Compensação do Trabalho","FCT","Fundo de Compensação do Trabalho","FCT","Fundo de Compensação do Trabalho","FCT","Fundo de Compensação do Trabalho","FCT","Fundo de Compensação do Trabalho","FCT","Fundo de Compensação do Trabalho","FCT","Fundo de Compensação do Trabalho","FCT","Fundo de Compensação do Trabalho","FCT","Fundo de Compensação do Trabalho","FCT","Fundo de Compensação do Trabalho","FCT","Fundo de Compensação do Trabalho","FCT","Fundo de Compensação do Trabalho","FCT","Fundo de Compensação do Trabalho","FCT","Fundo de Compensação do Trabalho","FCT","Fundo de Compensação do Trabalho","FCT","Fundo de Compensação do Trabalho","FCT","Fundo de Compensação do Trabalho","FCT","Fundo de Compensação do Trabalho","FCT","Fundo de Compensação do Trabalho","FCT","Fundo de Compensação do Trabalho","FCT","Fundo de Compensação do Trabalho","FCT","Fundo de Compensação do Trabalho","FCT","Fundo de Compensação do Trabalho","FCT","Fundo de Compensação do Trabalho","FCT","Fundo de Compensação do Trabalho","FCT","Fundo de Compensação do Trabalho","FCT","Fundo de Compensação do Trabalho","FCT","Fundo de Compensação do Trabalho","FCT","Fundo de Compensação do Trabalho","FCT","Fundo de Compensação do Trabalho","FCT","Fundo de Compensação do Trabalho","FCT","Fundo de Compensação do Trabalho","FCT","Fundo de Compensação do Trabalho","FCT","Fundo de Compensação do Trabalho","FCT","Fundo de Compensação do Trabalho","FCT","Fundo de Compensação do Trabalho","FCT","Fundo de Compensação do Trabalho","FCT","Fundo de Compensação do Trabalho","FCT","Fundo de Compensação do Trabalho","FCT","Fundo de Compensação do Trabalho","FCT","Fundo de Compensação do Trabalho","FCT","Fundo de Compensação do Trabalho","FCT","Fundo de Compensação do Trabalho","FCT","Fundo de Compensação do Trabalho","FCT","Fundo de Compensação do Trabalho","FCT","Fundo de Compensação do Trabalho","FCT","Fundo de Compensação do Trabalho","FCT","Fundo de Compensação do Trabalho","FCT","Fundo de Compensação do Trabalho","FCT","Fundo de Compensação do Trabalho","FCT","Fundo de Compensação do Trabalho","FCT","Fundo de Compensação do Trabalho","FCT","Fundo de Compensação do Trabalho","FCT","Fundo de Compensação do Trabalho","FCT","Fundo de Compensação do Trabalho","FCT","Fundo de Compensação do Trabalho","FCT","Fundo de Compensação do Trabalho","FCT","Fundo de Compensação do Trabalho","FCT","Fundo de Compensação do Trabalho","FCT","Fundo de Compensação do Trabalho","FCT","Fundo de Compensação do Trabalho","FCT","Fundo de Compensação do Trabalho","FCT","Fundo de Compensação do Trabalho","FCT","Fundo de Compensação do Trabalho","FCT","Fundo de Compensação do Trabalho","FCT","Fundo de Compensação do Trabalho","FCT","Fundo de Compensação do Trabalho","FCT","Fundo de Compensação do Trabalho","FCT","Fundo de Compensação do Trabalho","FCT","Fundo de Compensação do Trabalho","FCT","Fundo de Compensação do Trabalho","FCT","Fundo de Compensação do Trabalho","FCT","Fundo de Compensação do Trabalho","FCT","Fundo de Compensação do Trabalho","FCT","Fundo de Compensação do Trabalho","FCT","Fundo de Compensação do Trabalho","FCT","Fundo de Compensação do Trabalho","FCT","Fundo de Compensação do Trabalho","FCT","Fundo de Compensação do Trabalho","FCT","Fundo de Compensação do Trabalho","FCT","Fundo de Compensação do Trabalho","FCT","Fundo de Compensação do Trabalho","FCT","Fundo de Compensação do Trabalho","FCT","Fundo de Compensação do Trabalho","FCT","Fundo de Compensação do Trabalho","FCT","Fundo de Compensação do Trabalho","FCT","Fundo de Compensação do Trabalho","FCT","Fundo de Compensação do Trabalho","FCT","Fundo de Compensação do Trabalho","FCT","Fundo de Compensação do Trabalho","FCT","Fundo de Compensação do Trabalho","FCT","Fundo de Compensação do Trabalho","FCT","Fundo de Compensação do Trabalho","FCT","Fundo de Compensação do Trabalho","FCT","Fundo de Compensação do Trabalho","FCT","Fundo de Compensação do Trabalho","FCT","Fundo de Compensação do Trabalho","FCT","Fundo de Compensação do Trabalho","FCT","Fundo de Compensação do Trabalho","FCT","Fundo de Compensação do Trabalho","FCT","Fundo de Compensação do Trabalho","FCT","Fundo de Compensação do Trabalho","FCT","Fundo de Compensação do Trabalho","FCT","Fundo de Compensação do Trabalho","FCT","Fundo de Compensação do Trabalho","FCT","Fundo de Compensação do Trabalho","FCT","Fundo de Compensação do Trabalho","FCT","Fundo de Compensação do Trabalho","FCT","Fundo de Compensação do Trabalho","FCT","Fundo de Compensação do Trabalho","FCT","Fundo de Compensação do Trabalho","FCT","Fundo de Compensação do Trabalho","FCT","Fundo de Compensação do Trabalho","FCT","Fundo de Compensação do Trabalho","FCT","Fundo de Compensação do Trabalho","FCT","Fundo de Compensação do Trabalho","FCT","Fundo de Compensação do Trabalho","FCT","Fundo de Compensação do Trabalho","FCT","Fundo de Compensação do Trabalho","FCT","Fundo de Compensação do Trabalho","FCT","Fundo de Compensação do Trabalho","FCT","Fundo de Compensação do Trabalho","FCT","Fundo de Compensação do Trabalho","FCT","Fundo de Compensação do Trabalho","FCT","Fundo de Compensação do Trabalho","FCT","Fundo de Compensação do Trabalho","FCT","Fundo de Compensação do Trabalho","FCT","Fundo de Compensação do Trabalho","FCT","Fundo de Compensação do Trabalho","FCT","Fundo de Compensação do Trabalho","FCT","Fundo de Compensação do Trabalho","FCT","Fundo de Compensação do Trabalho","FCT","Fundo de Compensação do Trabalho","FCT","Fundo de Compensação do Trabalho","FCT","Fundo de Compensação do Trabalho","FCT","Fundo de Compensação do Trabalho","FCT","Fundo de Compensação do Trabalho","FCT","Fundo de Compensação do Trabalho","FCT","Fundo de Compensação do Trabalho","FCT","Fundo de Compensação do Trabalho","FCT","Fundo de Compensação do Trabalho","FCT","Fundo de Compensação do Trabalho","FCT","Fundo de Compensação do Trabalho","FCT","Fundo de Compensação do Trabalho","FCT","Fundo de Compensação do Trabalho","FCT","Fundo de Compensação do Trabalho","FCT","Fundo de Compensação do Trabalho","FCT","Fundo de Compensação do Trabalho","FCT","Fundo de Compensação do Trabalho","FCT","Fundo de Compensação do Trabalho","FCT","Fundo de Compensação do Trabalho","FCT","Fundo de Compensação do Trabalho","FCT","Fundo de Compensação do Trabalho","FCT","Fundo de Compensação do Trabalho","FCT","Fundo de Compensação do Trabalho","FCT","Fundo de Compensação do Trabalho","FCT","Fundo de Compensação do Trabalho","FCT","Fundo de Compensação do Trabalho","FCT","Fundo de Compensação do Trabalho","FCT","Fundo de Compensação do Trabalho","FCT","Fundo de Compensação do Trabalho","FCT","Fundo de Compensação do Trabalho","FCT","Fundo de Compensação do Trabalho","FCT","Fundo de Compensação do Trabalho","FCT","Fundo de Compensação do Trabalho","FCT","Fundo de Compensação do Trabalho","FCT","Fundo de Compensação do Trabalho","FCT","Fundo de Compensação do Trabalho","FCT","Fundo de Compensação do Trabalho","FCT","Fundo de Compensação do Trabalho","FCT","Fundo de Compensação do Trabalho","FCT","Fundo de Compensação do Trabalho","FCT","Fundo de Compensação do Trabalho","FCT","Fundo de Compensação do Trabalho","FCT","Fundo de Compensação do Trabalho","FCT","Fundo de Compensação do Trabalho","FCT","Fundo de Compensação do Trabalho","FCT","Fundo de Compensação do Trabalho","FCT","Fundo de Compensação do Trabalho","FCT","Fundo de Compensação do Trabalho","FCT","Fundo de Compensação do Trabalho","FCT","Fundo de Compensação do Trabalho","FCT","Fundo de Compensação do Trabalho","FCT","Fundo de Compensação do Trabalho","FCT","Fundo de Compensação do Trabalho","FCT","Fundo de Compensação do Trabalho","FCT","Fundo de Compensação do Trabalho","FCT","Fundo de Compensação do Trabalho","FCT","Fundo de Compensação do Trabalho","FCT","Fundo de Compensação do Trabalho","FCT","Fundo de Compensação do Trabalho","FCT","Fundo de Compensação do Trabalho","FCT","Fundo de Compensação do Trabalho","FCT","Fundo de Compensação do Trabalho","FCT","Fundo de Compensação do Trabalho","FCT","Fundo de Compensação do Trabalho","FCT","Fundo de Compensação do Trabalho","FCT","Fundo de Compensação do Trabalho","FCT","Fundo de Compensação do Trabalho","FCT","Fundo de Compensação do Trabalho","FCT","Fundo de Compensação do Trabalho","FCT","Fundo de Compensação do Trabalho","FCT","Fundo de Compensação do Trabalho","FCT","Fundo de Compensação do Trabalho","FCT","Fundo de Compensação do Trabalho","FCT","Fundo de Compensação do Trabalho","FCT","Fundo de Compensação do Trabalho","FCT","Fundo de Compensação do Trabalho","FCT","Fundo de Compensação do Trabalho","FCT","Fundo de Compensação do Trabalho","FCT","Fundo de Compensação do Trabalho","FCT","Fundo de Compensação do Trabalho","FCT","Fundo de Compensação do Trabalho","FCT","Fundo de Compensação do Trabalho","FCT","Fundo de Compensação do Trabalho","FCT","Fundo de Compensação do Trabalho","FCT","Fundo de Compensação do Trabalho","FCT","Fundo de Compensação do Trabalho","FCT","Fundo de Compensação do Trabalho","FCT","Fundo de Compensação do Trabalho","FCT","Fundo de Compensação do Trabalho","FCT","Fundo de Compensação do Trabalho","FCT","Fundo de Compensação do Trabalho","FCT","Fundo de Compensação do Trabalho","FCT","Fundo de Compensação do Trabalho","FCT","Fundo de Compensação do Trabalho","FCT","Fundo de Compensação do Trabalho","FCT","Fundo de Compensação do Trabalho","FCT","Fundo de Compensação do Trabalho","FCT","Fundo de Compensação do Trabalho","FCT","Fundo de Compensação do Trabalho","FCT","Fundo de Compensação do Trabalho","FCT","Fundo de Compensação do Trabalho","FCT","Fundo de Compensação do Trabalho","FCT","Fundo de Compensação do Trabalho","FCT","Fundo de Compensação do Trabalho","FCT","Fundo de Compensação do Trabalho","FCT","Fundo de Compensação do Trabalho","FCT","Fundo de Compensação do Trabalho","FCT","Fundo de Compensação do Trabalho","FCT","Fundo de Compensação do Trabalho","FCT","Fundo de Compensação do Trabalho","FCT","Fundo de Compensação do Trabalho","FCT","Fundo de Compensação do Trabalho","FCT","Fundo de Compensação do Trabalho","FCT","Fundo de Compensação do Trabalho","FCT","Fundo de Compensação do Trabalho","FCT","Fundo de Compensação do Trabalho","FCT","Fundo de Compensação do Trabalho","FCT","Fundo de Compensação do Trabalho","FCT","Fundo de Compensação do Trabalho","FCT","Fundo de Compensação do Trabalho","FCT","Fundo de Compensação do Trabalho","FCT","Fundo de Compensação do Trabalho","FCT","Fundo de Compensação do Trabalho","FCT","Fundo de Compensação do Trabalho","FCT","Fundo de Compensação do Trabalho","FCT","Fundo de Compensação do Trabalho","FCT","Fundo de Compensação do Trabalho","FCT","Fundo de Compensação do Trabalho","FCT","Fundo de Compensação do Trabalho","FCT","Fundo de Compensação do Trabalho","FCT","Fundo de Compensação do Trabalho","FCT","Fundo de Compensação do Trabalho","FCT","Fundo de Compensação do Trabalho","FCT","Fundo de Compensação do Trabalho","FCT","Fundo de Compensação do Trabalho","FCT","Fundo de Compensação do Trabalho","FCT","Fundo de Compensação do Trabalho","FCT","Fundo de Compensação do Trabalho","FCT","Fundo de Compensação do Trabalho","FCT","Fundo de Compensação do Trabalho","FCT","Fundo de Compensação do Trabalho","FCT","Fundo de Compensação do Trabalho","FCT","Fundo de Compensação do Trabalho","FCT","Fundo de Compensação do Trabalho","FCT","Fundo de Compensação do Trabalho","FCT","Fundo de Compensação do Trabalho","FCT","Fundo de Compensação do Trabalho","FCT","Fundo de Compensação do Trabalho","FCT","Fundo de Compensação do Trabalho","FCT","Fundo de Compensação do Trabalho","FCT","Fundo de Compensação do Trabalho","FCT","Fundo de Compensação do Trabalho","FCT","Fundo de Compensação do Trabalho","FCT","Fundo de Compensação do Trabalho","FCT","Fundo de Compensação do Trabalho","FCT","Fundo de Compensação do Trabalho","FCT","Fundo de Compensação do Trabalho","FCT","Fundo de Compensação do Trabalho","FCT","Fundo de Compensação do Trabalho","FCT","Fundo de Compensação do Trabalho","FCT","Fundo de Compensação do Trabalho","FCT","Fundo de Compensação do Trabalho","FCT","Fundo de Compensação do Trabalho","FCT","Fundo de Compensação do Trabalho","FCT","Fundo de Compensação do Trabalho","FCT","Fundo de Compensação do Trabalho","FCT","Fundo de Compensação do Trabalho","FCT","Fundo de Compensação do Trabalho","FCT","Fundo de Compensação do Trabalho","FCT","Fundo de Compensação do Trabalho","FCT","Fundo de Compensação do Trabalho","FCT","Fundo de Compensação do Trabalho","FCT","Fundo de Compensação do Trabalho","FCT","Fundo de Compensação do Trabalho","FCT","Fundo de Compensação do Trabalho","FCT","Fundo de Compensação do Trabalho","FCT","Fundo de Compensação do Trabalho","FCT","Fundo de Compensação do Trabalho","FCT","Fundo de Compensação do Trabalho","FCT","Fundo de Compensação do Trabalho","FCT","Fundo de Compensação do Trabalho","FCT","Fundo de Compensação do Trabalho","FCT","Fundo de Compensação do Trabalho","FCT","Fundo de Compensação do Trabalho","FCT","Fundo de Compensação do Trabalho","FCT","Fundo de Compensação do Trabalho","FCT","Fundo de Compensação do Trabalho","FCT","Fundo de Compensação do Trabalho","FCT","Fundo de Compensação do Trabalho","FCT","Fundo de Compensação do Trabalho","FCT","Fundo de Compensação do Trabalho","FCT","Fundo de Compensação do Trabalho","FCT","Fundo de Compensação do Trabalho","FCT","Fundo de Compensação do Trabalho","FCT","Fundo de Compensação do Trabalho","FCT","Fundo de Compensação do Trabalho","FCT","Fundo de Compensação do Trabalho","FCT","Fundo de Compensação do Trabalho","FCT","Fundo de Compensação do Trabalho","FCT","Fundo de Compensação do Trabalho","FCT","Fundo de Compensação do Trabalho","FCT","Fundo de Compensação do Trabalho","FCT","Fundo de Compensação do Trabalho","FCT","Fundo de Compensação do Trabalho","FCT","Fundo de Compensação do Trabalho","FCT","Fundo de Compensação do Trabalho","FCT","Fundo de Compensação do Trabalho","FCT","Fundo de Compensação do Trabalho","FCT","Fundo de Compensação do Trabalho","FCT","Fundo de Compensação do Trabalho","FCT","Fundo de Compensação do Trabalho","FCT","Fundo de Compensação do Trabalho","FCT","Fundo de Compensação do Trabalho","FCT","Fundo de Compensação do Trabalho","FCT","Fundo de Compensação do Trabalho","FCT","Fundo de Compensação do Trabalho","FCT","Fundo de Compensação do Trabalho","FCT","Fundo de Compensação do Trabalho","FCT","Fundo de Compensação do Trabalho","FCT","Fundo de Compensação do Trabalho","FCT","Fundo de Compensação do Trabalho","FCT","Fundo de Compensação do Trabalho","FCT","Fundo de Compensação do Trabalho","FCT","Fundo de Compensação do Trabalho","FCT","Fundo de Compensação do Trabalho","FCT","Fundo de Compensação do Trabalho","FCT","Fundo de Compensação do Trabalho","FCT","Fundo de Compensação do Trabalho","FCT","Fundo de Compensação do Trabalho","FCT","Fundo de Compensação do Trabalho","FCT","Fundo de Compensação do Trabalho","FCT","Fundo de Compensação do Trabalho","FCT","Fundo de Compensação do Trabalho","FCT","Fundo de Compensação do Trabalho","FCT","Fundo de Compensação do Trabalho","FCT","Fundo de Compensação do Trabalho","FCT","Fundo de Compensação do Trabalho","FCT","Fundo de Compensação do Trabalho","FCT","Fundo de Compensação do Trabalho","FCT","Fundo de Compensação do Trabalho","FCT","Fundo de Compensação do Trabalho","FCT","Fundo de Compensação do Trabalho","FCT","Fundo de Compensação do Trabalho","FCT","Fundo de Compensação do Trabalho","FCT","Fundo de Compensação do Trabalho","FCT","Fundo de Compensação do Trabalho","FCT","Fundo de Compensação do Trabalho","FCT","Fundo de Compensação do Trabalho","FCT","Fundo de Compensação do Trabalho","FCT","Fundo de Compensação do Trabalho","FCT","Fundo de Compensação do Trabalho","FCT","Fundo de Compensação do Trabalho","FCT","Fundo de Compensação do Trabalho","FCT","Fundo de Compensação do Trabalho","FCT","Fundo de Compensação do Trabalho","FCT","Fundo de Compensação do Trabalho","FCT","Fundo de Compensação do Trabalho","FCT","Fundo de Compensação do Trabalho","FCT","Fundo de Compensação do Trabalho","FCT","Fundo de Compensação do Trabalho","FCT","Fundo de Compensação do Trabalho","FCT","Fundo de Compensação do Trabalho","FCT","Fundo de Compensação do Trabalho","FCT","Fundo de Compensação do Trabalho","FCT","Fundo de Compensação do Trabalho","FCT","Fundo de Compensação do Trabalho","FCT","Fundo de Compensação do Trabalho","FCT","Fundo de Compensação do Trabalho","FCT","Fundo de Compensação do Trabalho","FCT","Fundo de Compensação do Trabalho","FCT","Fundo de Compensação do Trabalho","FCT","Fundo de Compensação do Trabalho","FCT","Fundo de Compensação do Trabalho","FCT","Fundo de Compensação do Trabalho","FCT","Fundo de Compensação do Trabalho","FCT","Fundo de Compensação do Trabalho","FCT","Fundo de Compensação do Trabalho","FCT","Fundo de Compensação do Trabalho","FCT","Fundo de Compensação do Trabalho","FCT","Fundo de Compensação do Trabalho","FCT","Fundo de Compensação do Trabalho","FCT","Fundo de Compensação do Trabalho","FCT","Fundo de Compensação do Trabalho","FCT","Fundo de Compensação do Trabalho","FCT","Fundo de Compensação do Trabalho","FCT","Fundo de Compensação do Trabalho","FCT","Fundo de Compensação do Trabalho","FCT","Fundo de Compensação do Trabalho","FCT","Fundo de Compensação do Trabalho","FCT","Fundo de Compensação do Trabalho","FCT","Fundo de Compensação do Trabalho","FCT","Fundo de Compensação do Trabalho","FCT","Fundo de Compensação do Trabalho","FCT","Fundo de Compensação do Trabalho","FCT","Fundo de Compensação do Trabalho","FCT","Fundo de Compensação do Trabalho","FCT","Fundo de Compensação do Trabalho","FCT","Fundo de Compensação do Trabalho","FCT","Fundo de Compensação do Trabalho","FCT","Fundo de Compensação do Trabalho","FCT","Fundo de Compensação do Trabalho","FCT","Fundo de Compensação do Trabalho","FCT","Fundo de Compensação do Trabalho","FCT","Fundo de Compensação do Trabalho","FCT","Fundo de Compensação do Trabalho","FCT","Fundo de Compensação do Trabalho","FCT","Fundo de Compensação do Trabalho","FCT","Fundo de Compensação do Trabalho","FCT","Fundo de Compensação do Trabalho","FCT","Fundo de Compensação do Trabalho","FCT","Fundo de Compensação do Trabalho","FCT","Fundo de Compensação do Trabalho","FCT","Fundo de Compensação do Trabalho","FCT","Fundo de Compensação do Trabalho","FCT","Fundo de Compensação do Trabalho","FCT","Fundo de Compensação do Trabalho","FCT","Fundo de Compensação do Trabalho","FCT","Fundo de Compensação do Trabalho","FCT","Fundo de Compensação do Trabalho","FCT","Fundo de Compensação do Trabalho","FCT","Fundo de Compensação do Trabalho","FCT","Fundo de Compensação do Trabalho","FCT","Fundo de Compensação do Trabalho","FCT","Fundo de Compensação do Trabalho","FCT","Fundo de Compensação do Trabalho","FCT","Fundo de Compensação do Trabalho","FCT","Fundo de Compensação do Trabalho","FCT","Fundo de Compensação do Trabalho","FCT","Fundo de Compensação do Trabalho","FCT","Fundo de Compensação do Trabalho","FCT","Fundo de Compensação do Trabalho","FCT","Fundo de Compensação do Trabalho","FCT","Fundo de Compensação do Trabalho","FCT","Fundo de Compensação do Trabalho","FCT","Fundo de Compensação do Trabalho","FCT","Fundo de Compensação do Trabalho","FCT","Fundo de Compensação do Trabalho","FCT","Fundo de Compensação do Trabalho","FCT","Fundo de Compensação do Trabalho","FCT","Fundo de Compensação do Trabalho","FCT","Fundo de Compensação do Trabalho","FCT","Fundo de Compensação do Trabalho","FCT","Fundo de Compensação do Trabalho","FCT","Fundo de Compensação do Trabalho","FCT","Fundo de Compensação do Trabalho","FCT","Fundo de Compensação do Trabalho","FCT","Fundo de Compensação do Trabalho","FCT","Fundo de Compensação do Trabalho","FCT","Fundo de Compensação do Trabalho","FCT","Fundo de Compensação do Trabalho","FCT","Fundo de Compensação do Trabalho","FCT","Fundo de Compensação do Trabalho","FCT","Fundo de Compensação do Trabalho","FCT","Fundo de Compensação do Trabalho","FCT","Fundo de Compensação do Trabalho","FCT","Fundo de Compensação do Trabalho","FCT","Fundo de Compensação do Trabalho","FCT","Fundo de Compensação do Trabalho","FCT","Fundo de Compensação do Trabalho","FCT","Fundo de Compensação do Trabalho","FCT","Fundo de Compensação do Trabalho","FCT","Fundo de Compensação do Trabalho","FCT","Fundo de Compensação do Trabalho","FCT","Fundo de Compensação do Trabalho","FCT","Fundo de Compensação do Trabalho","FCT","Fundo de Compensação do Trabalho","FCT","Fundo de Compensação do Trabalho","FCT","Fundo de Compensação do Trabalho","FCT","Fundo de Compensação do Trabalho","FCT","Fundo de Compensação do Trabalho","FCT","Fundo de Compensação do Trabalho","FCT","Fundo de Compensação do Trabalho","FCT","Fundo de Compensação do Trabalho","FCT","Fundo de Compensação do Trabalho","FCT","Fundo de Compensação do Trabalho","FCT","Fundo de Compensação do Trabalho","FCT","Fundo de Compensação do Trabalho","FCT","Fundo de Compensação do Trabalho","FCT","Fundo de Compensação do Trabalho","FCT","Fundo de Compensação do Trabalho","FCT","Fundo de Compensação do Trabalho","FCT","Fundo de Compensação do Trabalho","FCT","Fundo de Compensação do Trabalho","FCT","Fundo de Compensação do Trabalho","FCT","Fundo de Compensação do Trabalho","FCT","Fundo de Compensação do Trabalho","FCT","Fundo de Compensação do Trabalho","FCT","Fundo de Compensação do Trabalho","FCT","Fundo de Compensação do Trabalho","FCT","Fundo de Compensação do Trabalho","FCT","Fundo de Compensação do Trabalho","FCT","Fundo de Compensação do Trabalho","FCT","Fundo de Compensação do Trabalho","FCT","Fundo de Compensação do Trabalho","FCT","Fundo de Compensação do Trabalho","FCT","Fundo de Compensação do Trabalho","FCT","Fundo de Compensação do Trabalho","FCT","Fundo de Compensação do Trabalho","FCT","Fundo de Compensação do Trabalho","FCT","Fundo de Compensação do Trabalho","FCT","Fundo de Compensação do Trabalho","FCT","Fundo de Compensação do Trabalho","FCT","Fundo de Compensação do Trabalho","FCT","Fundo de Compensação do Trabalho","FCT","Fundo de Compensação do Trabalho","FCT","Fundo de Compensação do Trabalho","FCT","Fundo de Compensação do Trabalho","FCT","Fundo de Compensação do Trabalho","FCT","Fundo de Compensação do Trabalho","FCT","Fundo de Compensação do Trabalho","FCT","Fundo de Compensação do Trabalho","FCT","Fundo de Compensação do Trabalho","FCT","Fundo de Compensação do Trabalho","FCT","Fundo de Compensação do Trabalho","FCT","Fundo de Compensação do Trabalho","FCT","Fundo de Compensação do Trabalho","FCT","Fundo de Compensação do Trabalho","FCT","Fundo de Compensação do Trabalho","FCT","Fundo de Compensação do Trabalho","FCT","Fundo de Compensação do Trabalho","FCT","Fundo de Compensação do Trabalho","FCT","Fundo de Compensação do Trabalho","FCT","Fundo de Compensação do Trabalho","FCT","Fundo de Compensação do Trabalho","FCT","Fundo de Compensação do Trabalho","FCT","Fundo de Compensação do Trabalho","FCT","Fundo de Compensação do Trabalho","FCT","Fundo de Compensação do Trabalho","FCT","Fundo de Compensação do Trabalho","FCT","Fundo de Compensação do Trabalho","FCT","Fundo de Compensação do Trabalho","FCT","Fundo de Compensação do Trabalho","FCT","Fundo de Compensação do Trabalho","FCT","Fundo de Compensação do Trabalho","FCT","Fundo de Compensação do Trabalho","FCT","Fundo de Compensação do Trabalho","FCT","Fundo de Compensação do Trabalho","FCT","Fundo de Compensação do Trabalho","FCT","Fundo de Compensação do Trabalho","FCT","Fundo de Compensação do Trabalho","FCT","Fundo de Compensação do Trabalho","FCT","Fundo de Compensação do Trabalho","FCT","Fundo de Compensação do Trabalho","FCT","Fundo de Compensação do Trabalho","FCT","Fundo de Compensação do Trabalho","FCT","Fundo de Compensação do Trabalho","FCT","Fundo de Compensação do Trabalho","FCT","Fundo de Compensação do Trabalho","FCT","Fundo de Compensação do Trabalho","FCT","Fundo de Compensação do Trabalho","FCT","Fundo de Compensação do Trabalho","FCT","Fundo de Compensação do Trabalho","FCT","Fundo de Compensação do Trabalho","FCT","Fundo de Compensação do Trabalho","FCT","Fundo de Compensação do Trabalho","FCT","Fundo de Compensação do Trabalho","FCT","Fundo de Compensação do Trabalho","FCT","Fundo de Compensação do Trabalho","FCT","Fundo de Compensação do Trabalho","FCT","Fundo de Compensação do Trabalho","FCT","Fundo de Compensação do Trabalho","FCT","Fundo de Compensação do Trabalho","FCT","Fundo de Compensação do Trabalho","FCT","Fundo de Compensação do Trabalho","FCT","Fundo de Compensação do Trabalho","FCT","Fundo de Compensação do Trabalho","FCT","Fundo de Compensação do Trabalho","FCT","Fundo de Compensação do Trabalho","FCT","Fundo de Compensação do Trabalho","FCT","Fundo de Compensação do Trabalho","FCT","Fundo de Compensação do Trabalho","FCT","Fundo de Compensação do Trabalho","FCT","Fundo de Compensação do Trabalho","FCT","Fundo de Compensação do Trabalho","FCT","Fundo de Compensação do Trabalho","FCT","Fundo de Compensação do Trabalho","FCT","Fundo de Compensação do Trabalho","FCT","Fundo de Compensação do Trabalho","FCT","Fundo de Compensação do Trabalho","FCT","Fundo de Compensação do Trabalho","FCT","Fundo de Compensação do Trabalho","FCT","Fundo de Compensação do Trabalho","FCT","Fundo de Compensação do Trabalho","FCT","Fundo de Compensação do Trabalho","FCT","Fundo de Compensação do Trabalho","FCT","Fundo de Compensação do Trabalho","FCT","Fundo de Compensação do Trabalho","FCT","Fundo de Compensação do Trabalho","FCT","Fundo de Compensação do Trabalho","FCT","Fundo de Compensação do Trabalho","FCT","Fundo de Compensação do Trabalho","FCT","Fundo de Compensação do Trabalho","FCT","Fundo de Compensação do Trabalho","FCT","Fundo de Compensação do Trabalho","FCT","Fundo de Compensação do Trabalho","FCT","Fundo de Compensação do Trabalho","FCT","Fundo de Compensação do Trabalho","FCT","Fundo de Compensação do Trabalho","FCT","Fundo de Compensação do Trabalho","FCT","Fundo de Compensação do Trabalho","FCT","Fundo de Compensação do Trabalho","FCT","Fundo de Compensação do Trabalho","FCT","Fundo de Compensação do Trabalho","FCT","Fundo de Compensação do Trabalho","FCT","Fundo de Compensação do Trabalho","FCT","Fundo de Compensação do Trabalho","FCT","Fundo de Compensação do Trabalho","FCT","Fundo de Compensação do Trabalho","FCT","Fundo de Compensação do Trabalho","FCT","Fundo de Compensação do Trabalho","FCT","Fundo de Compensação do Trabalho","FCT","Fundo de Compensação do Trabalho","FCT","Fundo de Compensação do Trabalho","FCT","Fundo de Compensação do Trabalho","FCT","Fundo de Compensação do Trabalho","FCT","Fundo de Compensação do Trabalho","FCT","Fundo de Compensação do Trabalho","FCT","Fundo de Compensação do Trabalho","FCT","Fundo de Compensação do Trabalho","FCT","Fundo de Compensação do Trabalho","FCT","Fundo de Compensação do Trabalho","FCT","Fundo de Compensação do Trabalho","FCT","Fundo de Compensação do Trabalho","FCT","Fundo de Compensação do Trabalho","FCT","Fundo de Compensação do Trabalho","FCT","Fundo de Compensação do Trabalho","FCT","Fundo de Compensação do Trabalho","FCT","Fundo de Compensação do Trabalho","FCT","Fundo de Compensação do Trabalho","FCT","Fundo de Compensação do Trabalho","FCT","Fundo de Compensação do Trabalho","FCT","Fundo de Compensação do Trabalho","FCT","Fundo de Compensação do Trabalho","FCT","Fundo de Compensação do Trabalho","FCT","Fundo de Compensação do Trabalho","FCT","Fundo de Compensação do Trabalho","FCT","Fundo de Compensação do Trabalho","FCT","Fundo de Compensação do Trabalho","FCT","Fundo de Compensação do Trabalho","FCT","Fundo de Compensação do Trabalho","FCT","Fundo de Compensação do Trabalho","FCT","Fundo de Compensação do Trabalho","FCT","Fundo de Compensação do Trabalho","FCT","Fundo de Compensação do Trabalho","FCT","Fundo de Compensação do Trabalho","FCT","Fundo de Compensação do Trabalho","FCT","Fundo de Compensação do Trabalho","FCT","Fundo de Compensação do Trabalho","FCT","Fundo de Compensação do Trabalho","FCT","Fundo de Compensação do Trabalho","FCT","Fundo de Compensação do Trabalho","FCT","Fundo de Compensação do Trabalho","FCT","Fundo de Compensação do Trabalho","FCT","Fundo de Compensação do Trabalho","FCT","Fundo de Compensação do Trabalho","FCT","Fundo de Compensação do Trabalho","FCT","Fundo de Compensação do Trabalho","FCT","Fundo de Compensação do Trabalho","FCT","Fundo de Compensação do Trabalho","FCT","Fundo de Compensação do Trabalho","FCT","Fundo de Compensação do Trabalho","FCT","Fundo de Compensação do Trabalho","FCT","Fundo de Compensação do Trabalho","FCT","Fundo de Compensação do Trabalho","FCT","Fundo de Compensação do Trabalho","FCT","Fundo de Compensação do Trabalho","FCT","Fundo de Compensação do Trabalho","FCT","Fundo de Compensação do Trabalho","FCT","Fundo de Compensação do Trabalho","FCT","Fundo de Compensação do Trabalho","FCT","Fundo de Compensação do Trabalho","FCT","Fundo de Compensação do Trabalho","FCT","Fundo de Compensação do Trabalho","FCT","Fundo de Compensação do Trabalho","FCT","Fundo de Compensação do Trabalho","FCT","Fundo de Compensação do Trabalho","FCT","Fundo de Compensação do Trabalho","FCT","Fundo de Compensação do Trabalho","FCT","Fundo de Compensação do Trabalho","FCT","Fundo de Compensação do Trabalho","FCT","Fundo de Compensação do Trabalho","FCT","Fundo de Compensação do Trabalho","FCT","Fundo de Compensação do Trabalho","FCT","Fundo de Compensação do Trabalho","FCT","Fundo de Compensação do Trabalho","FCT","Fundo de Compensação do Trabalho","FCT","Fundo de Compensação do Trabalho","FCT","Fundo de Compensação do Trabalho","FCT","Fundo de Compensação do Trabalho","FCT","Fundo de Compensação do Trabalho","FCT","Fundo de Compensação do Trabalho","FCT","Fundo de Compensação do Trabalho","FCT","Fundo de Compensação do Trabalho","FCT","Fundo de Compensação do Trabalho","FCT","Fundo de Compensação do Trabalho","FCT","Fundo de Compensação do Trabalho","FCT","Fundo de Compensação do Trabalho","FCT","Fundo de Compensação do Trabalho","FCT","Fundo de Compensação do Trabalho","FCT","Fundo de Compensação do Trabalho","FCT","Fundo de Compensação do Trabalho","FCT","Fundo de Compensação do Trabalho","FCT","Fundo de Compensação do Trabalho","FCT","Fundo de Compensação do Trabalho","FCT","Fundo de Compensação do Trabalho","FCT","Fundo de Compensação do Trabalho","FCT","Fundo de Compensação do Trabalho","FCT","Fundo de Compensação do Trabalho","FCT","Fundo de Compensação do Trabalho","FCT","Fundo de Compensação do Trabalho","FCT","Fundo de Compensação do Trabalho","FCT","Fundo de Compensação do Trabalho","FCT","Fundo de Compensação do Trabalho","FCT","Fundo de Compensação do Trabalho","FCT","Fundo de Compensação do Trabalho","FCT","Fundo de Compensação do Trabalho","FCT","Fundo de Compensação do Trabalho","FCT","Fundo de Compensação do Trabalho","FCT","Fundo de Compensação do Trabalho","FCT","Fundo de Compensação do Trabalho","FCT","Fundo de Compensação do Trabalho","FCT","Fundo de Compensação do Trabalho","FCT","Fundo de Compensação do Trabalho","FCT","Fundo de Compensação do Trabalho","FCT","Fundo de Compensação do Trabalho","FCT","Fundo de Compensação do Trabalho","FCT","Fundo de Compensação do Trabalho","FCT","Fundo de Compensação do Trabalho","FCT","Fundo de Compensação do Trabalho","FCT","Fundo de Compensação do Trabalho","FCT","Fundo de Compensação do Trabalho","FCT","Fundo de Compensação do Trabalho","FCT","Fundo de Compensação do Trabalho","FCT","Fundo de Compensação do Trabalho","FCT","Fundo de Compensação do Trabalho","FCT","Fundo de Compensação do Trabalho","FCT","Fundo de Compensação do Trabalho","FCT","Fundo de Compensação do Trabalho","FCT","Fundo de Compensação do Trabalho","FCT","Fundo de Compensação do Trabalho","FCT","Fundo de Compensação do Trabalho","FCT","Fundo de Compensação do Trabalho","FCT","Fundo de Compensação do Trabalho","FCT","Fundo de Compensação do Trabalho","FCT","Fundo de Compensação do Trabalho","FCT","Fundo de Compensação do Trabalho","FCT","Fundo de Compensação do Trabalho","FCT","Fundo de Compensação do Trabalho","FCT","Fundo de Compensação do Trabalho","FCT","Fundo de Compensação do Trabalho","FCT","Fundo de Compensação do Trabalho","FCT","Fundo de Compensação do Trabalho","FCT","Fundo de Compensação do Trabalho","FCT","Fundo de Compensação do Trabalho","FCT","Fundo de Compensação do Trabalho","FCT","Fundo de Compensação do Trabalho","FCT","Fundo de Compensação do Trabalho","FCT","Fundo de Compensação do Trabalho","FCT","Fundo de Compensação do Trabalho","FCT","Fundo de Compensação do Trabalho","FCT","Fundo de Compensação do Trabalho","FCT","Fundo de Compensação do Trabalho","FCT","Fundo de Compensação do Trabalho","FCT","Fundo de Compensação do Trabalho","FCT","Fundo de Compensação do Trabalho","FCT","Fundo de Compensação do Trabalho","FCT","Fundo de Compensação do Trabalho","FCT","Fundo de Compensação do Trabalho","FCT","Fundo de Compensação do Trabalho","FCT","Fundo de Compensação do Trabalho","FCT","Fundo de Compensação do Trabalho","FCT","Fundo de Compensação do Trabalho","FCT","Fundo de Compensação do Trabalho","FCT","Fundo de Compensação do Trabalho","FCT","Fundo de Compensação do Trabalho","FCT","Fundo de Compensação do Trabalho","FCT","Fundo de Compensação do Trabalho","FCT","Fundo de Compensação do Trabalho","FCT","Fundo de Compensação do Trabalho","FCT","Fundo de Compensação do Trabalho","FCT","Fundo de Compensação do Trabalho","FCT","Fundo de Compensação do Trabalho","FCT","Fundo de Compensação do Trabalho","FCT","Fundo de Compensação do Trabalho","FCT","Fundo de Compensação do Trabalho","FCT","Fundo de Compensação do Trabalho","FCT","Fundo de Compensação do Trabalho","FCT","Fundo de Compensação do Trabalho","FCT","Fundo de Compensação do Trabalho","FCT","Fundo de Compensação do Trabalho","FCT","Fundo de Compensação do Trabalho","FCT","Fundo de Compensação do Trabalho","FCT","Fundo de Compensação do Trabalho","FCT","Fundo de Compensação do Trabalho","FCT","Fundo de Compensação do Trabalho","FCT","Fundo de Compensação do Trabalho","FCT","Fundo de Compensação do Trabalho","FCT","Fundo de Compensação do Trabalho","FCT","Fundo de Compensação do Trabalho","FCT","Fundo de Compensação do Trabalho","FCT","Fundo de Compensação do Trabalho","FCT","Fundo de Compensação do Trabalho","FCT","Fundo de Compensação do Trabalho","FCT","Fundo de Compensação do Trabalho","FCT","Fundo de Compensação do Trabalho","FCT","Fundo de Compensação do Trabalho","FCT","Fundo de Compensação do Trabalho","FCT","Fundo de Compensação do Trabalho","FCT","Fundo de Compensação do Trabalho","FCT","Fundo de Compensação do Trabalho","FCT","Fundo de Compensação do Trabalho","FCT","Fundo de Compensação do Trabalho","FCT","Fundo de Compensação do Trabalho","FCT","Fundo de Compensação do Trabalho","FCT","Fundo de Compensação do Trabalho","FCT","Fundo de Compensação do Trabalho","FCT","Fundo de Compensação do Trabalho","FCT","Fundo de Compensação do Trabalho","FCT","Fundo de Compensação do Trabalho","FCT","Fundo de Compensação do Trabalho","FCT","Fundo de Compensação do Trabalho","FCT","Fundo de Compensação do Trabalho","FCT","Fundo de Compensação do Trabalho","FCT","Fundo de Compensação do Trabalho","FCT","Fundo de Compensação do Trabalho","FCT","Fundo de Compensação do Trabalho","FCT","Fundo de Compensação do Trabalho","FCT","Fundo de Compensação do Trabalho","FCT","Fundo de Compensação do Trabalho","FCT","Fundo de Compensação do Trabalho","FCT","Fundo de Compensação do Trabalho","FCT","Fundo de Compensação do Trabalho","FCT","Fundo de Compensação do Trabalho","FCT","Fundo de Compensação do Trabalho","FCT","Fundo de Compensação do Trabalho","FCT","Fundo de Compensação do Trabalho","FCT","Fundo de Compensação do Trabalho","FCT","Fundo de Compensação do Trabalho","FCT","Fundo de Compensação do Trabalho","FCT","Fundo de Compensação do Trabalho","FCT","Fundo de Compensação do Trabalho","FCT","Fundo de Compensação do Trabalho","FCT","Fundo de Compensação do Trabalho","FCT","Fundo de Compensação do Trabalho","FCT","Fundo de Compensação do Trabalho","FCT","Fundo de Compensação do Trabalho","FCT","Fundo de Compensação do Trabalho","FCT","Fundo de Compensação do Trabalho","FCT","Fundo de Compensação do Trabalho","FCT","Fundo de Compensação do Trabalho","FCT","Fundo de Compensação do Trabalho","FCT","Fundo de Compensação do Trabalho","FCT","Fundo de Compensação do Trabalho","FCT","Fundo de Compensação do Trabalho","FCT","Fundo de Compensação do Trabalho"]
[null,null,"FM","Fundo de Maneio"]
[null,null,"FSE","Fornecimentos e Serviços Externos"]
[null,null,"HST","Higiene e Segurança no Trabalho"]
[null,null,"IHT","Isenção de Horário de Trabalho"]
[null,null,"IRC","Imposto sobre o Rendimento de Pessoas Coletivas"]
[null,null,"IRS","Imposto sobre o Rendimento de Pessoas Singulares"]
[null,null,"IVA","Imposto sobre o Valor Acrescentado"]
[null,null,"MLP","Médio Longo Prazo"]
[null,null,"MOD","Mão de Obra Direta"]
[null,null,"MPS","Matérias Primas e Subsidiárias"]
[null,null,"OPEX","Operational Expenditures = Gastos Operacionais"]
[null,null,"PA ","Produtos Acabados"]
[null,null,"Payback","Período de Recuperação de Capital"]
[null,null,"PMI","Prazo Médio de Inventários"]
[null,null,"PMP","Prazo Médio de Pagamentos"]
[null,null,"PMR","Prazo Médio de Recebimentos"]
[null,null,"PNC","Passivo não Corrente"]
[null,null,"PTC","Produtos e Trabalhos em Curso"]
[null,null,"PVP","Preço de Venda ao Público"]
[null,null,"Rca","Taxa de remuneração do capital alheio"]
[null,null,"Rcp","Taxa de remuneração do capital próprio"]
[null,null,"Rf","Taxa de aplicações (sem risco) obrigações do tesouro"]
[null,null,"Rm","Raxa de rentabilidade média de mercado"]
[null,null,"ROE","Return on Equity - Rentabilidade do Capital Próprio "]
[null,null,"ROIC","Return on Invested Capital -  Rentabilidade do Capital Investido"]
[null,null,"SS","Segurança Social"]
[null,null,"t","Taxa de IRC"]
[null,null,"TIR","Taxa Interna de Rentabilidade"]
[null,null,"TSU","Taxa Social Única"]
[null,null,"VAL","Valor Atualizado Líquido"]
[null,null,"VR","Valor Resídual"]
[null,null,"WACC","Weigthed Average Cost of Capital = Custo Médio Ponderado de Capital "]
[null,null,null,"Ficha Técnica:"]
[null,null,null,"Concepção, organização e conteúdos"]
[null,null,"Cofinanciado por:","IAPMEI, I.P. - Agência para a Competitividade e Inovação"]
[null,null,null,"Desenvolvimento"]
[null,null,null,"Moneris, SA"]

{"sheet":"Pressupostos","index":2,"n_rows":309,"n_cols":13,"rows_kept":309,"cut":false,"hidden":false,"merged":[[259,3,260,5]]}
["Comercial","EUR"]
["Industrial","USD","A. Pressupostos"]
["Serviços"]
["Agricultura",null,{"$f":"+Capa!C13","v":"<Nome do Projeto>"},null,null,null,{"$f":"+D12","v":0},{"$f":"+G4+1","v":1},{"$f":"+H4+1","v":2},3,4,{"$f":"+K4+1","v":5}]
[]
[null,null,"1. Gerais"]
[]
[null,null,"Pressupostos Gerais"]
[null,null,"CAE Principal",null,"\"Colocar descritivo de Atividade\""]
[null,null,"Tipo de Atividade"]
[null,null,"Unidade Monetária","EUR"]
[null,null,"Ano de início de investimento"]
[null,null,"Ano cruzeiro",{"$f":"+D12+3","v":3}]
[null,null,"nº de meses de exploração",null,null,null,1,12,12,12,12,12]
[null,null,"nº dias funcionamento ano",null,null,null,{"$f":"+G14*365/12","v":30.416666666666668},365,365,365,365,365]
[]
[null,null,"Fiscalidade"]
[null,null,"IRC",0.21,"Nota: Valor normal aplicável 2020. Verificar situação concreta pela natureza e localização."]
[null,null,"Derrama Municipal",1.4999999999999999E-2,"Sugestão de Fonte: Visitar Portal das Finanças"]
[null,null,"IRS",0.15,"Estimar a taxa média a aplicar para todos os salários"]
[null,null,"Imposto de Selo aplicável aos juros",0.04,"Nota: Valor normal aplicável 2020"]
[null,null,"TSU Empresa",0.23749999999999999,"Nota: Valor normal aplicável 2020"]
[null,null,"TSU Colaboradores",0.11,"Nota: Valor normal aplicável 2020"]
[null,null,"Fundo de compensação - Investimento financeiro",9.2499999999999995E-3,"Nota: Valor normal aplicável 2020"]
[null,null,"Fundo de compensação - Encargos",7.5000000000000002E-4,"Nota: Valor normal aplicável 2020"]
[null,null,"Seguros Acidentes Trabalho",0.01,"Nota: Valor normal aplicável 2020"]
[null,null,"IVA taxa normal",0.23,"Sugestão de Fonte: Visitar Portal das Finanças"]
[null,null,"IVA taxa intermédia",0.13,"Sugestão de Fonte: Visitar Portal das Finanças"]
[null,null,"IVA taxa reduzida",0.06,"Sugestão de Fonte: Visitar Portal das Finanças"]
[null,null,"IVA isento/não sujeito",0,"Nota: IVA utilizado em caso de exportação e vendas intracomunitárias"]
[]
[null,null,"Prejuízos Fiscais"]
[null,null,"Reporte (nº de anos)",5,"Nota: 2020 o reporte são 12 anos para micro entidades"]
[]
[null,null,"Inflação"]
[null,null,"Taxa de inflação",null,null,null,"%",0.01]
[null,null,"Taxa de crescimento de remunerações de pessoal"]
[]
[null,null,"2. Vendas e Serviços prestados"]
[]
[null,null,"Colocar botão para indicar o nº de rendimentos","Nota: Este botão permite que se adicionem o nº de rendimentos necessários para além do existente: Mercadorias, Produtos ou Serviços."]
[null,null,"Colocar botão possibilitar a eliminação de rendimentos","Nota: Este botão permite que se elimine o último nº de rendimento."]
[]
[null,null,"Total de Vendas e Serviços prestados",null,null,null,{"$f":"+G47+G49+G51","v":0},0,0,0,0,0]
[null,null,"Total IVA Vendas e Serviços prestados",null,null,null,{"$f":"+G48+G50+G52","v":0},0,0,0,0,0]
[]
[null,null,"Vendas de Mercadorias",null,null,null,{"$f":"+SUMIF($C$54:$C$10073,$C$47,G$54:G$10073)","v":0},0,0,0,0,0]
[null,null,"IVA Vendas de Mercadorias",null,null,null,{"$f":"+SUMIF($C$54:$C$10073,$C$48,G$54:G$10073)","v":0},0,0,0,0,0]
[null,null,"Vendas de Produtos",null,null,null,{"$f":"+SUMIF($C$54:$C$10073,$C$49,G$54:G$10073)","v":0},0,0,0,0,0]
[null,null,"IVA Vendas de Produtos",null,null,null,{"$f":"+SUMIF($C$54:$C$10073,$C$50,G$54:G$10073)","v":0},0,0,0,0,0]
[null,null,"Serviços Prestados",null,null,null,{"$f":"+SUMIF($C$54:$C$10073,$C$51,G$54:G$10073)","v":0},0,0,0,0,0]
[null,null,"IVA Serviços Prestados",null,null,null,{"$f":"+SUMIF($C$54:$C$10073,$C$52,G$54:G$10073)","v":0},0,0,0,0,0]
[]
[null,null,"Vendas de Mercadorias","IVA aplicável","% Exportação","<Nome>",{"$f":"+G56*G57","v":0},0,0,0,0,0]
[null,null,"IVA Vendas de Mercadorias",0.23,0,null,{"$f":"+G54*(1-$E$55)*$D$55","v":0},{"$f":"+H54*(1-$E$55)*$D$55","v":0},0,0,0,0]
[null,null,"Quantidade vendida (se quantidade desconhecida verificar a nota na Coluna O)",null,null,null,null,{"$f":"+IF($G$14<>0,(G56/$G$14)*$H$14*(1+H$58),0)","v":0},{"$f":"+IF($H$14<>0,(H56/$H$14)*$I$14*(1+I$58),0)","v":0},{"$f":"+IF($I$14<>0,(I56/$I$14)*$J$14*(1+J$58),0)","v":0},{"$f":"+IF($J$14<>0,(J56/$J$14)*$K$14*(1+K$58),0)","v":0},{"$f":"+IF($J$14<>0,(K56/$J$14)*$K$14*(1+L$58),0)","v":0},"Nota: Sempre que se desconheça a quantidade colocar \"1\" nas células E:N. Assim o total de Vendas será idêntico ao PVP, que apenas está influenciado pela taxa de inflação."]
[null,null,"PVP (por defeito com crescimento anual à taxa de inflação)",null,null,null,null,{"$f":"+G57*(1+$H$36)","v":0},{"$f":"+H57*(1+$I$36)","v":0},{"$f":"+I57*(1+$J$36)","v":0},{"$f":"+J57*(1+$K$36)","v":0},{"$f":"+K57*(1+$K$36)","v":0},"Nota: Sempre que se desconheça a quantidade colocar nas células E:N, o Valor total de Vendas "]
[null,null,"Taxa crescimento Vendas (se quantidade desconhecida a verificar nota na Coluna O)",null,null,null,0,0.1,0.3,null,null,null,"Nota: Sempre que se desconheça a quantidade  colocar 0% nas células E:N. Assim o total de Vendas será idêntico ao PVP, que apenas está influenciado pela taxa de inflação."]
[]
[null,null,"Vendas de Produtos","IVA aplicável","% Exportação","<Nome>",{"$f":"+G62*G63","v":0},0,0,0,0,0]
[null,null,"IVA Vendas de Produtos",0.23,0,null,{"$f":"+G60*(1-$E$61)*$D$61","v":0},{"$f":"+H60*(1-$E$61)*$D$61","v":0},0,0,0,0]
[null,null,"Quantidade vendida (se quantidade desconhecida verificar a nota na Coluna O)",null,null,null,null,{"$f":"+IF($H$14<>0,(G62/$G$14)*$H$14*(1+H$64),0)","v":0},{"$f":"+IF($H$14<>0,(H62/$H$14)*$I$14*(1+I$64),0)","v":0},{"$f":"+IF($I$14<>0,(I62/$I$14)*$J$14*(1+J$64),0)","v":0},{"$f":"+IF($J$14<>0,(J62/$J$14)*$K$14*(1+K$64),0)","v":0},{"$f":"+IF($J$14<>0,(K62/$J$14)*$K$14*(1+L$64),0)","v":0},"Nota: Sempre que se desconheça a quantidade colocar \"1\" nas células E:N. Assim o total de Vendas será idêntico ao PVP, que apenas está influenciado pela taxa de inflação."]
[null,null,"PVP (por defeito com crescimento anual à taxa de inflação)",null,null,null,null,{"$f":"+G63*(1+$I$36)","v":0},{"$f":"+H63*(1+$I$36)","v":0},{"$f":"+I63*(1+$J$36)","v":0},{"$f":"+J63*(1+$K$36)","v":0},{"$f":"+K63*(1+$K$36)","v":0},"Nota: Sempre que se desconheça a quantidade colocar nas células E:N, o Valor total de Vendas "]
[null,null,"Taxa crescimento Vendas (se quantidade desconhecida a verificar nota na Coluna O)",null,null,null,0,null,null,null,null,null,"Nota: Sempre que se desconheça a quantidade  colocar 0% nas células E:N. Assim o total de Vendas será idêntico ao PVP, que apenas está influenciado pela taxa de inflação."]
[]
[null,null,"Serviços Prestados","IVA aplicável","% Exportação","<Nome>",{"$f":"+G68*G69","v":0},0,0,0,0,0]
[null,null,"IVA Serviços Prestados",0.23,0,null,{"$f":"+G66*(1-$E$67)*$D$67","v":0},{"$f":"+H66*(1-$E$67)*$D$67","v":0},0,0,0,0]
[null,null,"Quantidade vendida (se quantidade desconhecida verificar a nota na Coluna O)",null,null,null,null,{"$f":"+IF($H$14<>0,(G68/$G$14)*$H$14*(1+H$70),0)","v":0},{"$f":"+IF($H$14<>0,(H68/$H$14)*$I$14*(1+I$70),0)","v":0},{"$f":"+IF($I$14<>0,(I68/$I$14)*$J$14*(1+J$70),0)","v":0},{"$f":"+IF($J$14<>0,(J68/$J$14)*$K$14*(1+K$70),0)","v":0},{"$f":"+IF($J$14<>0,(K68/$J$14)*$K$14*(1+L$70),0)","v":0},"Nota: Sempre que se desconheça a quantidade colocar \"1\" nas células E:N. Assim o total de Vendas será idêntico ao PVP, que apenas está influenciado pela taxa de inflação."]
[null,null,"PVP (por defeito com crescimento anual à taxa de inflação)",null,null,null,null,{"$f":"+G69*(1+$H$36)","v":0},{"$f":"+H69*(1+$I$36)","v":0},{"$f":"+I69*(1+$J$36)","v":0},{"$f":"+J69*(1+$K$36)","v":0},{"$f":"+K69*(1+$K$36)","v":0},"Nota: Sempre que se desconheça a quantidade colocar nas células E:N, o Valor total de Vendas "]
[null,null,"Taxa crescimento Vendas (se quantidade desconhecida a verificar nota na Coluna O)",null,null,null,0,null,null,null,null,null,"Nota: Sempre que se desconheça a quantidade  colocar 0% nas células E:N. Assim o total de Vendas será idêntico ao PVP, que apenas está influenciado pela taxa de inflação."]
[]
[null,null,"3. Gastos Operacionais"]
[]
[null,null,"3.1 Custo das Mercadorias Vendidas e Matérias Consumidas (CMVMC)","| | |"]
[]
[null,null,"Total CMVMC",null,null,null,{"$f":"+SUMIF($C$83:$C$10085,\"Custo Mercadorias Vendidas (CMV)\",G$83:G$10085)+SUMIF($C$83:$C$10085,\"Custo Matérias Consumidas (CMC)\",G$83:G$10085)","v":0},0,0,0,0,0]
[null,null,"Total Compras",null,null,null,{"$f":"+IFERROR(SUMIF($C$83:$C$10085,\"Compras\",G$83:G$10085),\"0\")","v":0},{"$f":"+SUMIF($C$83:$C$10085,\"Compras\",H$83:H$10085)","v":0},{"$f":"+SUMIF($C$83:$C$10085,\"Compras\",I$83:I$10085)","v":0},{"$f":"+SUMIF($C$83:$C$10085,\"Compras\",J$83:J$10085)","v":0},{"$f":"+SUMIF($C$83:$C$10085,\"Compras\",K$83:K$10085)","v":0},{"$f":"+SUMIF($C$83:$C$10085,\"Compras\",L$83:L$10085)","v":0}]
[null,null,"Total IVA Compras",null,null,null,{"$f":"+IFERROR(SUMIF($C$83:$C$10085,\"IVA Compras\",G$83:G$10085),\"0\")","v":0},{"$f":"+SUMIF($C$83:$C$10085,\"IVA Compras\",H$83:H$10085)","v":0},{"$f":"+SUMIF($C$83:$C$10085,\"IVA Compras\",I$83:I$10085)","v":0},{"$f":"+SUMIF($C$83:$C$10085,\"IVA Compras\",J$83:J$10085)","v":0},{"$f":"+SUMIF($C$83:$C$10085,\"IVA Compras\",K$83:K$10085)","v":0},{"$f":"+SUMIF($C$83:$C$10085,\"IVA Compras\",L$83:L$10085)","v":0}]
[null,null,"Total Inventários finais",null,null,null,{"$f":"+IFERROR(SUMIF($C$83:$C$10085,\"Inventários finais Mercadorias\",G$83:G$10085)+SUMIF($C$83:$C$10085,\"Inventários finais Matérias primas\",G$83:G$10085)+SUMIF($C$83:$C$10085,\"Inventários finais Produção\",G$83:G$10085),\"0\")","v":0},{"$f":"+SUMIF($C$83:$C$10085,\"Inventários finais Mercadorias\",H$83:H$10085)+SUMIF($C$83:$C$10085,\"Inventários finais Matérias primas\",H$83:H$10085)+SUMIF($C$83:$C$10085,\"Inventários finais Produção\",H$83:H$10085)","v":0},{"$f":"+SUMIF($C$83:$C$10085,\"Inventários finais Mercadorias\",I$83:I$10085)+SUMIF($C$83:$C$10085,\"Inventários finais Matérias primas\",I$83:I$10085)+SUMIF($C$83:$C$10085,\"Inventários finais Produção\",I$83:I$10085)","v":0},{"$f":"+SUMIF($C$83:$C$10085,\"Inventários finais Mercadorias\",J$83:J$10085)+SUMIF($C$83:$C$10085,\"Inventários finais Matérias primas\",J$83:J$10085)+SUMIF($C$83:$C$10085,\"Inventários finais Produção\",J$83:J$10085)","v":0},{"$f":"+SUMIF($C$83:$C$10085,\"Inventários finais Mercadorias\",K$83:K$10085)+SUMIF($C$83:$C$10085,\"Inventários finais Matérias primas\",K$83:K$10085)+SUMIF($C$83:$C$10085,\"Inventários finais Produção\",K$83:K$10085)","v":0},{"$f":"+SUMIF($C$83:$C$10085,\"Inventários finais Mercadorias\",L$83:L$10085)+SUMIF($C$83:$C$10085,\"Inventários finais Matérias primas\",L$83:L$10085)+SUMIF($C$83:$C$10085,\"Inventários finais Produção\",L$83:L$10085)","v":0}]
[]
[null,null,"Mercadorias","| | |","| | |","| | |"]
[]
[null,0,"Custo Mercadorias Vendidas (CMV)",0.7,null,null,{"$f":"+$D$83*G$47","v":0},0,0,0,0,0]
[null,null,"IVA Compras",null,null,null,{"$f":"+$D$84*G$85","v":0},0,0,0,0,0]
[null,null,"Compras",null,null,null,{"$f":"+G83+G87-G86","v":0},{"$f":"+H83+H87-H86","v":0},0,0,0,{"$f":"+L83+L87-L86","v":0}]
[null,null,"Inventários iniciais Mercadorias",null,null,null,0,{"$f":"+G87","v":0},{"$f":"+H87","v":0},0,0,0]
[null,null,"Inventários finais Mercadorias",null,null,null,{"$f":"+IFERROR(G83*$D$198/G$15,\"0\")","v":0},{"$f":"+H83*$D$198/H$15","v":0},0,0,0,{"$f":"+L83*$D$198/L$15","v":0}]
[]
[null,null,"Produtos","| | |","| | |","| | |"]
[]
[null,0,"Custo Matérias Consumidas (CMC)",null,null,null,{"$f":"+$D$91*G$49","v":0},0,0,0,0,0]
[null,null,"IVA Compras",null,null,null,{"$f":"+$D$92*G$93","v":0},0,0,0,0,0]
[null,null,"Compras",null,null,null,{"$f":"+G91+G95-G94","v":0},{"$f":"+H91+H95-H94","v":0},0,0,0,{"$f":"+L91+L95-L94","v":0}]
[null,null,"Inventários iniciais Matérias primas",null,null,null,0,{"$f":"+G95","v":0},{"$f":"+H95","v":0},{"$f":"+I95","v":0},{"$f":"+J95","v":0},0]
[null,null,"Inventários finais Matérias primas",null,null,null,{"$f":"+IFERROR(G91*$D$198/G$15,\"0\")","v":0},{"$f":"+H91*$D$198/H$15","v":0},0,0,0,{"$f":"+L91*$D$198/L$15","v":0}]
[null,null,"Custo de Produção",null,null,null,{"$f":"+$D$96*G$49","v":0},0,0,0,0,0]
[null,null,"Variação Produção= Variação dos inventários de Produção",null,null,null,{"$f":"+G99","v":0},{"$f":"+H99-H98","v":0},{"$f":"+I99-I98","v":0},0,0,{"$f":"+L99-L98","v":0}]
[null,null,"Inventários iniciais Produção",null,null,null,0,{"$f":"+G99","v":0},0,0,0,0]
[null,null,"Inventários finais Produção",null,null,null,{"$f":"+IFERROR(G96*$D$199/G$15,\"0\")","v":0},{"$f":"+H96*$D$199/H$15","v":0},0,0,0,{"$f":"+L96*$D$199/L$15","v":0}]
[]
[null,null,"3.2 Fornecimentos e Serviços Externos","| | |"]
[]
[null,null,"Total FSE",null,null,null,{"$f":"+G105+G107+G114+G119+G123+G127+G135","v":{"$error":"#VALUE!"}},{"$error":"#VALUE!"},{"$error":"#VALUE!"},{"$error":"#VALUE!"},{"$error":"#VALUE!"},{"$f":"+L105+L107+L114+L119+L123+L127+L135","v":{"$error":"#VALUE!"}}]
[null,null,"IVA dos FSE",null,null,null,{"$f":"+G$106*$D$106+$D$108*G$108+$D$109*G$109+$D$110*G$110+$D$111*G$111+$D$112*G$112+$D$113*G$113+$D$115*G$115+$D$116*G$116+$D$117*G$117+$D$118*G$118+$D$120*G$120+$D$121*G$121+$D$122*G$122+$D$124*G$124+$D$125*G$125+$D$126*G$126+$D$128*G$128+$D$129*G$129+$D$130*G$130+$D$131*G$131+$D$132*G$132+$D$133*G$133+$D$134*G$134+$D$136*G$136","v":{"$error":"#VALUE!"}},{"$error":"#VALUE!"},{"$error":"#VALUE!"},{"$error":"#VALUE!"},{"$error":"#VALUE!"},{"$error":"#VALUE!"}]
[null,null,"Subcontratos","IVA aplicável","% C. Fixo","Valor Mensal",{"$f":"+SUM(G106)","v":{"$error":"#VALUE!"}},{"$error":"#VALUE!"},{"$error":"#VALUE!"},{"$error":"#VALUE!"},{"$error":"#VALUE!"},{"$error":"#VALUE!"}]
[null,null,"Subcontratos",0.23,0,null,{"$f":"+F106*(1+$G$36)*$G$14","v":{"$error":"#VALUE!"}},{"$f":"+F106*(1+$G$36)*(1+$H$36)*$H$14","v":{"$error":"#VALUE!"}},{"$f":"+F106*(1+$G$36)*(1+$H$36)*(1+$I$36)*$I$14","v":{"$error":"#VALUE!"}},{"$f":"+F106*(1+$G$36)*(1+$H$36)*(1+$I$36)*(1+$J$36)*$J$14","v":{"$error":"#VALUE!"}},{"$f":"+F106*(1+$G$36)*(1+$H$36)*(1+$I$36)*(1+$J$36)*(1+$K$36)*$K$14","v":{"$error":"#VALUE!"}},{"$f":"+F106*(1+$G$36)*(1+$H$36)*(1+$I$36)*(1+$J$36)*(1+$K$36)*(1+$L$36)*$L$14","v":{"$error":"#VALUE!"}}]
[null,null,"Serviços Especializados","IVA aplicável","% C. Fixo","Valor Mensal",{"$f":"+SUM(G108:G113)","v":{"$error":"#VALUE!"}},{"$error":"#VALUE!"},{"$error":"#VALUE!"},{"$error":"#VALUE!"},{"$error":"#VALUE!"},{"$f":"+SUM(L108:L113)","v":{"$error":"#VALUE!"}}]
[null,null,"Trabalhos Especializados",0.23,0,null,{"$f":"+F108*(1+$G$36)*$G$14","v":{"$error":"#VALUE!"}},{"$f":"+F108*(1+$G$36)*(1+$H$36)*$H$14","v":{"$error":"#VALUE!"}},{"$f":"+F108*(1+$G$36)*(1+$H$36)*(1+$I$36)*$I$14","v":{"$error":"#VALUE!"}},{"$f":"+F108*(1+$G$36)*(1+$H$36)*(1+$I$36)*(1+$J$36)*$J$14","v":{"$error":"#VALUE!"}},{"$f":"+F108*(1+$G$36)*(1+$H$36)*(1+$I$36)*(1+$J$36)*(1+$K$36)*$K$14","v":{"$error":"#VALUE!"}},{"$f":"+F108*(1+$G$36)*(1+$H$36)*(1+$I$36)*(1+$J$36)*(1+$K$36)*(1+$L$36)*$L$14","v":{"$error":"#VALUE!"}}]
[null,null,"Publicidade e Propaganda",0.23,1,null,{"$error":"#VALUE!"},{"$error":"#VALUE!"},{"$error":"#VALUE!"},{"$error":"#VALUE!"},{"$error":"#VALUE!"},{"$error":"#VALUE!"}]
[null,null,"Vigilância e Segurança",0.23,0,null,{"$error":"#VALUE!"},{"$error":"#VALUE!"},{"$error":"#VALUE!"},{"$error":"#VALUE!"},{"$error":"#VALUE!"},{"$error":"#VALUE!"}]
[null,null,"Honorários",0.23,1,null,{"$error":"#VALUE!"},{"$error":"#VALUE!"},{"$error":"#VALUE!"},{"$error":"#VALUE!"},{"$error":"#VALUE!"},{"$error":"#VALUE!"}]
[null,null,"Comissões",0.23,0,null,{"$error":"#VALUE!"},{"$error":"#VALUE!"},{"$error":"#VALUE!"},{"$error":"#VALUE!"},{"$error":"#VALUE!"},{"$error":"#VALUE!"}]
[null,null,"Conservação e Reparação",0.23,1,null,{"$error":"#VALUE!"},{"$error":"#VALUE!"},{"$error":"#VALUE!"},{"$error":"#VALUE!"},{"$error":"#VALUE!"},{"$error":"#VALUE!"}]
[null,null,"Materiais","IVA aplicável","% C. Fixo","Valor Mensal",{"$f":"+SUM(G115:G118)","v":{"$error":"#VALUE!"}},{"$error":"#VALUE!"},{"$error":"#VALUE!"},{"$error":"#VALUE!"},{"$error":"#VALUE!"},{"$f":"+SUM(L115:L118)","v":{"$error":"#VALUE!"}}]
[null,null,"Ferramentas e Utensílios de Desgaste Rápido",0.23,0,null,{"$f":"+F115*(1+$G$36)*$G$14","v":{"$error":"#VALUE!"}},{"$f":"+F115*(1+$G$36)*(1+$H$36)*$H$14","v":{"$error":"#VALUE!"}},{"$f":"+F115*(1+$G$36)*(1+$H$36)*(1+$I$36)*$I$14","v":{"$error":"#VALUE!"}},{"$f":"+F115*(1+$G$36)*(1+$H$36)*(1+$I$36)*(1+$J$36)*$J$14","v":{"$error":"#VALUE!"}},{"$f":"+F115*(1+$G$36)*(1+$H$36)*(1+$I$36)*(1+$J$36)*(1+$K$36)*$K$14","v":{"$error":"#VALUE!"}},{"$f":"+F115*(1+$G$36)*(1+$H$36)*(1+$I$36)*(1+$J$36)*(1+$K$36)*(1+$L$36)*$L$14","v":{"$error":"#VALUE!"}}]
[null,null,"Livros e Documentação Técnica",0.23,1,null,{"$f":"+F116*(1+$G$36)*$G$14","v":{"$error":"#VALUE!"}},{"$f":"+F116*(1+$G$36)*(1+$H$36)*$H$14","v":{"$error":"#VALUE!"}},{"$f":"+F116*(1+$G$36)*(1+$H$36)*(1+$I$36)*$I$14","v":{"$error":"#VALUE!"}},{"$f":"+F116*(1+$G$36)*(1+$H$36)*(1+$I$36)*(1+$J$36)*$J$14","v":{"$error":"#VALUE!"}},{"$f":"+F116*(1+$G$36)*(1+$H$36)*(1+$I$36)*(1+$J$36)*(1+$K$36)*$K$14","v":{"$error":"#VALUE!"}},{"$f":"+F116*(1+$G$36)*(1+$H$36)*(1+$I$36)*(1+$J$36)*(1+$K$36)*(1+$L$36)*$L$14","v":{"$error":"#VALUE!"}}]
[null,null,"Material de Escritório",0.23,1,null,{"$f":"+F117*(1+$G$36)*$G$14","v":{"$error":"#VALUE!"}},{"$f":"+F117*(1+$G$36)*(1+$H$36)*$H$14","v":{"$error":"#VALUE!"}},{"$f":"+F117*(1+$G$36)*(1+$H$36)*(1+$I$36)*$I$14","v":{"$error":"#VALUE!"}},{"$f":"+F117*(1+$G$36)*(1+$H$36)*(1+$I$36)*(1+$J$36)*$J$14","v":{"$error":"#VALUE!"}},{"$f":"+F117*(1+$G$36)*(1+$H$36)*(1+$I$36)*(1+$J$36)*(1+$K$36)*$K$14","v":{"$error":"#VALUE!"}},{"$f":"+F117*(1+$G$36)*(1+$H$36)*(1+$I$36)*(1+$J$36)*(1+$K$36)*(1+$L$36)*$L$14","v":{"$error":"#VALUE!"}}]
[null,null,"Artigos para Oferta",0.23,1,null,{"$f":"+F118*(1+$G$36)*$G$14","v":{"$error":"#VALUE!"}},{"$f":"+F118*(1+$G$36)*(1+$H$36)*$H$14","v":{"$error":"#VALUE!"}},{"$f":"+F118*(1+$G$36)*(1+$H$36)*(1+$I$36)*$I$14","v":{"$error":"#VALUE!"}},{"$f":"+F118*(1+$G$36)*(1+$H$36)*(1+$I$36)*(1+$J$36)*$J$14","v":{"$error":"#VALUE!"}},{"$f":"+F118*(1+$G$36)*(1+$H$36)*(1+$I$36)*(1+$J$36)*(1+$K$36)*$K$14","v":{"$error":"#VALUE!"}},{"$f":"+F118*(1+$G$36)*(1+$H$36)*(1+$I$36)*(1+$J$36)*(1+$K$36)*(1+$L$36)*$L$14","v":{"$error":"#VALUE!"}}]
[null,null,"Energia e Fluidos","IVA aplicável","% C. Fixo","Valor Mensal",{"$f":"+SUM(G120:G122)","v":{"$error":"#VALUE!"}},{"$error":"#VALUE!"},{"$error":"#VALUE!"},{"$error":"#VALUE!"},{"$error":"#VALUE!"},{"$f":"+SUM(L120:L122)","v":{"$error":"#VALUE!"}}]
[null,null,"Eletricidade",0.23,1,null,{"$f":"+F120*(1+$G$36)*$G$14","v":{"$error":"#VALUE!"}},{"$f":"+F120*(1+$G$36)*(1+$H$36)*$H$14","v":{"$error":"#VALUE!"}},{"$f":"+F120*(1+$G$36)*(1+$H$36)*(1+$I$36)*$I$14","v":{"$error":"#VALUE!"}},{"$f":"+F120*(1+$G$36)*(1+$H$36)*(1+$I$36)*(1+$J$36)*$J$14","v":{"$error":"#VALUE!"}},{"$f":"+F120*(1+$G$36)*(1+$H$36)*(1+$I$36)*(1+$J$36)*(1+$K$36)*$K$14","v":{"$error":"#VALUE!"}},{"$f":"+F120*(1+$G$36)*(1+$H$36)*(1+$I$36)*(1+$J$36)*(1+$K$36)*(1+$L$36)*$L$14","v":{"$error":"#VALUE!"}}]
[null,null,"Combustíveis",0.23,0,null,{"$f":"+F121*(1+$G$36)*$G$14","v":{"$error":"#VALUE!"}},{"$f":"+F121*(1+$G$36)*(1+$H$36)*$H$14","v":{"$error":"#VALUE!"}},{"$f":"+F121*(1+$G$36)*(1+$H$36)*(1+$I$36)*$I$14","v":{"$error":"#VALUE!"}},{"$f":"+F121*(1+$G$36)*(1+$H$36)*(1+$I$36)*(1+$J$36)*$J$14","v":{"$error":"#VALUE!"}},{"$f":"+F121*(1+$G$36)*(1+$H$36)*(1+$I$36)*(1+$J$36)*(1+$K$36)*$K$14","v":{"$error":"#VALUE!"}},{"$f":"+F121*(1+$G$36)*(1+$H$36)*(1+$I$36)*(1+$J$36)*(1+$K$36)*(1+$L$36)*$L$14","v":{"$error":"#VALUE!"}}]
[null,null,"Água",0.06,0,null,{"$f":"+F122*(1+$G$36)*$G$14","v":{"$error":"#VALUE!"}},{"$f":"+F122*(1+$G$36)*(1+$H$36)*$H$14","v":{"$error":"#VALUE!"}},{"$f":"+F122*(1+$G$36)*(1+$H$36)*(1+$I$36)*$I$14","v":{"$error":"#VALUE!"}},{"$f":"+F122*(1+$G$36)*(1+$H$36)*(1+$I$36)*(1+$J$36)*$J$14","v":{"$error":"#VALUE!"}},{"$f":"+F122*(1+$G$36)*(1+$H$36)*(1+$I$36)*(1+$J$36)*(1+$K$36)*$K$14","v":{"$error":"#VALUE!"}},{"$f":"+F122*(1+$G$36)*(1+$H$36)*(1+$I$36)*(1+$J$36)*(1+$K$36)*(1+$L$36)*$L$14","v":{"$error":"#VALUE!"}}]
[null,null,"Deslocações, Estadas e Transportes","IVA aplicável","% C. Fixo","Valor Mensal",{"$f":"+SUM(G124:G126)","v":{"$error":"#VALUE!"}},{"$error":"#VALUE!"},{"$error":"#VALUE!"},{"$error":"#VALUE!"},{"$error":"#VALUE!"},{"$f":"+SUM(L124:L126)","v":{"$error":"#VALUE!"}}]
[null,null,"Deslocações e Estadas",0.23,1,null,{"$f":"+F124*(1+$G$36)*$G$14","v":{"$error":"#VALUE!"}},{"$f":"+F124*(1+$G$36)*(1+$H$36)*$H$14","v":{"$error":"#VALUE!"}},{"$f":"+F124*(1+$G$36)*(1+$H$36)*(1+$I$36)*$I$14","v":{"$error":"#VALUE!"}},{"$f":"+F124*(1+$G$36)*(1+$H$36)*(1+$I$36)*(1+$J$36)*$J$14","v":{"$error":"#VALUE!"}},{"$f":"+F124*(1+$G$36)*(1+$H$36)*(1+$I$36)*(1+$J$36)*(1+$K$36)*$K$14","v":{"$error":"#VALUE!"}},{"$f":"+F124*(1+$G$36)*(1+$H$36)*(1+$I$36)*(1+$J$36)*(1+$K$36)*(1+$L$36)*$L$14","v":{"$error":"#VALUE!"}}]
[null,null,"Transportes de Pessoal",0.23,1,null,{"$f":"+F125*(1+$G$36)*$G$14","v":{"$error":"#VALUE!"}},{"$f":"+F125*(1+$G$36)*(1+$H$36)*$H$14","v":{"$error":"#VALUE!"}},{"$f":"+F125*(1+$G$36)*(1+$H$36)*(1+$I$36)*$I$14","v":{"$error":"#VALUE!"}},{"$f":"+F125*(1+$G$36)*(1+$H$36)*(1+$I$36)*(1+$J$36)*$J$14","v":{"$error":"#VALUE!"}},{"$f":"+F125*(1+$G$36)*(1+$H$36)*(1+$I$36)*(1+$J$36)*(1+$K$36)*$K$14","v":{"$error":"#VALUE!"}},{"$f":"+F125*(1+$G$36)*(1+$H$36)*(1+$I$36)*(1+$J$36)*(1+$K$36)*(1+$L$36)*$L$14","v":{"$error":"#VALUE!"}}]
[null,null,"Transportes de Mercadorias",0.23,0,null,{"$f":"+F126*(1+$G$36)*$G$14","v":{"$error":"#VALUE!"}},{"$f":"+F126*(1+$G$36)*(1+$H$36)*$H$14","v":{"$error":"#VALUE!"}},{"$f":"+F126*(1+$G$36)*(1+$H$36)*(1+$I$36)*$I$14","v":{"$error":"#VALUE!"}},{"$f":"+F126*(1+$G$36)*(1+$H$36)*(1+$I$36)*(1+$J$36)*$J$14","v":{"$error":"#VALUE!"}},{"$f":"+F126*(1+$G$36)*(1+$H$36)*(1+$I$36)*(1+$J$36)*(1+$K$36)*$K$14","v":{"$error":"#VALUE!"}},{"$f":"+F126*(1+$G$36)*(1+$H$36)*(1+$I$36)*(1+$J$36)*(1+$K$36)*(1+$L$36)*$L$14","v":{"$error":"#VALUE!"}}]
[null,null,"Serviços Diversos","IVA aplicável","% C. Fixo","Valor Mensal",{"$f":"+SUM(G128:G134)","v":{"$error":"#VALUE!"}},{"$error":"#VALUE!"},{"$error":"#VALUE!"},{"$error":"#VALUE!"},{"$error":"#VALUE!"},{"$f":"+SUM(L128:L134)","v":{"$error":"#VALUE!"}}]
[null,null,"Rendas e Alugueres",0.23,1,null,{"$f":"+F128*(1+$G$36)*$G$14","v":{"$error":"#VALUE!"}},{"$f":"+F128*(1+$G$36)*(1+$H$36)*$H$14","v":{"$error":"#VALUE!"}},{"$f":"+F128*(1+$G$36)*(1+$H$36)*(1+$I$36)*$I$14","v":{"$error":"#VALUE!"}},{"$f":"+F128*(1+$G$36)*(1+$H$36)*(1+$I$36)*(1+$J$36)*$J$14","v":{"$error":"#VALUE!"}},{"$f":"+F128*(1+$G$36)*(1+$H$36)*(1+$I$36)*(1+$J$36)*(1+$K$36)*$K$14","v":{"$error":"#VALUE!"}},{"$f":"+F128*(1+$G$36)*(1+$H$36)*(1+$I$36)*(1+$J$36)*(1+$K$36)*(1+$L$36)*$L$14","v":{"$error":"#VALUE!"}}]
[null,null,"Comunicação",0.23,1,null,{"$error":"#VALUE!"},{"$error":"#VALUE!"},{"$error":"#VALUE!"},{"$error":"#VALUE!"},{"$error":"#VALUE!"},{"$error":"#VALUE!"}]
[null,null,"Seguros",0,1,null,{"$error":"#VALUE!"},{"$error":"#VALUE!"},{"$error":"#VALUE!"},{"$error":"#VALUE!"},{"$error":"#VALUE!"},{"$error":"#VALUE!"}]
[null,null,"Royalties",0.23,1,null,{"$error":"#VALUE!"},{"$error":"#VALUE!"},{"$error":"#VALUE!"},{"$error":"#VALUE!"},{"$error":"#VALUE!"},{"$error":"#VALUE!"}]
[null,null,"Contencioso e Notariado",0.23,1,null,{"$error":"#VALUE!"},{"$error":"#VALUE!"},{"$error":"#VALUE!"},{"$error":"#VALUE!"},{"$error":"#VALUE!"},{"$error":"#VALUE!"}]
[null,null,"Despesas de Representação",0.23,1,null,{"$error":"#VALUE!"},{"$error":"#VALUE!"},{"$error":"#VALUE!"},{"$error":"#VALUE!"},{"$error":"#VALUE!"},{"$error":"#VALUE!"}]
[null,null,"Limpeza, Higiene e Conforto",0.23,1,null,{"$error":"#VALUE!"},{"$error":"#VALUE!"},{"$error":"#VALUE!"},{"$error":"#VALUE!"},{"$error":"#VALUE!"},{"$error":"#VALUE!"}]
[null,null,"Outros Serviços","IVA aplicável","% C. Fixo","Valor Mensal",{"$f":"+SUM(G136)","v":{"$error":"#VALUE!"}},{"$error":"#VALUE!"},{"$error":"#VALUE!"},{"$error":"#VALUE!"},{"$error":"#VALUE!"},{"$error":"#VALUE!"}]
[null,null,"Outros Serviços",0.23,1,null,{"$f":"+F136*(1+$G$36)*$G$14","v":{"$error":"#VALUE!"}},{"$f":"+F136*(1+$G$36)*(1+$H$36)*$H$14","v":{"$error":"#VALUE!"}},{"$f":"+F136*(1+$G$36)*(1+$H$36)*(1+$I$36)*$I$14","v":{"$error":"#VALUE!"}},{"$f":"+F136*(1+$G$36)*(1+$H$36)*(1+$I$36)*(1+$J$36)*$J$14","v":{"$error":"#VALUE!"}},{"$f":"+F136*(1+$G$36)*(1+$H$36)*(1+$I$36)*(1+$J$36)*(1+$K$36)*$K$14","v":{"$error":"#VALUE!"}},{"$f":"+F136*(1+$G$36)*(1+$H$36)*(1+$I$36)*(1+$J$36)*(1+$K$36)*(1+$L$36)*$L$14","v":{"$error":"#VALUE!"}}]
[]
[null,null,"3.3 Gastos com Pessoal"]
[]
[null,null,"Gastos com o Pessoal",null,null,null,{"$f":"+G149+G156+G159+G167+G173+G176+G179","v":0},0,0,0,0,0]
[]
[null,null,"Nº Trabalhadores",null,null,null,{"$f":"+SUM(G143:G147)","v":0},0,0,0,0,0]
[null,null,"Gerência"]
[null,null,"Administrativo"]
[null,null,"Comerciais"]
[null,null,"Operacionais"]
[null,null,"Outros"]
[]
[null,null,"Remuneração Base Total (Inclui IHT, diuturnidades)",null,"% C. Fixo","Valor Mensal",{"$f":"+SUM(G150:G154)","v":0},0,0,0,0,0]
[null,null,{"$f":"+C143","v":"Gerência"},null,null,null,{"$f":"+F150*G143*($G$14+$G$14*2/12)","v":0},{"$f":"+(F150*(1+$H$37))*H143*($H$14+$H$14*2/12)","v":0},{"$f":"+(F150*(1+$H$37)*(1+$I$37))*I143*($I$14+$I$14*2/12)","v":0},{"$f":"+(F150*(1+$H$37)*(1+$I$37)*(1+$J$37))*J143*($J$14+$J$14*2/12)","v":0},{"$f":"+(F150*(1+$H$37)*(1+$I$37)*(1+$J$37)*(1+$K$37))*K143*($K$14+$K$14*2/12)","v":0},{"$f":"+(F150*(1+$H$37)*(1+$I$37)*(1+$J$37)*(1+$K$37)*(1+$L$37))*L143*($L$14+$L$14*2/12)","v":0}]
[null,null,{"$f":"+C144","v":"Administrativo"},null,null,null,{"$f":"+F151*G144*($G$14+$G$14*2/12)","v":0},{"$f":"+(F151*(1+$H$37))*H144*($H$14+$H$14*2/12)","v":0},{"$f":"+(F151*(1+$H$37)*(1+$I$37))*I144*($I$14+$I$14*2/12)","v":0},{"$f":"+(F151*(1+$H$37)*(1+$I$37)*(1+$J$37))*J144*($J$14+$J$14*2/12)","v":0},{"$f":"+(F151*(1+$H$37)*(1+$I$37)*(1+$J$37)*(1+$K$37))*K144*($K$14+$K$14*2/12)","v":0},{"$f":"+(F151*(1+$H$37)*(1+$I$37)*(1+$J$37)*(1+$K$37)*(1+$L$37))*L144*($L$14+$L$14*2/12)","v":0}]
[null,null,{"$f":"+C145","v":"Comerciais"},null,null,null,{"$f":"+F152*G145*($G$14+$G$14*2/12)","v":0},{"$f":"+(F152*(1+$H$37))*H145*($H$14+$H$14*2/12)","v":0},{"$f":"+(F152*(1+$H$37)*(1+$I$37))*I145*($I$14+$I$14*2/12)","v":0},{"$f":"+(F152*(1+$H$37)*(1+$I$37)*(1+$J$37))*J145*($J$14+$J$14*2/12)","v":0},{"$f":"+(F152*(1+$H$37)*(1+$I$37)*(1+$J$37)*(1+$K$37))*K145*($K$14+$K$14*2/12)","v":0},{"$f":"+(F152*(1+$H$37)*(1+$I$37)*(1+$J$37)*(1+$K$37)*(1+$L$37))*L145*($L$14+$L$14*2/12)","v":0}]
[null,null,{"$f":"+C146","v":"Operacionais"},null,null,null,{"$f":"+F153*G146*($G$14+$G$14*2/12)","v":0},{"$f":"+(F153*(1+$H$37))*H146*($H$14+$H$14*2/12)","v":0},{"$f":"+(F153*(1+$H$37)*(1+$I$37))*I146*($I$14+$I$14*2/12)","v":0},{"$f":"+(F153*(1+$H$37)*(1+$I$37)*(1+$J$37))*J146*($J$14+$J$14*2/12)","v":0},{"$f":"+(F153*(1+$H$37)*(1+$I$37)*(1+$J$37)*(1+$K$37))*K146*($K$14+$K$14*2/12)","v":0},{"$f":"+(F153*(1+$H$37)*(1+$I$37)*(1+$J$37)*(1+$K$37)*(1+$L$37))*L146*($L$14+$L$14*2/12)","v":0}]
[null,null,{"$f":"+C147","v":"Outros"},null,null,null,{"$f":"+F154*G147*($G$14+$G$14*2/12)","v":0},{"$f":"+(F154*(1+$H$37))*H147*($H$14+$H$14*2/12)","v":0},{"$f":"+(F154*(1+$H$37)*(1+$I$37))*I147*($I$14+$I$14*2/12)","v":0},{"$f":"+(F154*(1+$H$37)*(1+$I$37)*(1+$J$37))*J147*($J$14+$J$14*2/12)","v":0},{"$f":"+(F154*(1+$H$37)*(1+$I$37)*(1+$J$37)*(1+$K$37))*K147*($K$14+$K$14*2/12)","v":0},{"$f":"+(F154*(1+$H$37)*(1+$I$37)*(1+$J$37)*(1+$K$37)*(1+$L$37))*L147*($L$14+$L$14*2/12)","v":0}]
[]
[null,null,"Subsídio de Alimentação Total",null,"% C. Fixo","Valor Diário",{"$f":"+SUM(G157)","v":0},0,0,0,0,0]
[null,null,"Subsídio de Alimentação",null,null,null,{"$f":"+IF(G14=0,0,IF(G14<=6,F157*G142*($G$14-0.5)*21,F157*G142*($G$14-1)*21))","v":0},{"$f":"+IF(G14<=6,(F157*(1+$H$37))*H142*($H$14-0.5)*21,(F157*(1+$H$37))*H142*($H$14-1)*21)","v":0},{"$f":"++IF(G14<=6,(F157*(1+$H$37)*(1+$I$37))*I142*($I$14-0.5)*21,(F157*(1+$H$37)*(1+$I$37))*I142*($I$14-1)*21)","v":0},{"$f":"+IF(J14<=6,(F157*(1+$H$37)*(1+$I$37)*(1+$J$37))*J142*($J$14-0.5)*21,F157*(1+$H$37)*(1+$I$37)*(1+$J$37))*J142*($J$14-1)*21","v":0},{"$f":"+IF(K14<=6,($F$157*(1+$H$37)*(1+$I$37)*(1+$J$37)*(1+$K$37))*K142*($K$14-0.5)*21,($F$157*(1+$H$37)*(1+$I$37)*(1+$J$37)*(1+$K$37))*K142*($K$14-1)*21)","v":0},{"$f":"+IF(L14<=6,($F$157*(1+$H$37)*(1+$I$37)*(1+$J$37)*(1+$K$37))*L142*($K$14-0.5)*21,($F$157*(1+$H$37)*(1+$I$37)*(1+$J$37)*(1+$K$37))*L142*($K$14-1)*21)","v":0}]
[]
[null,null,"Outras Remunerações (Opcional)",null,"% C. Fixo","Valor Mensal",{"$f":"+SUM(G160:G164)","v":0},0,0,0,0,0]
[null,null,{"$f":"+C143","v":"Gerência"},null,null,null,{"$f":"+F160*G143*($G$14)","v":0},{"$f":"+(F160*(1+$H$37))*H143*($H$14)","v":0},{"$f":"+(F160*(1+$H$37)*(1+$I$37))*I143*($I$14)","v":0},{"$f":"+(F160*(1+$H$37)*(1+$I$37)*(1+$J$37))*J143*($J$14)","v":0},{"$f":"+(F160*(1+$H$37)*(1+$I$37)*(1+$J$37)*(1+$K$37))*K143*($K$14)","v":0},{"$f":"+(F160*(1+$H$37)*(1+$I$37)*(1+$J$37)*(1+$K$37))*(1+$L$37)*L143*($L$14)","v":0}]
[null,null,{"$f":"+C144","v":"Administrativo"},null,null,null,{"$f":"+F161*G144*($G$14)","v":0},{"$f":"+(F161*(1+$H$37))*H144*($H$14)","v":0},{"$f":"+(F161*(1+$H$37)*(1+$I$37))*I144*($I$14)","v":0},{"$f":"+(F161*(1+$H$37)*(1+$I$37)*(1+$J$37))*J144*($J$14)","v":0},{"$f":"+(F161*(1+$H$37)*(1+$I$37)*(1+$J$37)*(1+$K$37))*K144*($K$14)","v":0},{"$f":"+(F161*(1+$H$37)*(1+$I$37)*(1+$J$37)*(1+$K$37))*(1+$L$37)*L144*($L$14)","v":0}]
[null,null,"Comerciais",null,null,null,{"$f":"+F162*G145*($G$14)","v":0},{"$f":"+(F162*(1+$H$37))*H145*($H$14)","v":0},{"$f":"+(F162*(1+$H$37)*(1+$I$37))*I145*($I$14)","v":0},{"$f":"+(F162*(1+$H$37)*(1+$I$37)*(1+$J$37))*J145*($J$14)","v":0},{"$f":"+(F162*(1+$H$37)*(1+$I$37)*(1+$J$37)*(1+$K$37))*K145*($K$14)","v":0},{"$f":"+(F162*(1+$H$37)*(1+$I$37)*(1+$J$37)*(1+$K$37))*(1+$L$37)*L145*($L$14)","v":0}]
[null,null,"Operacionais",null,null,null,{"$f":"+F163*G146*($G$14)","v":0},{"$f":"+(F163*(1+$H$37))*H146*($H$14)","v":0},{"$f":"+(F163*(1+$H$37)*(1+$I$37))*I146*($I$14)","v":0},{"$f":"+(F163*(1+$H$37)*(1+$I$37)*(1+$J$37))*J146*($J$14)","v":0},{"$f":"+(F163*(1+$H$37)*(1+$I$37)*(1+$J$37)*(1+$K$37))*K146*($K$14)","v":0},{"$f":"+(F163*(1+$H$37)*(1+$I$37)*(1+$J$37)*(1+$K$37))*(1+$L$37)*L146*($L$14)","v":0}]
[null,null,"Outros",null,null,null,{"$f":"+F164*G147*($G$14)","v":0},{"$f":"+(F164*(1+$H$37))*H147*($H$14)","v":0},{"$f":"+(F164*(1+$H$37)*(1+$I$37))*I147*($I$14)","v":0},{"$f":"+(F164*(1+$H$37)*(1+$I$37)*(1+$J$37))*J147*($J$14)","v":0},{"$f":"+(F164*(1+$H$37)*(1+$I$37)*(1+$J$37)*(1+$K$37))*K147*($K$14)","v":0},{"$f":"+(F164*(1+$H$37)*(1+$I$37)*(1+$J$37)*(1+$K$37))*(1+$L$37)*L147*($L$14)","v":0}]
[]
[null,null,"Segurança Social",null,"% C. Fixo",null,{"$f":"+SUM(G167:G168)","v":0},0,0,0,0,0]
[null,null,{"$f":"+C22","v":"TSU Empresa"},null,null,null,{"$f":"+(G$149+G$159)*$D$22","v":0},0,0,0,0,0]
[null,null,{"$f":"+C23","v":"TSU Colaboradores"},null,null,null,{"$f":"+(G$149+G$159)*$D$23","v":0},0,0,0,0,0]
[]
[null,null,"IRS",null,null,null,{"$f":"+G171","v":0},0,0,0,0,0]
[null,null,"IRS",null,null,null,{"$f":"+(G$149+G$159)*$D$20","v":0},0,0,0,0,0]
[]
[null,null,"Fundos de Compensação",null,null,null,{"$f":"+G174","v":0},0,0,0,0,0]
[null,null,"Fundos de Compensação",null,null,null,{"$f":"+(G$149+G$159)*$D$25","v":0},0,0,0,0,0]
[]
[null,null,"Seguros de Acidente de Trabalho",null,null,null,{"$f":"+G177","v":0},0,0,0,0,0]
[null,null,"Seguros de Acidente de Trabalho",null,null,null,{"$f":"+(G149+G159)*$D$26","v":0},0,0,0,0,0]
[]
[null,null,"Outros Gastos com Pessoal (Formação, HST, EPI, outros)",null,null,null,{"$f":"+SUM(G181:G184)","v":0},0,0,0,0,0]
[null,null,"IVA","IVA Aplicável",null,"Valor Mensal",{"$f":"+G$181*$D$181+G$182*$D$182+G$183*$D$183+G$184*$D$184","v":0},0,0,0,0,0]
[null,null,"Formação",0.23,null,null,{"$f":"+F181*$G$142*($G$14)","v":0},{"$f":"+(F181*(1+$H$37))*$H$142*($H$14)","v":0},{"$f":"+(F181*(1+$H$37)*(1+$I$37))*$I$142*($I$14)","v":0},{"$f":"+(F181*(1+$H$37)*(1+$I$37)*(1+$J$37))*$J$142*($J$14)","v":0},{"$f":"+(F181*(1+$H$37)*(1+$I$37)*(1+$J$37)*(1+$K$37))*$K$142*($K$14)","v":0},{"$f":"+(F181*(1+$H$37)*(1+$I$37)*(1+$J$37)*(1+$K$37))*(1+$L$37)*$L$142*($L$14)","v":0}]
[null,null,"Higiene Segurança no Trabalho (HST)",0.13,null,null,{"$f":"+F182*$G$142*($G$14)","v":0},{"$f":"+(F182*(1+$H$37))*$H$142*($H$14)","v":0},{"$f":"+(F182*(1+$H$37)*(1+$I$37))*$I$142*($I$14)","v":0},{"$f":"+(F182*(1+$H$37)*(1+$I$37)*(1+$J$37))*$J$142*($J$14)","v":0},{"$f":"+(F182*(1+$H$37)*(1+$I$37)*(1+$J$37)*(1+$K$37))*$K$142*($K$14)","v":0},{"$f":"+(F182*(1+$H$37)*(1+$I$37)*(1+$J$37)*(1+$K$37))*(1+$L$37)*$L$142*($L$14)","v":0}]
[null,null,"Equipamento Especializado Individual (EPI)",0.23,null,null,{"$f":"+F183*$G$142*($G$14)","v":0},{"$f":"+(F183*(1+$H$37))*$H$142*($H$14)","v":0},{"$f":"+(F183*(1+$H$37)*(1+$I$37))*$I$142*($I$14)","v":0},{"$f":"+(F183*(1+$H$37)*(1+$I$37)*(1+$J$37))*$J$142*($J$14)","v":0},{"$f":"+(F183*(1+$H$37)*(1+$I$37)*(1+$J$37)*(1+$K$37))*$K$142*($K$14)","v":0},{"$f":"+(F183*(1+$H$37)*(1+$I$37)*(1+$J$37)*(1+$K$37))*(1+$L$37)*$L$142*($L$14)","v":0}]
[null,null,"Outros",0,null,null,{"$f":"+F184*$G$142*($G$14)","v":0},{"$f":"+(F184*(1+$H$37))*$H$142*($H$14)","v":0},{"$f":"+(F184*(1+$H$37)*(1+$I$37))*$I$142*($I$14)","v":0},{"$f":"+(F184*(1+$H$37)*(1+$I$37)*(1+$J$37))*$J$142*($J$14)","v":0},{"$f":"+(F184*(1+$H$37)*(1+$I$37)*(1+$J$37)*(1+$K$37))*$K$142*($K$14)","v":0},{"$f":"+(F184*(1+$H$37)*(1+$I$37)*(1+$J$37)*(1+$K$37))*(1+$L$37)*$L$142*($L$14)","v":0}]
[]
[null,null,"4. Outros Rendimentos e Gastos"]
[]
[null,null,"Subsídios à Exploração",null,null,"% Aplicável"]
[null,null,"Imparidade de Inventários (Perdas/Reversões)",null,null,null,{"$f":"+IFERROR($F$189*(G$95+G$87),\"\")","v":0},0,0,0,0,0]
[null,null,"Imparidade de Dívidas a Receber (Perdas/Reversões)",null,null,null,{"$f":"+IFERROR($F$190*'5. Fundo de Maneio'!E$7,\"\")","v":0},{"$f":"+IFERROR($F$190*'5. Fundo de Maneio'!F$7,\"\")","v":0},{"$f":"+IFERROR($F$190*'5. Fundo de Maneio'!G$7,\"\")","v":0},{"$f":"+IFERROR($F$190*'5. Fundo de Maneio'!H$7,\"\")","v":0},{"$f":"+IFERROR($F$190*'5. Fundo de Maneio'!I$7,\"\")","v":0},{"$f":"+IFERROR($F$190*'5. Fundo de Maneio'!J$7,\"\")","v":0}]
[null,null,"Outros Rendimentos",null,null,null,{"$f":"+IFERROR($F$191*G$44,\"\")","v":0},0,0,0,0,0]
[null,null,"Outros Gastos",null,null,null,{"$f":"+IFERROR($F$192*G$44,\"\")","v":0},0,0,0,0,0]
[]
[null,null,"5. Fundo de Maneio"]
[]
[null,null,"Fundo de Maneio","Dias"]
[null,null,"PMR - Clientes",null,"PMR - Prazo Médio de Recebimento"]
[null,null,"DMI - Inventário de Mercadorias e Matéria Prima",null,"DMI - Duração Média de inventário"]
[null,null,"DMI - Inventário de Produtos Acabados ",null,"DMI - Duração Média de inventário"]
[null,null,"PMP - Fornecedores",null,"PMP - Prazo Médio de Pagamento a Fornecedores"]
[]
[null,null,"Investimento em Fundo de Maneio",null,null,null,{"$f":"+'5. Fundo de Maneio'!E25","v":0},{"$f":"+'5. Fundo de Maneio'!F25","v":{"$error":"#VALUE!"}},{"$f":"+'5. Fundo de Maneio'!G25","v":{"$error":"#VALUE!"}},{"$f":"+'5. Fundo de Maneio'!H25","v":{"$error":"#VALUE!"}},{"$f":"+'5. Fundo de Maneio'!I25","v":{"$error":"#VALUE!"}},{"$f":"+'5. Fundo de Maneio'!J25","v":{"$error":"#VALUE!"}}]
[]
[null,null,"6. Investimento em capital fixo (CAPEX)"]
[null,null,null,null,1,{"$f":"+E205+1","v":2},{"$f":"+F205+1","v":3},4,5,6,7]
[null,null,"Investimento em Capital fixo (CAPEX)",null,null,null,{"$f":"+G208+G216","v":0},{"$f":"+H208+H216","v":0},0,0,0,{"$f":"+L208+L216","v":0}]
[null,null,"IVA",null,null,null,{"$f":"+G209*$D$209+G210*$D$210+G211*$D$211+G212*$D$212+G213*$D$213+G214*$D$214+G215*$D$215+G217*$D$217+G218*$D$218+G219*$D$219+D220*$G$220","v":0},{"$f":"+H209*$D$209+H210*$D$210+H211*$D$211+H212*$D$212+H213*$D$213+H214*$D$214+H215*$D$215+H217*$D$217+H218*$D$218+H219*$D$219+D220*H220","v":0},{"$f":"+I209*$D$209+I210*$D$210+I211*$D$211+I212*$D$212+I213*$D$213+I214*$D$214+I215*$D$215+I217*$D$217+I218*$D$218+I219*$D$219+D220*I220","v":0},{"$f":"+J209*$D$209+J210*$D$210+J211*$D$211+J212*$D$212+J213*$D$213+J214*$D$214+J215*$D$215+J217*$D$217+J218*$D$218+J219*$D$219+D220*J220","v":0},{"$f":"+K209*$D$209+K210*$D$210+K211*$D$211+K212*$D$212+K213*$D$213+K214*$D$214+K215*$D$215+K217*$D$217+K218*$D$218+K219*$D$219+D220*K220","v":0},{"$f":"+L209*$D$209+L210*$D$210+L211*$D$211+L212*$D$212+L213*$D$213+L214*$D$214+L215*$D$215+L217*$D$217+L218*$D$218+L219*$D$219+E220*L220","v":0}]
[null,null,"Ativo fixo tangíveis","IVA aplicável","Anos Amort.","Valor Amort. Mensal",{"$f":"+SUM(G209:G215)","v":0},{"$f":"+SUM(H209:H215)","v":0},0,0,0,{"$f":"+SUM(L209:L215)","v":0}]
[null,null,"Terrenos e Recursos Naturais",0,null,{"$f":"+IFERROR(SUM(G209:L209)/E209,0)/12","v":0}]
[null,null,"Edifícios e outras construções",0,null,0]
[null,null,"Equipamento básico",0.23,null,0]
[null,null,"Equipamento ligeiro",0.23,null,0]
[null,null,"Equipamento de transporte",0.23,null,0]
[null,null,"Equipamento administrativo",0.23,null,0]
[null,null,"Outros Ativos Fixos Tangíveis",0.23,null,0]
[null,null,"Ativos intangíveis",null,null,null,{"$f":"+SUM(G217:G220)","v":0},{"$f":"+SUM(H217:H220)","v":0},0,0,0,0]
[null,null,"Projetos de desenvolvimento",0.23,null,{"$f":"+IFERROR(SUM(G217:L217)/E217,0)/12","v":0}]
[null,null,"Programas de Computador",0.23,null,{"$f":"+IFERROR(SUM(G218:L218)/E218,0)/12","v":0}]
[null,null,"Propriedade Industrial",0.23,null,{"$f":"+IFERROR(SUM(G219:L219)/E219,0)/12","v":0}]
[null,null,"Outros Ativos Intangíveis",0.23,null,{"$f":"+IFERROR(SUM(G220:L220)/E220,0)/12","v":0}]
[]
[null,null,"7. Necessidades Totais de Financiamento"]
[]
[null,null,"Total Investimento FM e CAPEX",null,null,null,{"$f":"+G206+G202","v":0},{"$f":"+H206+H202","v":{"$error":"#VALUE!"}},{"$error":"#VALUE!"},{"$error":"#VALUE!"},{"$error":"#VALUE!"},{"$f":"+L206+L202","v":{"$error":"#VALUE!"}}]
[null,null,"Investimento em Fundo de Maneio",null,null,null,{"$f":"+G202","v":0},{"$f":"+H202","v":{"$error":"#VALUE!"}},{"$error":"#VALUE!"},{"$error":"#VALUE!"},{"$error":"#VALUE!"},{"$f":"+L202","v":{"$error":"#VALUE!"}}]
[null,null,"Investimento em Capital fixo (CAPEX)",null,null,null,{"$f":"+G206","v":0},{"$f":"+H206","v":0},0,0,0,{"$f":"+L206","v":0}]
[]
[null,null,"8. Tesouraria"]
[]
[null,null,"Valor correspondente ao Limiar máximo de Tesouraria",null,null,"Valor considerado ao longo da vida útil do projeto"]
[null,null,"Taxa de juro de aplicações financeiras de curto prazo (+ excedentes de tesouraria)",null,null,"Fonte: Sugestão Banco de Portugal"]
[null,null,"Remuneração das aplicações de tesouraria",null,null,null,0,{"$f":"+IF('8. Mapa de tesouraria'!E58<=Pressupostos!$E$230,0,('8. Mapa de tesouraria'!E58-Pressupostos!$E$230)*Pressupostos!$E$231)","v":{"$error":"#VALUE!"}},{"$f":"+IF('8. Mapa de tesouraria'!F58<=Pressupostos!$E$230,0,('8. Mapa de tesouraria'!F58-Pressupostos!$E$230)*Pressupostos!$E$231)","v":{"$error":"#VALUE!"}},{"$f":"+IF('8. Mapa de tesouraria'!G58<=Pressupostos!$E$230,0,('8. Mapa de tesouraria'!G58-Pressupostos!$E$230)*Pressupostos!$E$231)","v":{"$error":"#VALUE!"}},{"$f":"+IF('8. Mapa de tesouraria'!H58<=Pressupostos!$E$230,0,('8. Mapa de tesouraria'!H58-Pressupostos!$E$230)*Pressupostos!$E$231)","v":{"$error":"#VALUE!"}},{"$f":"+IF('8. Mapa de tesouraria'!I58<=Pressupostos!$E$230,0,('8. Mapa de tesouraria'!I58-Pressupostos!$E$230)*Pressupostos!$E$231)","v":{"$error":"#VALUE!"}}]
[]
[null,null,"Necessidades de Tesouraria (Segurança Mínima)",null,null,"Valor considerado ao longo da vida útil do projeto - Decidir de acordo com as características"]
[null,null,"Valor mínimo a contratar se Tesouraria < Tesouraria de Segurança",null,null,"Valor considerado ao longo da vida útil do projeto - Decidir de acordo com as características"]
[null,null,"Taxa de juro de Financiamentos obtidos de curto prazo (necessidades de Tesouraria)",null,null,"Taxa a aplicar em financiamentos obtidos por necessidades de Tesouraria"]
[]
[null,null,"9. Fontes de Financiamento"]
[]
[null,null,"Estrutura de Capital no momento de constituição","CP:Dívida (%)"]
[null,null,"Capital Próprio",1,"Nota: Valor indicativo para a constituição inicial de capitais próprios no momento 0"]
[null,null,"Capitais Alheios",{"$f":"100%-D241","v":0}]
[]
[null,null,"Necessidades capital próprio  (mínimo)",null,null,null,{"$f":"IF(AND(G226>0,G224>0),+$D$241*G224,\"\")","v":""},{"$error":"#VALUE!"},{"$error":"#VALUE!"},{"$error":"#VALUE!"},{"$error":"#VALUE!"},{"$error":"#VALUE!"}]
[]
[null,null,"Incentivos Não Reembolsáveis ao Investimento"]
[null,null,"Incentivos não reembolsáveis"]
[null,null,"Ajustamento sobre incentivo (IRC)",null,null,null,{"$f":"+IFERROR(G247*$D$18,\"0\")","v":0},{"$f":"+IFERROR(H247*$D$18,\"0\")","v":0},0,0,0,{"$f":"+IFERROR(L247*$D$18,\"0\")","v":0}]
[null,null,"Imputação anual",5,null,null,{"$f":"+G247/$D$249","v":0},{"$f":"+H247/$D$249","v":0},0,0,0,{"$f":"+L247/$D$249","v":0},"Nota: Nº de anos - deverá corresponder à média dos anos de depreciação dos investiemntos apoiados."]
[null,null,"Imputação anual acumulada",null,null,null,{"$f":"IF(G247<>\"0\",IF(G4<G$4+$D$249,G249,\"0\"))","v":0},{"$f":"IF(H247<>\"0\",IF(H4<H$4+$D$249,H249,\"0\"))+IF(G247<>\"0\",IF(H4<G$4+$D$249,G249,\"0\"))","v":0},{"$f":"IF(I247<>\"0\",IF(I4<I$4+$D$249,I249,\"0\"))+IF(H247<>\"0\",IF(I4<H$4+$D$249,H249,\"0\"))+IF(G247<>\"0\",IF(I4<G$4+$D$249,G249,\"0\"))","v":0},{"$f":"IF(J247<>\"0\",IF(J4<J$4+$D$249,J249,\"0\"))+IF(I247<>\"0\",IF(J4<I$4+$D$249,I249,\"0\"))+IF(H247<>\"0\",IF(J4<H$4+$D$249,H249,\"0\"))+IF(G247<>\"0\",IF(J4<G$4+$D$249,G249,\"0\"))","v":0},{"$f":"IF(K247<>\"0\",IF(K4<K$4+$D$249,K249,\"0\"))+IF(J247<>\"0\",IF(K4<J$4+$D$249,J249,\"0\"))+IF(I247<>\"0\",IF(K4<I$4+$D$249,I249,\"0\"))+IF(H247<>\"0\",IF(K4<H$4+$D$249,H249,\"0\"))+IF(G247<>\"0\",IF(K4<G$4+$D$249,G249,\"0\"))","v":0},{"$f":"IF(L247<>\"0\",IF(L4<L$4+$D$249,L249,\"0\"))+IF(K247<>\"0\",IF(L4<K$4+$D$249,K249,\"0\"))+IF(J247<>\"0\",IF(L4<J$4+$D$249,J249,\"0\"))+IF(I247<>\"0\",IF(L4<I$4+$D$249,I249,\"0\"))+IF(H247<>\"0\",IF(L4<H$4+$D$249,H249,\"0\"))","v":0}]
[null,null,"Ajustamento sobre a imputação anual (IRC)",null,null,null,{"$f":"+G250*$D$18","v":0},{"$f":"+H250*$D$18","v":0},0,0,0,{"$f":"+L250*$D$18","v":0}]
[]
[null,null,"9.1 Capitais Próprios"]
[]
[null,null,"Capital Próprio",null,null,null,{"$f":"+G256+G257+G258+G260+G261","v":50000},{"$f":"+H256+H257+H258+H260+H261","v":{"$error":"#VALUE!"}},{"$error":"#VALUE!"},{"$error":"#VALUE!"},{"$error":"#VALUE!"},{"$error":"#VALUE!"}]
[null,null,"Capital Social",null,null,null,50000]
[null,null,"Incentivo não reembolsável",null,null,null,{"$f":"+G247-G248","v":0},{"$f":"+H247-H248","v":0},0,0,0,0]
[null,null,"Prestações Suplementares",null,null,null,{"$f":"+IF(G224*$D$241-G256-G257<0,\"0\",G224*$D$241-G256-G257)","v":"0"},{"$f":"+IF(H224*$D$241-H256-H257<0,\"0\",H224*$D$241-H256-H257)","v":{"$error":"#VALUE!"}},{"$error":"#VALUE!"},{"$error":"#VALUE!"},{"$error":"#VALUE!"},{"$error":"#VALUE!"}]
[null,null,"Necessidades de Injeção de Capital (Artº 35 do Código das Soc. Comerciais)","Ver nota coluna Q",null,null,{"$f":"IF('2. Balanço'!E30<0.5*'2. Balanço'!E31,0.5*'2. Balanço'!E31-'2. Balanço'!E30,\"\")","v":""},{"$f":"IF('2. Balanço'!F30<0.5*'2. Balanço'!F31,0.5*'2. Balanço'!F31-'2. Balanço'!F30,\"\")","v":{"$error":"#VALUE!"}},{"$f":"IF('2. Balanço'!G30<0.5*'2. Balanço'!G31,0.5*'2. Balanço'!G31-'2. Balanço'!G30,\"\")","v":{"$error":"#VALUE!"}},{"$f":"IF('2. Balanço'!H30<0.5*'2. Balanço'!H31,0.5*'2. Balanço'!H31-'2. Balanço'!H30,\"\")","v":{"$error":"#VALUE!"}},{"$f":"IF('2. Balanço'!I30<0.5*'2. Balanço'!I31,0.5*'2. Balanço'!I31-'2. Balanço'!I30,\"\")","v":{"$error":"#VALUE!"}},{"$f":"IF('2. Balanço'!J30<0.5*'2. Balanço'!J31,0.5*'2. Balanço'!J31-'2. Balanço'!J30,\"\")","v":{"$error":"#VALUE!"}},"Nota: Preencher Linhas abaixo em Caso de Capital Próprio (Balanço) < 50% do Capital Social."]
[null,null,"Capital Social","Se Valores >0 na Linha anterior \"Nececessidades de Injeção ..\", injetar Cap.Social e/ou Prest.Suplementares até valores na Linha \"Nececessidades de Injeção ..\" =0"]
[null,null,"Prestações Suplementares"]
[]
[null,null,"Distribuição de Resultados"]
[null,null,"Dividendos"]
[null,null,"Reservas legais"]
[null,null,"Resultados Transitados",null,null,null,{"$f":"100%-G264-G265","v":1},1,1,1,1,1]
[]
[null,null,"9.2 Capitais Alheios: Serviço de Dívida"]
[]
["CP",null,null,"Nota: Este botão permite que se adicionem o nº de empréstimos necessários para além dos existentes. Por defeito, existem dois, mas em caso de ser necessário apenas um, validar nota na Coluna E."]
["LP",null,null,"Nota: Este botão remove o último empréstimo realizado"]
[]
[null,null,"Valor mínimo de Capital Alheio (Financiamento Bancário, …) ",null,null,null,{"$f":"+IF(G255>G224,0,G224-SUM(G256:G258))","v":0},{"$f":"+IF(H255>H224,0,H224-SUM(H256:H258))","v":{"$error":"#VALUE!"}},{"$error":"#VALUE!"},{"$error":"#VALUE!"},{"$error":"#VALUE!"},{"$error":"#VALUE!"},"Nota: Corresponde à diferença entre Necessidades de Financiamento e Capital Próprio "]
[]
[null,null,"Total de Financiamento Bancário",null,null,null,{"$f":"+SUMIF($B$279:$B$2929,G$4,$D$279:$D$2929)","v":0},0,0,0,0,0]
[]
[null,null,"Financiamento Bancário",{"$f":"+IF((D280+D281)<=1,\"CP\",\"MLP\")","v":"CP"}]
[null,null,"Ano do contrato"]
[null,{"$f":"+D278","v":0},"Capital contratualizado"]
[null,null,"Período de reembolso de capital (anos)",1]
[null,null,"Período de carência de capital (anos)"]
[null,null,"Taxa de juro anual",null,"Taxa aplicável a cada financiamento obtido em concreto (negociada com entidade financiadora) "]
[null,null,"Financiamento Bancário",{"$f":"+IF((D286+D287)<=1,\"CP\",\"MLP\")","v":"CP"},"Em caso de existir apenas um empréstimo (campos preenchidos anteriormente), deve colocar no \"0\" no campo \"Capital contratualizado\" referente ao segundo Financiamento Bancário, e deixar todas as outras células como se encontram."]
[null,null,"Ano do contrato"]
[null,{"$f":"+D284","v":0},"Capital contratualizado"]
[null,null,"Período de reembolso de capital (anos)",1]
[null,null,"Período de carência de capital (anos)",0]
[null,null,"Taxa de juro anual",null,"Taxa aplicável a cada financiamento obtido em concreto (negociada com entidade financiadora) "]
[]
[]
[null,null,"9.3 Custo de Capital: WACC"]
[]
[null,null,"Custo do Capital"]
[null,null,"Taxa de atualização WACC  (Custo médio ponderado do capital) ",{"$f":"+D295*'3. Avaliação Financeira'!E97+D300*'3. Avaliação Financeira'!E96","v":{"$error":"#VALUE!"}},"WACC = %CP x Rcp + %CA x (Rca x (1-t))"]
[null,null,"Custo do capital próprio (Rcp)",{"$f":"+D296+(D297*(D298-D296)+D299)","v":0.04}]
[null,null,"Obrigações Tesouro longo prazo (Taxa de juro sem risco) (Rf)",5.0000000000000001E-3,"Sugestão de Fonte: Bloomberg, Banco Central Europeu, Damodaran \"Obrigações de Tesouro\""]
[null,null,"Beta unlevered  (Bu)",1,"Sugestão de Fonte: Bloomberg, Banco Central Europeu, Damodaran ou Beta=100% se não conhecer outra referência"]
[null,null,"Taxa de remuneração de mercado (Rm)",0.04,"Sugestão de Fonte: Banco de Portugal"]
[null,null,"Prémio de risco do país Pp",0,"Sugestão de Fonte: Bloomberg, Banco Central Europeu, Damodaran ou considerar 0%"]
[null,null,"Custo da dívida com efeito fiscal (Rca x (1-t))",{"$f":"+D301*(1-D18)","v":0}]
[null,null,"Taxa de juro de referência (Rca)",0,"Sugestão de Fonte: Visitar Portal das Finanças \"Créditos obtidos MPL\""]
[]
[]
[null,null,"9.4 Taxa Crescimento perpetuidade"]
[]
[null,null,"Taxa de crescimento dos Cash Flows na perpetuidade",null,"Fonte: Dependendo da Indústria"]
[]
[]
[null,null,"Cofinanciado por:"]

{"sheet":"1.Demonstração de Resultados","index":3,"n_rows":33,"n_cols":10,"rows_kept":33,"cut":false,"hidden":false,"merged":[]}
[]
[null,null,"1. P&L (Demonstração de Resultados)"]
[null,null,null,null,1,2,3,4,5,6]
[null,null,{"$f":"+Capa!C13","v":"<Nome do Projeto>"},null,{"$f":"+AnoN","v":0},{"$f":"+Pressupostos!H4","v":1},{"$f":"+Pressupostos!I4","v":2},{"$f":"+Pressupostos!J4","v":3},{"$f":"+Pressupostos!K4","v":4},{"$f":"+Pressupostos!L4","v":5}]
[null,null,null,null,2,{"$f":"+E5+1","v":3},{"$f":"+F5+1","v":4},5,6,7]
[null,"+","Vendas e Serviços prestados",null,{"$f":"+Pressupostos!G44","v":0},{"$f":"+Pressupostos!H44","v":0},{"$f":"+Pressupostos!I44","v":0},{"$f":"+Pressupostos!J44","v":0},{"$f":"+Pressupostos!K44","v":0},{"$f":"+Pressupostos!L44","v":0}]
[null,"+","Subsídios à Exploração",null,{"$f":"+Pressupostos!G188","v":0},{"$f":"+Pressupostos!H188","v":0},{"$f":"+Pressupostos!I188","v":0},{"$f":"+Pressupostos!J188","v":0},{"$f":"+Pressupostos!K188","v":0},{"$f":"+Pressupostos!L188","v":0}]
[null,"+","Ganhos/Perdas imputados de Subsidiárias, Associadas e Empreendimentos Conjuntos"]
[null,"+/-","Variação nos Inventários da Produção",null,{"$f":"+Pressupostos!G97","v":0},{"$f":"+Pressupostos!H97","v":0},{"$f":"+Pressupostos!I97","v":0},{"$f":"+Pressupostos!J97","v":0},{"$f":"+Pressupostos!K97","v":0},{"$f":"+Pressupostos!L97","v":0}]
[null,"+","Trabalhos para a Própria Entidade"]
[null,"-","CMVMC",null,{"$f":"-Pressupostos!G76","v":0},{"$f":"-Pressupostos!H76","v":0},{"$f":"-Pressupostos!I76","v":0},{"$f":"-Pressupostos!J76","v":0},{"$f":"-Pressupostos!K76","v":0},{"$f":"-Pressupostos!L76","v":0}]
[null,"-","FSE",null,{"$f":"-Pressupostos!G103","v":{"$error":"#VALUE!"}},{"$f":"-Pressupostos!H103","v":{"$error":"#VALUE!"}},{"$f":"-Pressupostos!I103","v":{"$error":"#VALUE!"}},{"$f":"-Pressupostos!J103","v":{"$error":"#VALUE!"}},{"$f":"-Pressupostos!K103","v":{"$error":"#VALUE!"}},{"$f":"-Pressupostos!L103","v":{"$error":"#VALUE!"}}]
[null,"-","Gastos com o Pessoal",null,{"$f":"-Pressupostos!G140","v":0},{"$f":"-Pressupostos!H140","v":0},{"$f":"-Pressupostos!I140","v":0},{"$f":"-Pressupostos!J140","v":0},{"$f":"-Pressupostos!K140","v":0},{"$f":"-Pressupostos!L140","v":0}]
[null,"-/+","Imparidade de Inventários (Perdas/Reversões)",null,{"$f":"-Pressupostos!G189","v":0},{"$f":"-Pressupostos!H189","v":0},{"$f":"-Pressupostos!I189","v":0},{"$f":"-Pressupostos!J189","v":0},{"$f":"-Pressupostos!K189","v":0},{"$f":"-Pressupostos!L189","v":0}]
[null,"-/+","Imparidade de Dívidas a Receber (Perdas/Reversões)",null,{"$f":"-Pressupostos!G190","v":0},{"$f":"-Pressupostos!H190","v":0},{"$f":"-Pressupostos!I190","v":0},{"$f":"-Pressupostos!J190","v":0},{"$f":"-Pressupostos!K190","v":0},{"$f":"-Pressupostos!L190","v":0}]
[null,"-/+","Provisões (Aumentos/Reduções)"]
[null,"-/+","Imparidade de Investimentos Não Depreciáveis/Amortizáveis (Perdas/Reversões)"]
[null,"+/-","Aumentos/Reduções de Justo Valor"]
[null,"+","Outros Rendimentos",null,{"$f":"+Pressupostos!G191+Pressupostos!G232+Pressupostos!G250","v":0},{"$f":"+Pressupostos!H191+Pressupostos!H232+Pressupostos!H250","v":{"$error":"#VALUE!"}},{"$f":"+Pressupostos!I191+Pressupostos!I232+Pressupostos!I250","v":{"$error":"#VALUE!"}},{"$f":"+Pressupostos!J191+Pressupostos!J232+Pressupostos!J250","v":{"$error":"#VALUE!"}},{"$f":"+Pressupostos!K191+Pressupostos!K232+Pressupostos!K250","v":{"$error":"#VALUE!"}},{"$f":"+Pressupostos!L191+Pressupostos!L232+Pressupostos!L250","v":{"$error":"#VALUE!"}}]
[null,"-","Outros Gastos",null,{"$f":"-Pressupostos!G192","v":0},{"$f":"-Pressupostos!H192","v":0},{"$f":"-Pressupostos!I192","v":0},{"$f":"-Pressupostos!J192","v":0},{"$f":"-Pressupostos!K192","v":0},{"$f":"-Pressupostos!L192","v":0}]
[null,null,"EBITDA (Resultado antes de Depreciações, Gastos de Financiamento e Impostos)",null,{"$f":"+E20+E19+E15+E14+E13+E12+E11+E7+E6+E9","v":{"$error":"#VALUE!"}},{"$f":"+F20+F19+F15+F14+F13+F12+F11+F7+F6+F9","v":{"$error":"#VALUE!"}},{"$error":"#VALUE!"},{"$error":"#VALUE!"},{"$error":"#VALUE!"},{"$error":"#VALUE!"}]
[null,"-/+","Gastos/Reversões de Depreciação e Amortização",null,{"$f":"-'6. Investimento'!F36","v":0},{"$f":"-'6. Investimento'!G36","v":0},{"$f":"-'6. Investimento'!H36","v":0},{"$f":"-'6. Investimento'!I36","v":0},{"$f":"-'6. Investimento'!J36","v":0},{"$f":"-'6. Investimento'!K36","v":0}]
[null,"-/+","Imparidade de Ativos Depreciáveis/Amortizáveis (Perdas/Reversões)"]
[null,null,"EBIT (Resultado Operacional)",null,{"$f":"+IFERROR(E21+E22,\"\")","v":""},{"$f":"+IFERROR(F21+F22,\"\")","v":""},"","","",""]
[null,"+","Juros e Rendimentos Similares Obtidos"]
[null,"-","Juros e Gastos Similares Suportados",null,{"$f":"-'7. Serviço da Dívida'!E12","v":0},{"$f":"-'7. Serviço da Dívida'!F12","v":{"$error":"#VALUE!"}},{"$f":"-'7. Serviço da Dívida'!G12","v":{"$error":"#VALUE!"}},{"$f":"-'7. Serviço da Dívida'!H12","v":{"$error":"#VALUE!"}},{"$f":"-'7. Serviço da Dívida'!I12","v":{"$error":"#VALUE!"}},{"$f":"-'7. Serviço da Dívida'!J12","v":{"$error":"#VALUE!"}}]
[null,null,"EBT (Resultado Antes de Impostos)",null,{"$f":"+IFERROR(E24+E26,\"\")","v":""},{"$f":"+IFERROR(F24+F26,\"\")","v":""},"","","",""]
[null,"-/+","Imposto",null,{"$f":"+E29+E30","v":{"$error":"#VALUE!"}},{"$error":"#VALUE!"},{"$error":"#VALUE!"},{"$error":"#VALUE!"},{"$error":"#VALUE!"},{"$error":"#VALUE!"}]
[null,"-/+","IRC",null,{"$f":"+'10. Anexo_Prejuízos fiscais'!E8","v":{"$error":"#VALUE!"}},{"$f":"+'10. Anexo_Prejuízos fiscais'!F8","v":{"$error":"#VALUE!"}},{"$f":"+'10. Anexo_Prejuízos fiscais'!G8","v":{"$error":"#VALUE!"}},{"$f":"+'10. Anexo_Prejuízos fiscais'!H8","v":{"$error":"#VALUE!"}},{"$f":"+'10. Anexo_Prejuízos fiscais'!I8","v":{"$error":"#VALUE!"}},{"$f":"+'10. Anexo_Prejuízos fiscais'!J8","v":{"$error":"#VALUE!"}}]
[null,"-/+","Derrama Municipal",null,{"$f":"+'10. Anexo_Prejuízos fiscais'!E9","v":{"$error":"#VALUE!"}},{"$f":"+'10. Anexo_Prejuízos fiscais'!F9","v":{"$error":"#VALUE!"}},{"$f":"+'10. Anexo_Prejuízos fiscais'!G9","v":{"$error":"#VALUE!"}},{"$f":"+'10. Anexo_Prejuízos fiscais'!H9","v":{"$error":"#VALUE!"}},{"$f":"+'10. Anexo_Prejuízos fiscais'!I9","v":{"$error":"#VALUE!"}},{"$f":"+'10. Anexo_Prejuízos fiscais'!J9","v":{"$error":"#VALUE!"}}]
[null,null,"Resultado Líquido",null,{"$f":"+IFERROR(E27+E28,\"\")","v":""},{"$f":"+IFERROR(F27+F28,\"\")","v":""},"","","",""]
[]
[null,null,"Cofinanciado por:"]

{"sheet":"2. Balanço","index":4,"n_rows":72,"n_cols":10,"rows_kept":72,"cut":false,"hidden":false,"merged":[]}
[]
[null,null,"2. Balanço"]
[]
[null,null,{"$f":"+Capa!C13","v":"<Nome do Projeto>"},null,{"$f":"+AnoN","v":0},{"$f":"+Pressupostos!H4","v":1},{"$f":"+Pressupostos!I4","v":2},{"$f":"+Pressupostos!J4","v":3},{"$f":"+Pressupostos!K4","v":4},{"$f":"+Pressupostos!L4","v":5}]
[null,null,null,null,3,{"$f":"+E5+1","v":4},{"$f":"+F5+1","v":5},6,7,8]
[null,null,"Ativo"]
[null,null,"Ativo não corrente",null,{"$f":"+SUM(E8:E16)","v":0},0,0,0,0,0]
[null,null,"Ativos fixos tangíveis",null,{"$f":"+'6. Investimento'!F22","v":0},{"$f":"+'6. Investimento'!G22","v":0},{"$f":"+'6. Investimento'!H22","v":0},{"$f":"+'6. Investimento'!I22","v":0},{"$f":"+'6. Investimento'!J22","v":0},{"$f":"+'6. Investimento'!K22","v":0}]
[null,null,"Propriedades de investimento"]
[null,null,"Goodwill"]
[null,null,"Ativos intangíveis",null,{"$f":"+'6. Investimento'!F30","v":0},{"$f":"+'6. Investimento'!G30","v":0},{"$f":"+'6. Investimento'!H30","v":0},{"$f":"+'6. Investimento'!I30","v":0},{"$f":"+'6. Investimento'!J30","v":0},{"$f":"+'6. Investimento'!K30","v":0}]
[null,null,"Ativos biológicos"]
[null,null,"Participações financeiras"]
[null,null,"Outros investimentos financeiros",null,{"$f":"+D14+(Pressupostos!G$149+Pressupostos!G$159)*Pressupostos!$D$24","v":0},{"$f":"+E14+(Pressupostos!H$149+Pressupostos!H$159)*Pressupostos!$D$24","v":0},{"$f":"+F14+(Pressupostos!I$149+Pressupostos!I$159)*Pressupostos!$D$24","v":0},{"$f":"+G14+(Pressupostos!J$149+Pressupostos!J$159)*Pressupostos!$D$24","v":0},{"$f":"+H14+(Pressupostos!K$149+Pressupostos!K$159)*Pressupostos!$D$24","v":0},{"$f":"+I14+(Pressupostos!L$149+Pressupostos!L$159)*Pressupostos!$D$24","v":0}]
[null,null,"Créditos a receber"]
[null,null,"Ativos por impostos diferidos"]
[null,null,"Ativo corrente",null,{"$f":"+SUM(E18:E28)","v":{"$error":"#VALUE!"}},{"$f":"+SUM(F18:F28)","v":{"$error":"#VALUE!"}},{"$error":"#VALUE!"},{"$error":"#VALUE!"},{"$error":"#VALUE!"},{"$error":"#VALUE!"}]
[null,null,"Inventários",null,{"$f":"+'5. Fundo de Maneio'!E8+'1.Demonstração de Resultados'!E14","v":0},{"$f":"+'5. Fundo de Maneio'!F8+'1.Demonstração de Resultados'!F14","v":0},{"$f":"+'5. Fundo de Maneio'!G8+'1.Demonstração de Resultados'!G14","v":0},{"$f":"+'5. Fundo de Maneio'!H8+'1.Demonstração de Resultados'!H14","v":0},{"$f":"+'5. Fundo de Maneio'!I8+'1.Demonstração de Resultados'!I14","v":0},{"$f":"+'5. Fundo de Maneio'!J8+'1.Demonstração de Resultados'!J14","v":0}]
[null,null,"Ativos biológicos"]
[null,null,"Clientes",null,{"$f":"+'5. Fundo de Maneio'!E7+'1.Demonstração de Resultados'!E15","v":0},{"$f":"+'5. Fundo de Maneio'!F7+'1.Demonstração de Resultados'!F15","v":0},{"$f":"+'5. Fundo de Maneio'!G7+'1.Demonstração de Resultados'!G15","v":0},{"$f":"+'5. Fundo de Maneio'!H7+'1.Demonstração de Resultados'!H15","v":0},{"$f":"+'5. Fundo de Maneio'!I7+'1.Demonstração de Resultados'!I15","v":0},{"$f":"+'5. Fundo de Maneio'!J7+'1.Demonstração de Resultados'!J15","v":0}]
[null,null,"EOEP",null,{"$f":"+'5. Fundo de Maneio'!E9","v":0},{"$f":"+'5. Fundo de Maneio'!F9","v":0},{"$f":"+'5. Fundo de Maneio'!G9","v":0},{"$f":"+'5. Fundo de Maneio'!H9","v":0},{"$f":"+'5. Fundo de Maneio'!I9","v":0},{"$f":"+'5. Fundo de Maneio'!J9","v":0}]
[null,null,"Capital subscrito e não realizado"]
[null,null,"Outros créditos a receber"]
[null,null,"Diferimentos"]
[null,null,"Ativos financeiros detidos para negociação"]
[null,null,"Outros ativos financeiros"]
[null,null,"Ativos não correntes detidos para venda"]
[null,null,"Caixa e depósitos bancários",null,{"$f":"+'8. Mapa de tesouraria'!E58+'8. Mapa de tesouraria'!E60","v":{"$error":"#VALUE!"}},{"$f":"+'8. Mapa de tesouraria'!F58+'8. Mapa de tesouraria'!F60","v":{"$error":"#VALUE!"}},{"$f":"+'8. Mapa de tesouraria'!G58+'8. Mapa de tesouraria'!G60","v":{"$error":"#VALUE!"}},{"$f":"+'8. Mapa de tesouraria'!H58+'8. Mapa de tesouraria'!H60","v":{"$error":"#VALUE!"}},{"$f":"+'8. Mapa de tesouraria'!I58+'8. Mapa de tesouraria'!I60","v":{"$error":"#VALUE!"}},{"$f":"+'8. Mapa de tesouraria'!J58+'8. Mapa de tesouraria'!J60","v":{"$error":"#VALUE!"}}]
[null,null,"Total do Ativo",null,{"$f":"+E17+E7","v":{"$error":"#VALUE!"}},{"$error":"#VALUE!"},{"$error":"#VALUE!"},{"$error":"#VALUE!"},{"$error":"#VALUE!"},{"$error":"#VALUE!"}]
[null,null,"Capital Próprio",null,{"$f":"+SUM(E31:E36)","v":50000},{"$f":"+SUM(F31:F36)","v":{"$error":"#VALUE!"}},{"$error":"#VALUE!"},{"$error":"#VALUE!"},{"$error":"#VALUE!"},{"$error":"#VALUE!"}]
[null,null,"Capital Social",null,{"$f":"+'9. Capital Próprio'!E8","v":50000},{"$f":"+'9. Capital Próprio'!F8","v":50000},{"$f":"+'9. Capital Próprio'!G8","v":50000},{"$f":"+'9. Capital Próprio'!H8","v":50000},{"$f":"+'9. Capital Próprio'!I8","v":50000},{"$f":"+'9. Capital Próprio'!J8","v":50000}]
[null,null,"Prestações suplementares",null,{"$f":"+'9. Capital Próprio'!E9","v":0},{"$f":"+'9. Capital Próprio'!F9","v":{"$error":"#VALUE!"}},{"$f":"+'9. Capital Próprio'!G9","v":{"$error":"#VALUE!"}},{"$f":"+'9. Capital Próprio'!H9","v":{"$error":"#VALUE!"}},{"$f":"+'9. Capital Próprio'!I9","v":{"$error":"#VALUE!"}},{"$f":"+'9. Capital Próprio'!J9","v":{"$error":"#VALUE!"}}]
[null,null,"Resultados Transitados",null,{"$f":"+'9. Capital Próprio'!E11","v":0},{"$f":"+'9. Capital Próprio'!F11","v":{"$error":"#VALUE!"}},{"$f":"+'9. Capital Próprio'!G11","v":{"$error":"#VALUE!"}},{"$f":"+'9. Capital Próprio'!H11","v":{"$error":"#VALUE!"}},{"$f":"+'9. Capital Próprio'!I11","v":{"$error":"#VALUE!"}},{"$f":"+'9. Capital Próprio'!J11","v":{"$error":"#VALUE!"}}]
[null,null,"Reservas legais",null,{"$f":"+'9. Capital Próprio'!E13+D34","v":0},{"$f":"+'9. Capital Próprio'!F13+E34","v":{"$error":"#VALUE!"}},{"$f":"+'9. Capital Próprio'!G13+F34","v":{"$error":"#VALUE!"}},{"$f":"+'9. Capital Próprio'!H13+G34","v":{"$error":"#VALUE!"}},{"$f":"+'9. Capital Próprio'!I13+H34","v":{"$error":"#VALUE!"}},{"$f":"+'9. Capital Próprio'!J13+I34","v":{"$error":"#VALUE!"}}]
[null,null,"Resultado Liquido",null,{"$f":"+'9. Capital Próprio'!E10","v":""},{"$f":"+'9. Capital Próprio'!F10","v":""},{"$f":"+'9. Capital Próprio'!G10","v":""},{"$f":"+'9. Capital Próprio'!H10","v":""},{"$f":"+'9. Capital Próprio'!I10","v":""},{"$f":"+'9. Capital Próprio'!J10","v":""}]
[null,null,"Outras variações Capital Próprio",null,{"$f":"+'9. Capital Próprio'!E14","v":0},{"$f":"+'9. Capital Próprio'!F14","v":0},{"$f":"+'9. Capital Próprio'!G14","v":0},{"$f":"+'9. Capital Próprio'!H14","v":0},{"$f":"+'9. Capital Próprio'!I14","v":0},{"$f":"+'9. Capital Próprio'!J14","v":0}]
[null,null,"Passivo"]
[null,null,"Passivo não corrente",null,{"$f":"+SUM(E39:E43)","v":{"$error":"#VALUE!"}},{"$error":"#VALUE!"},{"$error":"#VALUE!"},{"$error":"#VALUE!"},{"$error":"#VALUE!"},{"$f":"+SUM(J39:J43)","v":{"$error":"#VALUE!"}}]
[null,null,"Provisões"]
[null,null,"Financiamentos obtidos (MLP)",null,{"$f":"+'7. Serviço da Dívida'!E6-'2. Balanço'!E48","v":{"$error":"#VALUE!"}},{"$f":"+'7. Serviço da Dívida'!F6-'2. Balanço'!F48","v":{"$error":"#VALUE!"}},{"$f":"+'7. Serviço da Dívida'!G6-'2. Balanço'!G48","v":{"$error":"#VALUE!"}},{"$f":"+'7. Serviço da Dívida'!H6-'2. Balanço'!H48","v":{"$error":"#VALUE!"}},{"$f":"+'7. Serviço da Dívida'!I6-'2. Balanço'!I48","v":{"$error":"#VALUE!"}},{"$f":"+'7. Serviço da Dívida'!J6-'2. Balanço'!J48","v":{"$error":"#VALUE!"}}]
[null,null,"Responsabilidades por benefícios pós-emprego"]
[null,null,"Passivo por impostos diferidos"]
[null,null,"Outras dívidas a pagar"]
[null,null,"Passivo corrente",null,{"$f":"+SUM(E45:E53)","v":{"$error":"#VALUE!"}},{"$error":"#VALUE!"},{"$error":"#VALUE!"},{"$error":"#VALUE!"},{"$error":"#VALUE!"},{"$error":"#VALUE!"}]
[null,null,"Fornecedores",null,{"$f":"+'5. Fundo de Maneio'!E15","v":0},{"$f":"+'5. Fundo de Maneio'!F15","v":{"$error":"#VALUE!"}},{"$f":"+'5. Fundo de Maneio'!G15","v":{"$error":"#VALUE!"}},{"$f":"+'5. Fundo de Maneio'!H15","v":{"$error":"#VALUE!"}},{"$f":"+'5. Fundo de Maneio'!I15","v":{"$error":"#VALUE!"}},{"$f":"+'5. Fundo de Maneio'!J15","v":{"$error":"#VALUE!"}}]
[null,null,"Adiantamento de clientes"]
[null,null,"EOEP",null,{"$f":"+'5. Fundo de Maneio'!E16","v":0},{"$f":"+'5. Fundo de Maneio'!F16","v":0},{"$f":"+'5. Fundo de Maneio'!G16","v":0},{"$f":"+'5. Fundo de Maneio'!H16","v":0},{"$f":"+'5. Fundo de Maneio'!I16","v":0},{"$f":"+'5. Fundo de Maneio'!J16","v":0}]
[null,null,"Financimentos obtidos (CP)",null,{"$f":"+'7. Serviço da Dívida'!E8+'7. Serviço da Dívida'!F9","v":{"$error":"#VALUE!"}},{"$f":"+'7. Serviço da Dívida'!F8+'7. Serviço da Dívida'!G9","v":{"$error":"#VALUE!"}},{"$f":"+'7. Serviço da Dívida'!G8+'7. Serviço da Dívida'!H9","v":{"$error":"#VALUE!"}},{"$f":"+'7. Serviço da Dívida'!H8+'7. Serviço da Dívida'!I9","v":{"$error":"#VALUE!"}},{"$f":"+'7. Serviço da Dívida'!I8+'7. Serviço da Dívida'!J9","v":{"$error":"#VALUE!"}},{"$f":"+'7. Serviço da Dívida'!J8+'7. Serviço da Dívida'!K9","v":{"$error":"#VALUE!"}}]
[null,null,"Outras dívidas a pagar",null,{"$f":"-(+Pressupostos!G247-Pressupostos!G248+Pressupostos!G251-Pressupostos!G247)","v":0},{"$f":"-(+Pressupostos!H247-Pressupostos!H248+Pressupostos!H251-Pressupostos!H247)+E49","v":0},{"$f":"-(+Pressupostos!I247-Pressupostos!I248+Pressupostos!I251-Pressupostos!I247)+F49","v":0},{"$f":"-(+Pressupostos!J247-Pressupostos!J248+Pressupostos!J251-Pressupostos!J247)+G49","v":0},{"$f":"-(+Pressupostos!K247-Pressupostos!K248+Pressupostos!K251-Pressupostos!K247)+H49","v":0},{"$f":"-(+Pressupostos!L247-Pressupostos!L248+Pressupostos!L251-Pressupostos!L247)+I49","v":0}]
[null,null,"Diferimentos"]
[null,null,"Passivos financeiros detidos para negociação"]
[null,null,"Outros passivos financeiros"]
[null,null,"Passivos não correntes detidos para venda"]
[null,null,"Total Passivo",null,{"$f":"+E38+E44","v":{"$error":"#VALUE!"}},{"$f":"+F38+F44","v":{"$error":"#VALUE!"}},{"$error":"#VALUE!"},{"$error":"#VALUE!"},{"$error":"#VALUE!"},{"$f":"+J38+J44","v":{"$error":"#VALUE!"}}]
[null,null,"Total Capital Próprio + Passivo",null,{"$f":"+E54+E30","v":{"$error":"#VALUE!"}},{"$error":"#VALUE!"},{"$error":"#VALUE!"},{"$error":"#VALUE!"},{"$error":"#VALUE!"},{"$f":"+J54+J30","v":{"$error":"#VALUE!"}}]
[null,null,null,null,{"$f":"+E55-E29","v":{"$error":"#VALUE!"}},{"$error":"#VALUE!"},{"$error":"#VALUE!"},{"$error":"#VALUE!"},{"$error":"#VALUE!"},{"$error":"#VALUE!"}]
[]
[null,null,"Cofinanciado por:"]
[]
[]
[]
[]
[null,null,"Custos com pessoal"]
[null,null,"Outros Custos"]
[null,null,"Receita 2"]
[null,null,"Ano anterior"]
[null,null,"Custos com mercadorias e matérias"]
[null,null,"FSE"]
[null,null,"Custos com pessoal"]
[null,null,"Outros Custos"]
[null,null,"Outros"]
[null,null,"Imposto sobre o rendimento"]

{"sheet":"3. Avaliação Financeira","index":5,"n_rows":108,"n_cols":10,"rows_kept":108,"cut":false,"hidden":false,"merged":[[33,4,33,9],[60,4,60,9],[6,4,6,9]]}
[]
[null,null,"3. Avaliação Financeira \"3 métodos\""]
[]
[null,null,{"$f":"+Capa!C13","v":"<Nome do Projeto>"},null,{"$f":"+AnoN","v":0},{"$f":"+E4+1","v":1},{"$f":"+F4+1","v":2},3,4,5]
[null,null,null,null,0,{"$f":"+E5+1","v":1},2,3,4,5]
[]
[null,null,"1. Projeto/Investimento Pós-financiamento\n Cash Flows (FCFF) atualizados pelo Custo Médio Ponderado do Capital (WACC)",null,"O método dos FCFF (Free Cash Flows to the Firm), na ótica do capital (Investimento pós-financiamento)  incorpora os efeitos do capital alheio refletidos na taxa de atualização.\nTaxa de atualização  = wacc (custo médio ponderado do capital) = Rcp*CP /(CP+CA)+ Rca*(1-ti)*CA/ (CP+CA).\ncom Rcp = re = Rf + Bu*(Rm-Rf) e Rca = Taxa de remuneração (juro efetiva) do capital alheio.\nA taxa de atualização no ano 0 é considerada constante para todos o períodos."]
[]
[null,null,"+ EBIT",null,{"$f":"+'1.Demonstração de Resultados'!E24","v":""},{"$f":"+'1.Demonstração de Resultados'!F24","v":""},{"$f":"+'1.Demonstração de Resultados'!G24","v":""},{"$f":"+'1.Demonstração de Resultados'!H24","v":""},{"$f":"+'1.Demonstração de Resultados'!I24","v":""},{"$f":"+'1.Demonstração de Resultados'!J24","v":""}]
[null,null,"- Imposto",null,{"$f":"+'1.Demonstração de Resultados'!E28+('1.Demonstração de Resultados'!E26*(Pressupostos!$D$18+Pressupostos!$D$19))","v":{"$error":"#VALUE!"}},{"$f":"+'1.Demonstração de Resultados'!F28+('1.Demonstração de Resultados'!F26*(Pressupostos!$D$18+Pressupostos!$D$19))","v":{"$error":"#VALUE!"}},{"$f":"+'1.Demonstração de Resultados'!G28+('1.Demonstração de Resultados'!G26*(Pressupostos!$D$18+Pressupostos!$D$19))","v":{"$error":"#VALUE!"}},{"$f":"+'1.Demonstração de Resultados'!H28+('1.Demonstração de Resultados'!H26*(Pressupostos!$D$18+Pressupostos!$D$19))","v":{"$error":"#VALUE!"}},{"$f":"+'1.Demonstração de Resultados'!I28+('1.Demonstração de Resultados'!I26*(Pressupostos!$D$18+Pressupostos!$D$19))","v":{"$error":"#VALUE!"}},{"$f":"+'1.Demonstração de Resultados'!J28+('1.Demonstração de Resultados'!J26*(Pressupostos!$D$18+Pressupostos!$D$19))","v":{"$error":"#VALUE!"}}]
[null,null,"+ Depreciações e Amortizações ",null,{"$f":"+'6. Investimento'!F36","v":0},{"$f":"+'6. Investimento'!G36","v":0},{"$f":"+'6. Investimento'!H36","v":0},{"$f":"+'6. Investimento'!I36","v":0},{"$f":"+'6. Investimento'!J36","v":0},{"$f":"+'6. Investimento'!K36","v":0}]
[null,null,"- Variação Fundo de Maneio",null,{"$f":"-'5. Fundo de Maneio'!E25","v":0},{"$f":"-'5. Fundo de Maneio'!F25","v":{"$error":"#VALUE!"}},{"$f":"-'5. Fundo de Maneio'!G25","v":{"$error":"#VALUE!"}},{"$f":"-'5. Fundo de Maneio'!H25","v":{"$error":"#VALUE!"}},{"$f":"-'5. Fundo de Maneio'!I25","v":{"$error":"#VALUE!"}},{"$f":"-'5. Fundo de Maneio'!J25","v":{"$error":"#VALUE!"}}]
[null,null,"- CAPEX",null,{"$f":"-'6. Investimento'!F6","v":0},{"$f":"-'6. Investimento'!G6","v":0},{"$f":"-'6. Investimento'!H6","v":0},{"$f":"-'6. Investimento'!I6","v":0},{"$f":"-'6. Investimento'!J6","v":0},{"$f":"-'6. Investimento'!K6","v":0}]
[null,null,"Cash Flow Operacional",null,{"$f":"+SUM(E9:E13)","v":{"$error":"#VALUE!"}},{"$error":"#VALUE!"},{"$error":"#VALUE!"},{"$error":"#VALUE!"},{"$error":"#VALUE!"},{"$error":"#VALUE!"}]
[null,null,"Valor residual",null,null,null,null,null,null,{"$f":"+'6. Investimento'!K21+'5. Fundo de Maneio'!J24","v":{"$error":"#VALUE!"}}]
[null,null,"FCFF com VR",null,{"$f":"+E14+E15","v":{"$error":"#VALUE!"}},{"$error":"#VALUE!"},{"$error":"#VALUE!"},{"$error":"#VALUE!"},{"$error":"#VALUE!"},{"$error":"#VALUE!"}]
[null,null,"Perpetuidade",null,null,null,null,null,null,{"$f":"+(J14*(1+Pressupostos!D306))/((Pressupostos!D294-Pressupostos!D306))","v":{"$error":"#VALUE!"}}]
[null,null,"FCFF com perpetuidade",null,{"$f":"+E17+E14","v":{"$error":"#VALUE!"}},{"$error":"#VALUE!"},{"$error":"#VALUE!"},{"$error":"#VALUE!"},{"$error":"#VALUE!"},{"$error":"#VALUE!"}]
[null,null,"Factor de atualização - WACC",null,{"$f":"1/((1+Pressupostos!$D$294)^E5)","v":{"$error":"#VALUE!"}},{"$f":"1/((1+Pressupostos!$D$294)^F5)","v":{"$error":"#VALUE!"}},{"$f":"1/((1+Pressupostos!$D$294)^G5)","v":{"$error":"#VALUE!"}},{"$f":"1/((1+Pressupostos!$D$294)^H5)","v":{"$error":"#VALUE!"}},{"$f":"1/((1+Pressupostos!$D$294)^I5)","v":{"$error":"#VALUE!"}},{"$f":"1/((1+Pressupostos!$D$294)^J5)","v":{"$error":"#VALUE!"}}]
[null,null,null,null,{"$f":"+IF(E24<0,\"n/a\",ABS(D24)/E23)","v":{"$error":"#VALUE!"}},{"$error":"#VALUE!"},{"$error":"#VALUE!"},{"$error":"#VALUE!"},{"$error":"#VALUE!"},{"$error":"#VALUE!"}]
[null,null,"FCFF descontado VR",null,{"$f":"+E16*E19","v":{"$error":"#VALUE!"}},{"$f":"+F16*F19","v":{"$error":"#VALUE!"}},{"$error":"#VALUE!"},{"$error":"#VALUE!"},{"$error":"#VALUE!"},{"$f":"+J16*J19","v":{"$error":"#VALUE!"}}]
[null,null,"FCFF descontado acumulado VR",null,{"$f":"+D22+E21","v":{"$error":"#VALUE!"}},{"$f":"+E22+F21","v":{"$error":"#VALUE!"}},{"$error":"#VALUE!"},{"$error":"#VALUE!"},{"$error":"#VALUE!"},{"$error":"#VALUE!"}]
[null,null,"FCFF descontado perpetuidade",null,{"$f":"+E18*E19","v":{"$error":"#VALUE!"}},{"$error":"#VALUE!"},{"$error":"#VALUE!"},{"$error":"#VALUE!"},{"$error":"#VALUE!"},{"$error":"#VALUE!"}]
[null,null,"FCFF descontado acumulado perpetuidade",null,{"$f":"+D24+E23","v":{"$error":"#VALUE!"}},{"$f":"+E24+F23","v":{"$error":"#VALUE!"}},{"$f":"+F24+G23","v":{"$error":"#VALUE!"}},{"$f":"+G24+H23","v":{"$error":"#VALUE!"}},{"$f":"+H24+I23","v":{"$error":"#VALUE!"}},{"$error":"#VALUE!"}]
[null,null,null,null,{"$f":"+IF(E22<0,\"n/a\",ABS(D22)/E21)","v":{"$error":"#VALUE!"}},{"$error":"#VALUE!"},{"$error":"#VALUE!"},{"$error":"#VALUE!"},{"$error":"#VALUE!"},{"$error":"#VALUE!"}]
[null,null,"ANÁLISE DE VIABILIDADE",null,"C/ Valor Residual","C/ Perpetuidade"]
[null,null,"VAL",null,{"$f":"+SUM(E21:J21)","v":{"$error":"#VALUE!"}},{"$f":"+SUM(E23:J23)","v":{"$error":"#VALUE!"}}]
[null,null,"TIR",null,{"$f":"+IRR(E16:J16)","v":{"$error":"#VALUE!"}},{"$f":"+IRR(E18:J18)","v":{"$error":"#VALUE!"}}]
[null,null,"Payback",null,{"$f":"+COUNTIF(E22:J22,\"<0\")+INDEX(E25:J25,,COUNTIF(E22:J22,\"<0\")+1)","v":{"$error":"#VALUE!"}},{"$f":"+COUNTIF(E24:J24,\"<0\")+INDEX(E20:J20,,COUNTIF(E24:J24,\"<0\")+1)","v":{"$error":"#VALUE!"}},"anos"]
[]
[null,null,"Valor Residual",null,{"$f":"+'6. Investimento'!K21+'5. Fundo de Maneio'!J24","v":{"$error":"#VALUE!"}},"Nota: CAPEX +FM no último ano de investimento"]
[null,null,"Valor da perpetuidade",null,{"$f":"+J17","v":{"$error":"#VALUE!"}}]
[]
[null,null,"2. Investimento (Pré-financiamento)\nCash Flows (FCFF) atualizados pelo CAPM",null,"O método dos FCFF, na ótica do investimento, ignora a forma de financiamento, o que equivale a considerar 100% Capital Próprio.\nTaxa de atualização (Capital Asset Pricing Model) = Rcp = re = Rf + Bu*(Rm-Rf).\nA taxa de atualização no ano 0 é considerada constante para todos o períodos."]
[]
[null,null,"+ EBIT",null,{"$f":"+'1.Demonstração de Resultados'!E24","v":""},{"$f":"+'1.Demonstração de Resultados'!F24","v":""},{"$f":"+'1.Demonstração de Resultados'!G24","v":""},{"$f":"+'1.Demonstração de Resultados'!H24","v":""},{"$f":"+'1.Demonstração de Resultados'!I24","v":""},{"$f":"+'1.Demonstração de Resultados'!J24","v":""}]
[null,null,"- Imposto",null,{"$f":"+'1.Demonstração de Resultados'!E28+('1.Demonstração de Resultados'!E26*(Pressupostos!$D$18+Pressupostos!$D$19))","v":{"$error":"#VALUE!"}},{"$f":"+'1.Demonstração de Resultados'!F28+('1.Demonstração de Resultados'!F26*(Pressupostos!$D$18+Pressupostos!$D$19))","v":{"$error":"#VALUE!"}},{"$f":"+'1.Demonstração de Resultados'!G28+('1.Demonstração de Resultados'!G26*(Pressupostos!$D$18+Pressupostos!$D$19))","v":{"$error":"#VALUE!"}},{"$f":"+'1.Demonstração de Resultados'!H28+('1.Demonstração de Resultados'!H26*(Pressupostos!$D$18+Pressupostos!$D$19))","v":{"$error":"#VALUE!"}},{"$f":"+'1.Demonstração de Resultados'!I28+('1.Demonstração de Resultados'!I26*(Pressupostos!$D$18+Pressupostos!$D$19))","v":{"$error":"#VALUE!"}},{"$f":"+'1.Demonstração de Resultados'!J28+('1.Demonstração de Resultados'!J26*(Pressupostos!$D$18+Pressupostos!$D$19))","v":{"$error":"#VALUE!"}}]
[null,null,"+ Depreciações e Amortizações ",null,{"$f":"+'6. Investimento'!F36","v":0},{"$f":"+'6. Investimento'!G36","v":0},{"$f":"+'6. Investimento'!H36","v":0},{"$f":"+'6. Investimento'!I36","v":0},{"$f":"+'6. Investimento'!J36","v":0},{"$f":"+'6. Investimento'!K36","v":0}]
[null,null,"- Variação Fundo de Maneio",null,{"$f":"-'5. Fundo de Maneio'!E25","v":0},{"$f":"-'5. Fundo de Maneio'!F25","v":{"$error":"#VALUE!"}},{"$f":"-'5. Fundo de Maneio'!G25","v":{"$error":"#VALUE!"}},{"$f":"-'5. Fundo de Maneio'!H25","v":{"$error":"#VALUE!"}},{"$f":"-'5. Fundo de Maneio'!I25","v":{"$error":"#VALUE!"}},{"$f":"-'5. Fundo de Maneio'!J25","v":{"$error":"#VALUE!"}}]
[null,null,"- CAPEX",null,{"$f":"-'6. Investimento'!F6","v":0},{"$f":"-'6. Investimento'!G6","v":0},{"$f":"-'6. Investimento'!H6","v":0},{"$f":"-'6. Investimento'!I6","v":0},{"$f":"-'6. Investimento'!J6","v":0},{"$f":"-'6. Investimento'!K6","v":0}]
[null,null,"Cash Flow Operacional",null,{"$f":"+SUM(E36:E40)","v":{"$error":"#VALUE!"}},{"$error":"#VALUE!"},{"$error":"#VALUE!"},{"$error":"#VALUE!"},{"$error":"#VALUE!"},{"$error":"#VALUE!"}]
[null,null,"Valor residual",null,null,null,null,null,null,{"$f":"+'6. Investimento'!K21+'5. Fundo de Maneio'!J24","v":{"$error":"#VALUE!"}}]
[null,null,"FCFF com VR",null,{"$f":"+E41+E42","v":{"$error":"#VALUE!"}},{"$error":"#VALUE!"},{"$error":"#VALUE!"},{"$error":"#VALUE!"},{"$error":"#VALUE!"},{"$error":"#VALUE!"}]
[null,null,"Perpetuidade",null,null,null,null,null,null,{"$f":"+(J41*(1+Pressupostos!D306))/((Pressupostos!D295-Pressupostos!D306))","v":{"$error":"#VALUE!"}}]
[null,null,"FCFF com perpetuidade",null,{"$f":"+E44+E41","v":{"$error":"#VALUE!"}},{"$error":"#VALUE!"},{"$error":"#VALUE!"},{"$error":"#VALUE!"},{"$error":"#VALUE!"},{"$error":"#VALUE!"}]
[null,null,"Factor de atualização  - CAPM",null,1,{"$f":"1/((1+Pressupostos!$D$295)^F5)","v":0.96153846153846145},{"$f":"1/((1+Pressupostos!$D$295)^G5)","v":0.92455621301775137},{"$f":"1/((1+Pressupostos!$D$295)^H5)","v":0.88899635867091487},{"$f":"1/((1+Pressupostos!$D$295)^I5)","v":0.85480419102972571},{"$f":"1/((1+Pressupostos!$D$295)^J5)","v":0.82192710675935154}]
[null,null,null,null,{"$f":"+IF(E51<0,\"n/a\",ABS(D51)/E50)","v":{"$error":"#VALUE!"}},{"$error":"#VALUE!"},{"$error":"#VALUE!"},{"$error":"#VALUE!"},{"$error":"#VALUE!"},{"$error":"#VALUE!"}]
[null,null,"FCFF descontado VR",null,{"$f":"+E43*E46","v":{"$error":"#VALUE!"}},{"$error":"#VALUE!"},{"$error":"#VALUE!"},{"$error":"#VALUE!"},{"$error":"#VALUE!"},{"$f":"+J43*J46","v":{"$error":"#VALUE!"}}]
[null,null,"FCFF descontado acumulado VR",null,{"$f":"+D49+E48","v":{"$error":"#VALUE!"}},{"$f":"+E49+F48","v":{"$error":"#VALUE!"}},{"$error":"#VALUE!"},{"$error":"#VALUE!"},{"$error":"#VALUE!"},{"$error":"#VALUE!"}]
[null,null,"FCFF descontado perpetuidade",null,{"$f":"+E45*E46","v":{"$error":"#VALUE!"}},{"$error":"#VALUE!"},{"$error":"#VALUE!"},{"$error":"#VALUE!"},{"$error":"#VALUE!"},{"$error":"#VALUE!"}]
[null,null,"FCFF descontado acumulado perpetuidade",null,{"$f":"+D51+E50","v":{"$error":"#VALUE!"}},{"$f":"+E51+F50","v":{"$error":"#VALUE!"}},{"$f":"+F51+G50","v":{"$error":"#VALUE!"}},{"$f":"+G51+H50","v":{"$error":"#VALUE!"}},{"$f":"+H51+I50","v":{"$error":"#VALUE!"}},{"$error":"#VALUE!"}]
[null,null,null,null,{"$f":"+IF(E49<0,\"n/a\",ABS(D49)/E48)","v":{"$error":"#VALUE!"}},{"$error":"#VALUE!"},{"$error":"#VALUE!"},{"$error":"#VALUE!"},{"$error":"#VALUE!"},{"$error":"#VALUE!"}]
[null,null,"ANÁLISE DE VIABILIDADE",null,"C/Valor Residual","c/ Perpetuidade"]
[null,null,"VAL",null,{"$f":"+SUM(E48:J48)","v":{"$error":"#VALUE!"}},{"$f":"+SUM(E50:J50)","v":{"$error":"#VALUE!"}}]
[null,null,"TIR",null,{"$f":"+IRR(E43:J43)","v":{"$error":"#VALUE!"}},{"$f":"+IRR(E45:J45)","v":{"$error":"#VALUE!"}}]
[null,null,"Payback",null,{"$f":"+COUNTIF(E49:J49,\"<0\")+INDEX(E52:J52,,COUNTIF(E49:J49,\"<0\")+1)","v":{"$error":"#VALUE!"}},{"$f":"+COUNTIF(E51:J51,\"<0\")+INDEX(E47:J47,,COUNTIF(E51:J51,\"<0\")+1)","v":{"$error":"#VALUE!"}},"Anos"]
[]
[null,null,"Valor Residual (VR)",null,{"$f":"+'6. Investimento'!K21+'5. Fundo de Maneio'!J24","v":{"$error":"#VALUE!"}},"Nota: CAPEX +FM no último ano de investimento"]
[null,null,"Valor da perpetuidade",null,{"$f":"+J44","v":{"$error":"#VALUE!"}}]
[]
[null,null,"3. Investidor/Capital Próprio: \nCash Flows (FCFE ) atualizados pelo Custo do Capital CAPM",null,"Avaliação na  Ótica do Investidor (ou do Capital Próprio) (Free Cash Flow to Equity).\nNo método de avaliação pelo desconto de fluxos de caixa líquido do acionista (FCFE - Free Cashflow to Equity), o objetivo é avaliar directamente o valor líquido e a remuneração do capital do investidor (ou do acionista da empresa).\nOs Cash Flows (FCFE) = Cash flows na ótica do Investimento + Cash Flows de financiamento em cada ano."]
[]
[null,null,"+ EBIT",null,{"$f":"+'1.Demonstração de Resultados'!E24","v":""},{"$f":"+'1.Demonstração de Resultados'!F24","v":""},{"$f":"+'1.Demonstração de Resultados'!G24","v":""},{"$f":"+'1.Demonstração de Resultados'!H24","v":""},{"$f":"+'1.Demonstração de Resultados'!I24","v":""},{"$f":"+'1.Demonstração de Resultados'!J24","v":""}]
[null,null,"- Imposto",null,{"$f":"+'1.Demonstração de Resultados'!E28+('1.Demonstração de Resultados'!E26*(Pressupostos!$D$18+Pressupostos!$D$19))","v":{"$error":"#VALUE!"}},{"$f":"+'1.Demonstração de Resultados'!F28+('1.Demonstração de Resultados'!F26*(Pressupostos!$D$18+Pressupostos!$D$19))","v":{"$error":"#VALUE!"}},{"$f":"+'1.Demonstração de Resultados'!G28+('1.Demonstração de Resultados'!G26*(Pressupostos!$D$18+Pressupostos!$D$19))","v":{"$error":"#VALUE!"}},{"$f":"+'1.Demonstração de Resultados'!H28+('1.Demonstração de Resultados'!H26*(Pressupostos!$D$18+Pressupostos!$D$19))","v":{"$error":"#VALUE!"}},{"$f":"+'1.Demonstração de Resultados'!I28+('1.Demonstração de Resultados'!I26*(Pressupostos!$D$18+Pressupostos!$D$19))","v":{"$error":"#VALUE!"}},{"$f":"+'1.Demonstração de Resultados'!J28+('1.Demonstração de Resultados'!J26*(Pressupostos!$D$18+Pressupostos!$D$19))","v":{"$error":"#VALUE!"}}]
[null,null,"+ Depreciações e Amortizações ",null,{"$f":"+'6. Investimento'!F36","v":0},{"$f":"+'6. Investimento'!G36","v":0},{"$f":"+'6. Investimento'!H36","v":0},{"$f":"+'6. Investimento'!I36","v":0},{"$f":"+'6. Investimento'!J36","v":0},{"$f":"+'6. Investimento'!K36","v":0}]
[null,null,"- Variação Fundo de Maneio",null,{"$f":"-'5. Fundo de Maneio'!E25","v":0},{"$f":"-'5. Fundo de Maneio'!F25","v":{"$error":"#VALUE!"}},{"$f":"-'5. Fundo de Maneio'!G25","v":{"$error":"#VALUE!"}},{"$f":"-'5. Fundo de Maneio'!H25","v":{"$error":"#VALUE!"}},{"$f":"-'5. Fundo de Maneio'!I25","v":{"$error":"#VALUE!"}},{"$f":"-'5. Fundo de Maneio'!J25","v":{"$error":"#VALUE!"}}]
[null,null,"- CAPEX",null,{"$f":"-'6. Investimento'!F6","v":0},{"$f":"-'6. Investimento'!G6","v":0},{"$f":"-'6. Investimento'!H6","v":0},{"$f":"-'6. Investimento'!I6","v":0},{"$f":"-'6. Investimento'!J6","v":0},{"$f":"-'6. Investimento'!K6","v":0}]
[null,null,"Cash Flow Operacional",null,{"$f":"+SUM(E63:E67)","v":{"$error":"#VALUE!"}},{"$error":"#VALUE!"},{"$error":"#VALUE!"},{"$error":"#VALUE!"},{"$error":"#VALUE!"},{"$f":"+SUM(J63:J67)","v":{"$error":"#VALUE!"}}]
[null,null,{"$f":"+'1.Demonstração de Resultados'!C26","v":"Juros e Gastos Similares Suportados"},null,{"$f":"+'1.Demonstração de Resultados'!E26","v":0},{"$f":"+'1.Demonstração de Resultados'!F26","v":{"$error":"#VALUE!"}},{"$f":"+'1.Demonstração de Resultados'!G26","v":{"$error":"#VALUE!"}},{"$f":"+'1.Demonstração de Resultados'!H26","v":{"$error":"#VALUE!"}},{"$f":"+'1.Demonstração de Resultados'!I26","v":{"$error":"#VALUE!"}},{"$f":"+'1.Demonstração de Resultados'!J26","v":{"$error":"#VALUE!"}}]
[null,null,"Financiamentos obtidos",null,{"$f":"+Pressupostos!G275","v":0},{"$f":"+Pressupostos!H275","v":0},{"$f":"+Pressupostos!I275","v":0},{"$f":"+Pressupostos!J275","v":0},{"$f":"+Pressupostos!K275","v":0},{"$f":"+Pressupostos!L275","v":0}]
[null,null,"Amortização de financiamentos",null,{"$f":"-'7. Serviço da Dívida'!E9","v":0},{"$f":"-'7. Serviço da Dívida'!F9","v":{"$error":"#VALUE!"}},{"$f":"-'7. Serviço da Dívida'!G9","v":{"$error":"#VALUE!"}},{"$f":"-'7. Serviço da Dívida'!H9","v":{"$error":"#VALUE!"}},{"$f":"-'7. Serviço da Dívida'!I9","v":{"$error":"#VALUE!"}},{"$f":"-'7. Serviço da Dívida'!J9","v":{"$error":"#VALUE!"}}]
[null,null,"FCFE",null,{"$f":"+E68+E69+E70+E71","v":{"$error":"#VALUE!"}},{"$error":"#VALUE!"},{"$error":"#VALUE!"},{"$error":"#VALUE!"},{"$error":"#VALUE!"},{"$error":"#VALUE!"}]
[null,null,"Valor residual",null,null,null,null,null,null,{"$f":"+'6. Investimento'!K21+'5. Fundo de Maneio'!J24","v":{"$error":"#VALUE!"}}]
[null,null,"FCFE com VR",null,{"$f":"+E72+E73","v":{"$error":"#VALUE!"}},{"$error":"#VALUE!"},{"$error":"#VALUE!"},{"$error":"#VALUE!"},{"$error":"#VALUE!"},{"$error":"#VALUE!"}]
[null,null,"Perpetuidade",null,null,null,null,null,null,{"$f":"+(J72*(1+Pressupostos!D306))/((Pressupostos!D295-Pressupostos!D306))","v":{"$error":"#VALUE!"}}]
[null,null,"FCFE com perpetuidade",null,{"$f":"+E75+E72","v":{"$error":"#VALUE!"}},{"$error":"#VALUE!"},{"$error":"#VALUE!"},{"$error":"#VALUE!"},{"$error":"#VALUE!"},{"$error":"#VALUE!"}]
[null,null,"Factor de atualização - CAPM",null,1,{"$f":"1/((1+Pressupostos!$D$295)^F5)","v":0.96153846153846145},{"$f":"1/((1+Pressupostos!$D$295)^G5)","v":0.92455621301775137},{"$f":"1/((1+Pressupostos!$D$295)^H5)","v":0.88899635867091487},{"$f":"1/((1+Pressupostos!$D$295)^I5)","v":0.85480419102972571},{"$f":"1/((1+Pressupostos!$D$295)^J5)","v":0.82192710675935154}]
[null,null,null,null,{"$f":"+IF(E82<0,\"n/a\",ABS(D82)/E81)","v":{"$error":"#VALUE!"}},{"$error":"#VALUE!"},{"$error":"#VALUE!"},{"$error":"#VALUE!"},{"$error":"#VALUE!"},{"$error":"#VALUE!"}]
[null,null,"FCFE descontado VR",null,{"$f":"+E74*E77","v":{"$error":"#VALUE!"}},{"$error":"#VALUE!"},{"$error":"#VALUE!"},{"$error":"#VALUE!"},{"$error":"#VALUE!"},{"$f":"+J74*J77","v":{"$error":"#VALUE!"}}]
[null,null,"FCFE descontado acumulado VR",null,{"$f":"+D80+E79","v":{"$error":"#VALUE!"}},{"$f":"+E80+F79","v":{"$error":"#VALUE!"}},{"$f":"+F80+G79","v":{"$error":"#VALUE!"}},{"$f":"+G80+H79","v":{"$error":"#VALUE!"}},{"$f":"+H80+I79","v":{"$error":"#VALUE!"}},{"$error":"#VALUE!"}]
[null,null,"FCFE descontado",null,{"$f":"+E76*E77","v":{"$error":"#VALUE!"}},{"$error":"#VALUE!"},{"$error":"#VALUE!"},{"$error":"#VALUE!"},{"$error":"#VALUE!"},{"$error":"#VALUE!"}]
[null,null,"FCFE descontado acumulado",null,{"$f":"+D82+E81","v":{"$error":"#VALUE!"}},{"$f":"+E82+F81","v":{"$error":"#VALUE!"}},{"$error":"#VALUE!"},{"$error":"#VALUE!"},{"$error":"#VALUE!"},{"$error":"#VALUE!"}]
[null,null,null,null,{"$f":"+IF(E80<0,\"n/a\",ABS(D80)/E79)","v":{"$error":"#VALUE!"}},{"$error":"#VALUE!"},{"$error":"#VALUE!"},{"$error":"#VALUE!"},{"$error":"#VALUE!"},{"$error":"#VALUE!"}]
[null,null,"ANÁLISE DE VIABILIDADE",null,"C/ Valor Residual","c/ Perpetuidade"]
[null,null,"VAL",null,{"$f":"+SUM(E79:J79)","v":{"$error":"#VALUE!"}},{"$f":"+SUM(E81:J81)","v":{"$error":"#VALUE!"}}]
[null,null,"TIR",null,{"$f":"IRR(E74:J74)","v":{"$error":"#VALUE!"}},{"$f":"+IRR(E76:J76)","v":{"$error":"#VALUE!"}}]
[null,null,"Payback",null,{"$f":"+COUNTIF(E80:J80,\"<0\")+INDEX(E83:J83,,COUNTIF(E80:J80,\"<0\")+1)","v":{"$error":"#VALUE!"}},{"$f":"+COUNTIF(E82:J82,\"<0\")+INDEX(E78:J78,,COUNTIF(E82:J82,\"<0\")+1)","v":{"$error":"#VALUE!"}},"anos"]
[]
[null,null,"Valor Residual",null,{"$f":"+J73","v":{"$error":"#VALUE!"}},"Nota: CAPEX +FM no último ano de investimento"]
[null,null,"Valor da perpetuidade",null,{"$f":"+J75","v":{"$error":"#VALUE!"}}]
[]
[null,null,"Cálculo do WACC"]
[null,null,"Dívida Financeira Líquida",null,{"$f":"+'2. Balanço'!E40+'2. Balanço'!E48-'2. Balanço'!E28","v":{"$error":"#VALUE!"}},{"$f":"+'2. Balanço'!F40+'2. Balanço'!F48-'2. Balanço'!F28","v":{"$error":"#VALUE!"}},{"$f":"+'2. Balanço'!G40+'2. Balanço'!G48-'2. Balanço'!G28","v":{"$error":"#VALUE!"}},{"$f":"+'2. Balanço'!H40+'2. Balanço'!H48-'2. Balanço'!H28","v":{"$error":"#VALUE!"}},{"$f":"+'2. Balanço'!I40+'2. Balanço'!I48-'2. Balanço'!I28","v":{"$error":"#VALUE!"}},{"$f":"+'2. Balanço'!J40+'2. Balanço'!J48-'2. Balanço'!J28","v":{"$error":"#VALUE!"}}]
[null,null,"Capital Próprio",null,{"$f":"+'2. Balanço'!E30","v":50000},{"$f":"+'2. Balanço'!F30","v":{"$error":"#VALUE!"}},{"$f":"+'2. Balanço'!G30","v":{"$error":"#VALUE!"}},{"$f":"+'2. Balanço'!H30","v":{"$error":"#VALUE!"}},{"$f":"+'2. Balanço'!I30","v":{"$error":"#VALUE!"}},{"$f":"+'2. Balanço'!J30","v":{"$error":"#VALUE!"}}]
[null,null,"TOTAL",null,{"$f":"+E93+E94","v":{"$error":"#VALUE!"}},{"$f":"+F93+F94","v":{"$error":"#VALUE!"}},{"$error":"#VALUE!"},{"$error":"#VALUE!"},{"$error":"#VALUE!"},{"$f":"+J93+J94","v":{"$error":"#VALUE!"}}]
[null,null,"% Dívida Financeira Líquida",null,{"$f":"+(E93/E95)","v":{"$error":"#VALUE!"}},{"$f":"+(F93/F95)","v":{"$error":"#VALUE!"}},{"$error":"#VALUE!"},{"$error":"#VALUE!"},{"$error":"#VALUE!"},{"$f":"+(J93/J95)","v":{"$error":"#VALUE!"}}]
[null,null,"% Capital Próprio",null,{"$f":"+E94/E95","v":{"$error":"#VALUE!"}},{"$f":"+F94/F95","v":{"$error":"#VALUE!"}},{"$error":"#VALUE!"},{"$error":"#VALUE!"},{"$error":"#VALUE!"},{"$f":"+J94/J95","v":{"$error":"#VALUE!"}}]
[]
[null,null,"Beta p = Bu * (1+(1-t)*CA/CP)",null,{"$f":"+Pressupostos!$D$297*(1+(Pressupostos!$D$18))*'3. Avaliação Financeira'!E93/'3. Avaliação Financeira'!E94","v":{"$error":"#VALUE!"}},{"$f":"+Pressupostos!$D$297*(1+(Pressupostos!$D$18))*'3. Avaliação Financeira'!F93/'3. Avaliação Financeira'!F94","v":{"$error":"#VALUE!"}},{"$f":"+Pressupostos!$D$297*(1+(Pressupostos!$D$18))*'3. Avaliação Financeira'!G93/'3. Avaliação Financeira'!G94","v":{"$error":"#VALUE!"}},{"$f":"+Pressupostos!$D$297*(1+(Pressupostos!$D$18))*'3. Avaliação Financeira'!H93/'3. Avaliação Financeira'!H94","v":{"$error":"#VALUE!"}},{"$f":"+Pressupostos!$D$297*(1+(Pressupostos!$D$18))*'3. Avaliação Financeira'!I93/'3. Avaliação Financeira'!I94","v":{"$error":"#VALUE!"}},{"$f":"+Pressupostos!$D$297*(1+(Pressupostos!$D$18))*'3. Avaliação Financeira'!J93/'3. Avaliação Financeira'!J94","v":{"$error":"#VALUE!"}}]
[null,null,"Custo do capital",null,"Considera-se Bu = Bu ano inicial, não influenciado por oscilações sucessivas da estrutura de capital"]
[null,null,"Custo Financiamento",null,{"$f":"+Pressupostos!D301","v":0},{"$f":"+Pressupostos!$D$301","v":0},{"$f":"+Pressupostos!$D$301","v":0},{"$f":"+Pressupostos!$D$301","v":0},{"$f":"+Pressupostos!$D$301","v":0},{"$f":"+Pressupostos!$D$301","v":0}]
[null,null,"Custo Financiamento com Efeito Fiscal",null,{"$f":"+Pressupostos!D300","v":0},{"$f":"+F101*(1-Pressupostos!$D$18)","v":0},{"$f":"+G101*(1-Pressupostos!$D$18)","v":0},{"$f":"+H101*(1-Pressupostos!$D$18)","v":0},{"$f":"+I101*(1-Pressupostos!$D$18)","v":0},{"$f":"+J101*(1-Pressupostos!$D$18)","v":0}]
[null,null,"Custo Capital  Rcp = Rf+Bu*(Rm-Rf)  ",null,{"$f":"+Pressupostos!D295","v":0.04},{"$f":"+Pressupostos!$D$296*(1+Pressupostos!H36)+(Pressupostos!$D$297*Pressupostos!$D$298)","v":4.505E-2},{"$f":"+Pressupostos!$D$296*(1+Pressupostos!I36)+(Pressupostos!$D$297*Pressupostos!$D$298)","v":4.4999999999999998E-2},{"$f":"+Pressupostos!$D$296*(1+Pressupostos!J36)+(Pressupostos!$D$297*Pressupostos!$D$298)","v":4.4999999999999998E-2},{"$f":"+Pressupostos!$D$296*(1+Pressupostos!K36)+(Pressupostos!$D$297*Pressupostos!$D$298)","v":4.4999999999999998E-2},{"$f":"+Pressupostos!$D$296*(1+Pressupostos!L36)+(Pressupostos!$D$297*Pressupostos!$D$298)","v":4.4999999999999998E-2}]
[null,null,"Custo Médio Ponderado do Capital (WACC)",null,{"$f":"+(E103*E97)+(E102*E96)","v":{"$error":"#VALUE!"}},{"$f":"+F103*F97+F102*F96","v":{"$error":"#VALUE!"}},{"$error":"#VALUE!"},{"$error":"#VALUE!"},{"$error":"#VALUE!"},{"$error":"#VALUE!"}]
[]
[]
[]
[null,null,"Cofinanciado por:"]

{"sheet":"4. Rácios Financeiros","index":6,"n_rows":75,"n_cols":12,"rows_kept":75,"cut":false,"hidden":false,"merged":[[54,10,71,11]]}
[]
[null,null,"4. Rácios Financeiros"]
[]
[null,null,{"$f":"+Capa!C13","v":"<Nome do Projeto>"},null,{"$f":"+AnoN","v":0},{"$f":"+E4+1","v":1},{"$f":"+F4+1","v":2},3,4,5,"Fórmula de Cálculo","Guia para leitura"]
[]
[null,null,"A. Avaliação do projeto/investimento"]
[]
[]
[null,null,"1. Pós Financiamento",null,"Considera \nValor Residual","Considera \nPrepetuidade",null,null,null,null,"O método dos FCFF, na ótica do investimento pós-financiamento  incorpora os efeitos do capital alheio refletidos na taxa de utilização.\nTaxa de atualização  = wacc (custo médio ponderado do capital) = Rcp*CP /(CP+CA)+ Rca*(1-ti)*CA/ (CP+CA)\ncom Rcp = re = Rf + Bu*(Rm-Rf) e Rca - taxa de juro efetiva do capital alheio."]
[null,null,"VAL (Valor atualizado Liquido)",null,{"$f":"+'3. Avaliação Financeira'!E27","v":{"$error":"#VALUE!"}},{"$f":"+'3. Avaliação Financeira'!F27","v":{"$error":"#VALUE!"}},null,null,null,null,null,"Soma de todas as \"entradas\" e saídas e dinheiro durante a vida útil do projeto atualizado ao momento presente"]
[null,null,"TIR (Taxa Interna Rentabilidade)",null,{"$f":"+'3. Avaliação Financeira'!E28","v":{"$error":"#VALUE!"}},{"$f":"+'3. Avaliação Financeira'!F28","v":{"$error":"#VALUE!"}},null,null,null,null,null,"Taxa Interna de Retorno de um empreendimento, é uma medida relativa – expressa em percentual – que demonstra o quanto rende um projeto de investimento, considerando a mesma periodicidade dos fluxos de caixa do projeto. "]
[null,null,"Payback (Período de Recuperação de Capital)",null,{"$f":"+'3. Avaliação Financeira'!E29","v":{"$error":"#VALUE!"}},{"$f":"+'3. Avaliação Financeira'!F29","v":{"$error":"#VALUE!"}},"anos",null,null,null,null,"A partir de quando o projeto/investimento começa a gerar valor"]
[null,null,"Valor Residual (VR)",null,{"$f":"+'3. Avaliação Financeira'!E31","v":{"$error":"#VALUE!"}},null,null,null,null,null,null,"A partir de quando o projeto/investimento começa a gerar valor"]
[null,null,"Valor da perpetuidade",null,{"$f":"+'3. Avaliação Financeira'!E32","v":{"$error":"#VALUE!"}},null,null,null,null,null,null,"A partir de quando o projeto/investimento começa a gerar valor"]
[]
[null,null,"2. Pré Financiamento",null,"Considera \nValor Residual","Considera \nPrepetuidade",null,null,null,null,"O método dos FCFF, na ótica do investimento ignora a forma de financiamento, o que considera 100% CP\nA taxa de atualização calculada no ano 0 é considerada constante para todos o períodos"]
[null,null,"VAL (Valor atualizado Liquido)",null,{"$f":"+'3. Avaliação Financeira'!E54","v":{"$error":"#VALUE!"}},{"$f":"+'3. Avaliação Financeira'!F54","v":{"$error":"#VALUE!"}},null,null,null,null,null,"Soma de todas as \"entradas\" e saídas e dinheiro durante a vida útil do projeto atualizado ao momento presente"]
[null,null,"TIR (Taxa Interna Rentabilidade)",null,{"$f":"+'3. Avaliação Financeira'!E55","v":{"$error":"#VALUE!"}},{"$f":"+'3. Avaliação Financeira'!F55","v":{"$error":"#VALUE!"}},null,null,null,null,null,"Taxa Interna de Retorno de um empreendimento, é uma medida relativa – expressa em percentual – que demonstra o quanto rende um projeto de investimento, considerando a mesma periodicidade dos fluxos de caixa do projeto. "]
[null,null,"Payback (Período de Recuperação de Capital)",null,{"$f":"+'3. Avaliação Financeira'!E56","v":{"$error":"#VALUE!"}},{"$f":"+'3. Avaliação Financeira'!F56","v":{"$error":"#VALUE!"}},"anos",null,null,null,null,"A partir de quando o projeto/investimento começa a gerar valor"]
[null,null,{"$f":"+'3. Avaliação Financeira'!C58","v":"Valor Residual (VR)"},null,{"$f":"+'3. Avaliação Financeira'!E58","v":{"$error":"#VALUE!"}},null,null,null,null,null,null,"A partir de quando o projeto/investimento começa a gerar valor"]
[null,null,{"$f":"+'3. Avaliação Financeira'!C59","v":"Valor da perpetuidade"},null,{"$f":"+'3. Avaliação Financeira'!E59","v":{"$error":"#VALUE!"}},null,null,null,null,null,null,"A partir de quando o projeto/investimento começa a gerar valor"]
[]
[null,null,"3. Investidor",null,"Considera \nValor Residual","Considera \nPrepetuidade",null,null,null,null,"Avaliação na  Ótica do Investidor (ou do Capital Próprio) (Free Cash Flow to Equity). No método de avaliação pelo desconto de fluxos de caixa líquido do acionista (FCFE - Free Cashflow to Equity), o objetivo é avaliar directamente o valor líquido e a remuneração do capital do investidor (ou do acionista da empresa). Os Cash Flows (FCFE) = Cash flows na ótica do Investimento + Cash Flows de financiamento em cada ano"]
[null,null,"VAL (Valor atualizado Liquido)",null,{"$f":"+'3. Avaliação Financeira'!E85","v":{"$error":"#VALUE!"}},{"$f":"+'3. Avaliação Financeira'!F85","v":{"$error":"#VALUE!"}},null,null,null,null,null,"Soma de todas as \"entradas\" e saídas e dinheiro durante a vida útil do projeto atualizado ao momento presente"]
[null,null,"TIR (Taxa Interna Rentabilidade)",null,{"$f":"+'3. Avaliação Financeira'!E86","v":{"$error":"#VALUE!"}},{"$f":"+'3. Avaliação Financeira'!F86","v":{"$error":"#VALUE!"}},null,null,null,null,null,"Taxa Interna de Retorno de um empreendimento, é uma medida relativa – expressa em percentual – que demonstra o quanto rende um projeto de investimento, considerando a mesma periodicidade dos fluxos de caixa do projeto. "]
[null,null,"Payback (Período de Recuperação de Capital)",null,{"$f":"+'3. Avaliação Financeira'!E87","v":{"$error":"#VALUE!"}},{"$f":"+'3. Avaliação Financeira'!F87","v":{"$error":"#VALUE!"}},"anos",null,null,null,null,"A partir de quando o projeto/investimento começa a gerar valor"]
[null,null,"Valor Residual (VR)",null,{"$f":"+'3. Avaliação Financeira'!E89","v":{"$error":"#VALUE!"}},null,null,null,null,null,null,"A partir de quando o projeto/investimento começa a gerar valor"]
[null,null,"Valor da perpetuidade",null,{"$f":"+'3. Avaliação Financeira'!E90","v":{"$error":"#VALUE!"}},null,null,null,null,null,null,"A partir de quando o projeto/investimento começa a gerar valor"]
[]
[null,null,"Ponto Crítico (Analisar o ano cruzeiro definido em \"Pressupostos\")",null,{"$f":"+E4","v":0},1,2,3,4,5,null,"Nota: Deve-se considerar o ano cruzeiro e realizar análise até esse ano)"]
[null,null,"Total custos Fixos e Variáveis",null,{"$f":"Pressupostos!G76+Pressupostos!G106+Pressupostos!G108+Pressupostos!G109+Pressupostos!G110+Pressupostos!G111+Pressupostos!G112+Pressupostos!G113+Pressupostos!G115+Pressupostos!G116+Pressupostos!G117+Pressupostos!G118+Pressupostos!G120+Pressupostos!G121+Pressupostos!G122+Pressupostos!G124+Pressupostos!G125+Pressupostos!G126+Pressupostos!G128+Pressupostos!G129+Pressupostos!G130+Pressupostos!G131+Pressupostos!G132+Pressupostos!G133+Pressupostos!G134+Pressupostos!G136+Pressupostos!G150+Pressupostos!G151+Pressupostos!G152+Pressupostos!G153+Pressupostos!G154+Pressupostos!G157+Pressupostos!G160+Pressupostos!G161+Pressupostos!G162+Pressupostos!G163+Pressupostos!G164+Pressupostos!G167+Pressupostos!G173+Pressupostos!G176+Pressupostos!G179","v":{"$error":"#VALUE!"}},{"$f":"Pressupostos!H76+Pressupostos!H106+Pressupostos!H108+Pressupostos!H109+Pressupostos!H110+Pressupostos!H111+Pressupostos!H112+Pressupostos!H113+Pressupostos!H115+Pressupostos!H116+Pressupostos!H117+Pressupostos!H118+Pressupostos!H120+Pressupostos!H121+Pressupostos!H122+Pressupostos!H124+Pressupostos!H125+Pressupostos!H126+Pressupostos!H128+Pressupostos!H129+Pressupostos!H130+Pressupostos!H131+Pressupostos!H132+Pressupostos!H133+Pressupostos!H134+Pressupostos!H136+Pressupostos!H150+Pressupostos!H151+Pressupostos!H152+Pressupostos!H153+Pressupostos!H154+Pressupostos!H157+Pressupostos!H160+Pressupostos!H161+Pressupostos!H162+Pressupostos!H163+Pressupostos!H164+Pressupostos!H167+Pressupostos!H173+Pressupostos!H176+Pressupostos!H179","v":{"$error":"#VALUE!"}},{"$f":"Pressupostos!I76+Pressupostos!I106+Pressupostos!I108+Pressupostos!I109+Pressupostos!I110+Pressupostos!I111+Pressupostos!I112+Pressupostos!I113+Pressupostos!I115+Pressupostos!I116+Pressupostos!I117+Pressupostos!I118+Pressupostos!I120+Pressupostos!I121+Pressupostos!I122+Pressupostos!I124+Pressupostos!I125+Pressupostos!I126+Pressupostos!I128+Pressupostos!I129+Pressupostos!I130+Pressupostos!I131+Pressupostos!I132+Pressupostos!I133+Pressupostos!I134+Pressupostos!I136+Pressupostos!I150+Pressupostos!I151+Pressupostos!I152+Pressupostos!I153+Pressupostos!I154+Pressupostos!I157+Pressupostos!I160+Pressupostos!I161+Pressupostos!I162+Pressupostos!I163+Pressupostos!I164+Pressupostos!I167+Pressupostos!I173+Pressupostos!I176+Pressupostos!I179","v":{"$error":"#VALUE!"}},{"$f":"Pressupostos!J76+Pressupostos!J106+Pressupostos!J108+Pressupostos!J109+Pressupostos!J110+Pressupostos!J111+Pressupostos!J112+Pressupostos!J113+Pressupostos!J115+Pressupostos!J116+Pressupostos!J117+Pressupostos!J118+Pressupostos!J120+Pressupostos!J121+Pressupostos!J122+Pressupostos!J124+Pressupostos!J125+Pressupostos!J126+Pressupostos!J128+Pressupostos!J129+Pressupostos!J130+Pressupostos!J131+Pressupostos!J132+Pressupostos!J133+Pressupostos!J134+Pressupostos!J136+Pressupostos!J150+Pressupostos!J151+Pressupostos!J152+Pressupostos!J153+Pressupostos!J154+Pressupostos!J157+Pressupostos!J160+Pressupostos!J161+Pressupostos!J162+Pressupostos!J163+Pressupostos!J164+Pressupostos!J167+Pressupostos!J173+Pressupostos!J176+Pressupostos!J179","v":{"$error":"#VALUE!"}},{"$f":"Pressupostos!K76+Pressupostos!K106+Pressupostos!K108+Pressupostos!K109+Pressupostos!K110+Pressupostos!K111+Pressupostos!K112+Pressupostos!K113+Pressupostos!K115+Pressupostos!K116+Pressupostos!K117+Pressupostos!K118+Pressupostos!K120+Pressupostos!K121+Pressupostos!K122+Pressupostos!K124+Pressupostos!K125+Pressupostos!K126+Pressupostos!K128+Pressupostos!K129+Pressupostos!K130+Pressupostos!K131+Pressupostos!K132+Pressupostos!K133+Pressupostos!K134+Pressupostos!K136+Pressupostos!K150+Pressupostos!K151+Pressupostos!K152+Pressupostos!K153+Pressupostos!K154+Pressupostos!K157+Pressupostos!K160+Pressupostos!K161+Pressupostos!K162+Pressupostos!K163+Pressupostos!K164+Pressupostos!K167+Pressupostos!K173+Pressupostos!K176+Pressupostos!K179","v":{"$error":"#VALUE!"}},{"$f":"Pressupostos!L76+Pressupostos!L106+Pressupostos!L108+Pressupostos!L109+Pressupostos!L110+Pressupostos!L111+Pressupostos!L112+Pressupostos!L113+Pressupostos!L115+Pressupostos!L116+Pressupostos!L117+Pressupostos!L118+Pressupostos!L120+Pressupostos!L121+Pressupostos!L122+Pressupostos!L124+Pressupostos!L125+Pressupostos!L126+Pressupostos!L128+Pressupostos!L129+Pressupostos!L130+Pressupostos!L131+Pressupostos!L132+Pressupostos!L133+Pressupostos!L134+Pressupostos!L136+Pressupostos!L150+Pressupostos!L151+Pressupostos!L152+Pressupostos!L153+Pressupostos!L154+Pressupostos!L157+Pressupostos!L160+Pressupostos!L161+Pressupostos!L162+Pressupostos!L163+Pressupostos!L164+Pressupostos!L167+Pressupostos!L173+Pressupostos!L176+Pressupostos!L179","v":{"$error":"#VALUE!"}}]
[null,null,"Total custos fixos",null,{"$f":"+Pressupostos!$E$106*Pressupostos!G106+Pressupostos!$E$108*Pressupostos!G108+Pressupostos!$E$109*Pressupostos!G109+Pressupostos!$E$110*Pressupostos!G110+Pressupostos!$E$111*Pressupostos!G111+Pressupostos!$E$112*Pressupostos!G112+Pressupostos!$E$113*Pressupostos!G113+Pressupostos!$E$115*Pressupostos!G115+Pressupostos!$E$116*Pressupostos!G116+Pressupostos!$E$117*Pressupostos!G117+Pressupostos!$E$118*Pressupostos!G118+Pressupostos!$E$120*Pressupostos!G120+Pressupostos!$E$121*Pressupostos!G121+Pressupostos!$E$122*Pressupostos!G122+Pressupostos!$E$124*Pressupostos!G124+Pressupostos!$E$125*Pressupostos!G125+Pressupostos!$E$126*Pressupostos!G126+Pressupostos!$E$128*Pressupostos!G128+Pressupostos!$E$129*Pressupostos!G129+Pressupostos!$E$130*Pressupostos!G130+Pressupostos!$E$131*Pressupostos!G131+Pressupostos!$E$132*Pressupostos!G132+Pressupostos!$E$133*Pressupostos!G133+Pressupostos!$E$134*Pressupostos!G134+Pressupostos!$E$136*Pressupostos!G136+Pressupostos!$E$150*Pressupostos!G150+Pressupostos!$E$151*Pressupostos!G151+Pressupostos!$E$152*Pressupostos!G152+Pressupostos!$E$153*Pressupostos!G153+Pressupostos!$E$154*Pressupostos!G154+Pressupostos!$E$157*Pressupostos!G157+Pressupostos!$E$160*Pressupostos!G160+Pressupostos!$E$161*Pressupostos!G161+Pressupostos!$E$162*Pressupostos!G162+Pressupostos!$E$163*Pressupostos!G163+Pressupostos!$E$164*Pressupostos!G164+Pressupostos!$E$167*Pressupostos!G167+Pressupostos!$E$174*Pressupostos!G173+Pressupostos!$E$177*Pressupostos!G176+Pressupostos!$E$179*Pressupostos!G179","v":{"$error":"#VALUE!"}},{"$f":"+Pressupostos!$E$106*Pressupostos!H106+Pressupostos!$E$108*Pressupostos!H108+Pressupostos!$E$109*Pressupostos!H109+Pressupostos!$E$110*Pressupostos!H110+Pressupostos!$E$111*Pressupostos!H111+Pressupostos!$E$112*Pressupostos!H112+Pressupostos!$E$113*Pressupostos!H113+Pressupostos!$E$115*Pressupostos!H115+Pressupostos!$E$116*Pressupostos!H116+Pressupostos!$E$117*Pressupostos!H117+Pressupostos!$E$118*Pressupostos!H118+Pressupostos!$E$120*Pressupostos!H120+Pressupostos!$E$121*Pressupostos!H121+Pressupostos!$E$122*Pressupostos!H122+Pressupostos!$E$124*Pressupostos!H124+Pressupostos!$E$125*Pressupostos!H125+Pressupostos!$E$126*Pressupostos!H126+Pressupostos!$E$128*Pressupostos!H128+Pressupostos!$E$129*Pressupostos!H129+Pressupostos!$E$130*Pressupostos!H130+Pressupostos!$E$131*Pressupostos!H131+Pressupostos!$E$132*Pressupostos!H132+Pressupostos!$E$133*Pressupostos!H133+Pressupostos!$E$134*Pressupostos!H134+Pressupostos!$E$136*Pressupostos!H136+Pressupostos!$E$150*Pressupostos!H150+Pressupostos!$E$151*Pressupostos!H151+Pressupostos!$E$152*Pressupostos!H152+Pressupostos!$E$153*Pressupostos!H153+Pressupostos!$E$154*Pressupostos!H154+Pressupostos!$E$157*Pressupostos!H157+Pressupostos!$E$160*Pressupostos!H160+Pressupostos!$E$161*Pressupostos!H161+Pressupostos!$E$162*Pressupostos!H162+Pressupostos!$E$163*Pressupostos!H163+Pressupostos!$E$164*Pressupostos!H164+Pressupostos!$E$167*Pressupostos!H167+Pressupostos!$E$174*Pressupostos!H173+Pressupostos!$E$177*Pressupostos!H176+Pressupostos!$E$179*Pressupostos!H179","v":{"$error":"#VALUE!"}},{"$f":"+Pressupostos!$E$106*Pressupostos!I106+Pressupostos!$E$108*Pressupostos!I108+Pressupostos!$E$109*Pressupostos!I109+Pressupostos!$E$110*Pressupostos!I110+Pressupostos!$E$111*Pressupostos!I111+Pressupostos!$E$112*Pressupostos!I112+Pressupostos!$E$113*Pressupostos!I113+Pressupostos!$E$115*Pressupostos!I115+Pressupostos!$E$116*Pressupostos!I116+Pressupostos!$E$117*Pressupostos!I117+Pressupostos!$E$118*Pressupostos!I118+Pressupostos!$E$120*Pressupostos!I120+Pressupostos!$E$121*Pressupostos!I121+Pressupostos!$E$122*Pressupostos!I122+Pressupostos!$E$124*Pressupostos!I124+Pressupostos!$E$125*Pressupostos!I125+Pressupostos!$E$126*Pressupostos!I126+Pressupostos!$E$128*Pressupostos!I128+Pressupostos!$E$129*Pressupostos!I129+Pressupostos!$E$130*Pressupostos!I130+Pressupostos!$E$131*Pressupostos!I131+Pressupostos!$E$132*Pressupostos!I132+Pressupostos!$E$133*Pressupostos!I133+Pressupostos!$E$134*Pressupostos!I134+Pressupostos!$E$136*Pressupostos!I136+Pressupostos!$E$150*Pressupostos!I150+Pressupostos!$E$151*Pressupostos!I151+Pressupostos!$E$152*Pressupostos!I152+Pressupostos!$E$153*Pressupostos!I153+Pressupostos!$E$154*Pressupostos!I154+Pressupostos!$E$157*Pressupostos!I157+Pressupostos!$E$160*Pressupostos!I160+Pressupostos!$E$161*Pressupostos!I161+Pressupostos!$E$162*Pressupostos!I162+Pressupostos!$E$163*Pressupostos!I163+Pressupostos!$E$164*Pressupostos!I164+Pressupostos!$E$167*Pressupostos!I167+Pressupostos!$E$174*Pressupostos!I173+Pressupostos!$E$177*Pressupostos!I176+Pressupostos!$E$179*Pressupostos!I179","v":{"$error":"#VALUE!"}},{"$f":"+Pressupostos!$E$106*Pressupostos!J106+Pressupostos!$E$108*Pressupostos!J108+Pressupostos!$E$109*Pressupostos!J109+Pressupostos!$E$110*Pressupostos!J110+Pressupostos!$E$111*Pressupostos!J111+Pressupostos!$E$112*Pressupostos!J112+Pressupostos!$E$113*Pressupostos!J113+Pressupostos!$E$115*Pressupostos!J115+Pressupostos!$E$116*Pressupostos!J116+Pressupostos!$E$117*Pressupostos!J117+Pressupostos!$E$118*Pressupostos!J118+Pressupostos!$E$120*Pressupostos!J120+Pressupostos!$E$121*Pressupostos!J121+Pressupostos!$E$122*Pressupostos!J122+Pressupostos!$E$124*Pressupostos!J124+Pressupostos!$E$125*Pressupostos!J125+Pressupostos!$E$126*Pressupostos!J126+Pressupostos!$E$128*Pressupostos!J128+Pressupostos!$E$129*Pressupostos!J129+Pressupostos!$E$130*Pressupostos!J130+Pressupostos!$E$131*Pressupostos!J131+Pressupostos!$E$132*Pressupostos!J132+Pressupostos!$E$133*Pressupostos!J133+Pressupostos!$E$134*Pressupostos!J134+Pressupostos!$E$136*Pressupostos!J136+Pressupostos!$E$150*Pressupostos!J150+Pressupostos!$E$151*Pressupostos!J151+Pressupostos!$E$152*Pressupostos!J152+Pressupostos!$E$153*Pressupostos!J153+Pressupostos!$E$154*Pressupostos!J154+Pressupostos!$E$157*Pressupostos!J157+Pressupostos!$E$160*Pressupostos!J160+Pressupostos!$E$161*Pressupostos!J161+Pressupostos!$E$162*Pressupostos!J162+Pressupostos!$E$163*Pressupostos!J163+Pressupostos!$E$164*Pressupostos!J164+Pressupostos!$E$167*Pressupostos!J167+Pressupostos!$E$174*Pressupostos!J173+Pressupostos!$E$177*Pressupostos!J176+Pressupostos!$E$179*Pressupostos!J179","v":{"$error":"#VALUE!"}},{"$f":"+Pressupostos!$E$106*Pressupostos!K106+Pressupostos!$E$108*Pressupostos!K108+Pressupostos!$E$109*Pressupostos!K109+Pressupostos!$E$110*Pressupostos!K110+Pressupostos!$E$111*Pressupostos!K111+Pressupostos!$E$112*Pressupostos!K112+Pressupostos!$E$113*Pressupostos!K113+Pressupostos!$E$115*Pressupostos!K115+Pressupostos!$E$116*Pressupostos!K116+Pressupostos!$E$117*Pressupostos!K117+Pressupostos!$E$118*Pressupostos!K118+Pressupostos!$E$120*Pressupostos!K120+Pressupostos!$E$121*Pressupostos!K121+Pressupostos!$E$122*Pressupostos!K122+Pressupostos!$E$124*Pressupostos!K124+Pressupostos!$E$125*Pressupostos!K125+Pressupostos!$E$126*Pressupostos!K126+Pressupostos!$E$128*Pressupostos!K128+Pressupostos!$E$129*Pressupostos!K129+Pressupostos!$E$130*Pressupostos!K130+Pressupostos!$E$131*Pressupostos!K131+Pressupostos!$E$132*Pressupostos!K132+Pressupostos!$E$133*Pressupostos!K133+Pressupostos!$E$134*Pressupostos!K134+Pressupostos!$E$136*Pressupostos!K136+Pressupostos!$E$150*Pressupostos!K150+Pressupostos!$E$151*Pressupostos!K151+Pressupostos!$E$152*Pressupostos!K152+Pressupostos!$E$153*Pressupostos!K153+Pressupostos!$E$154*Pressupostos!K154+Pressupostos!$E$157*Pressupostos!K157+Pressupostos!$E$160*Pressupostos!K160+Pressupostos!$E$161*Pressupostos!K161+Pressupostos!$E$162*Pressupostos!K162+Pressupostos!$E$163*Pressupostos!K163+Pressupostos!$E$164*Pressupostos!K164+Pressupostos!$E$167*Pressupostos!K167+Pressupostos!$E$174*Pressupostos!K173+Pressupostos!$E$177*Pressupostos!K176+Pressupostos!$E$179*Pressupostos!K179","v":{"$error":"#VALUE!"}},{"$f":"+Pressupostos!$E$106*Pressupostos!L106+Pressupostos!$E$108*Pressupostos!L108+Pressupostos!$E$109*Pressupostos!L109+Pressupostos!$E$110*Pressupostos!L110+Pressupostos!$E$111*Pressupostos!L111+Pressupostos!$E$112*Pressupostos!L112+Pressupostos!$E$113*Pressupostos!L113+Pressupostos!$E$115*Pressupostos!L115+Pressupostos!$E$116*Pressupostos!L116+Pressupostos!$E$117*Pressupostos!L117+Pressupostos!$E$118*Pressupostos!L118+Pressupostos!$E$120*Pressupostos!L120+Pressupostos!$E$121*Pressupostos!L121+Pressupostos!$E$122*Pressupostos!L122+Pressupostos!$E$124*Pressupostos!L124+Pressupostos!$E$125*Pressupostos!L125+Pressupostos!$E$126*Pressupostos!L126+Pressupostos!$E$128*Pressupostos!L128+Pressupostos!$E$129*Pressupostos!L129+Pressupostos!$E$130*Pressupostos!L130+Pressupostos!$E$131*Pressupostos!L131+Pressupostos!$E$132*Pressupostos!L132+Pressupostos!$E$133*Pressupostos!L133+Pressupostos!$E$134*Pressupostos!L134+Pressupostos!$E$136*Pressupostos!L136+Pressupostos!$E$150*Pressupostos!L150+Pressupostos!$E$151*Pressupostos!L151+Pressupostos!$E$152*Pressupostos!L152+Pressupostos!$E$153*Pressupostos!L153+Pressupostos!$E$154*Pressupostos!L154+Pressupostos!$E$157*Pressupostos!L157+Pressupostos!$E$160*Pressupostos!L160+Pressupostos!$E$161*Pressupostos!L161+Pressupostos!$E$162*Pressupostos!L162+Pressupostos!$E$163*Pressupostos!L163+Pressupostos!$E$164*Pressupostos!L164+Pressupostos!$E$167*Pressupostos!L167+Pressupostos!$E$174*Pressupostos!L173+Pressupostos!$E$177*Pressupostos!L176+Pressupostos!$E$179*Pressupostos!L179","v":{"$error":"#VALUE!"}}]
[null,null,"Total custos variáveis",null,{"$f":"+E31-E32","v":{"$error":"#VALUE!"}},{"$f":"+F31-F32","v":{"$error":"#VALUE!"}},{"$f":"+G31-G32","v":{"$error":"#VALUE!"}},{"$f":"+H31-H32","v":{"$error":"#VALUE!"}},{"$f":"+I31-I32","v":{"$error":"#VALUE!"}},{"$f":"+J31-J32","v":{"$error":"#VALUE!"}}]
[null,null,"Vendas anuais",null,{"$f":"+Pressupostos!G44","v":0},{"$f":"+Pressupostos!H44","v":0},{"$f":"+Pressupostos!I44","v":0},{"$f":"+Pressupostos!J44","v":0},{"$f":"+Pressupostos!K44","v":0},{"$f":"+Pressupostos!L44","v":0}]
[null,null,"Ponto Crítico de Vendas (valor)",null,{"$f":"+E32/(1-E33/E34)","v":{"$error":"#VALUE!"}},{"$f":"+F32/(1-F33/F34)","v":{"$error":"#VALUE!"}},{"$f":"+G32/(1-G33/G34)","v":{"$error":"#VALUE!"}},{"$f":"+H32/(1-H33/H34)","v":{"$error":"#VALUE!"}},{"$f":"+I32/(1-I33/I34)","v":{"$error":"#VALUE!"}},{"$f":"+J32/(1-J33/J34)","v":{"$error":"#VALUE!"}}]
[null,null,"Margem de segurança (valor)",null,{"$f":"+E34-E35","v":{"$error":"#VALUE!"}},{"$f":"+F34-F35","v":{"$error":"#VALUE!"}},{"$f":"+G34-G35","v":{"$error":"#VALUE!"}},{"$f":"+H34-H35","v":{"$error":"#VALUE!"}},{"$f":"+I34-I35","v":{"$error":"#VALUE!"}},{"$f":"+J34-J35","v":{"$error":"#VALUE!"}}]
[]
[null,null,"Rácios Financeiros"]
[null,null,"Rentabilidade do Negócio"]
[null,null,"Margem Operacional",null,{"$f":"IF(E69<0,\"\",IF(E68<0,\"\",+E69/E68))","v":{"$error":"#VALUE!"}},{"$error":"#VALUE!"},{"$error":"#VALUE!"},{"$error":"#VALUE!"},{"$error":"#VALUE!"},{"$error":"#VALUE!"},"EBITDA/Vendas e Serviços prestados","Rentabilidade Operacional das Vendas"]
[null,null,"Margem líquida",null,{"$f":"IF(E72<0,\"\",IF(E68<0,\"\",+E72/E68))","v":{"$error":"#VALUE!"}},{"$error":"#VALUE!"},{"$error":"#VALUE!"},{"$error":"#VALUE!"},{"$error":"#VALUE!"},{"$error":"#VALUE!"},"RL/Vendas e Serviços prestados","Rentabilidade liquida de Vendas"]
[null,null,"Rentabilidade do Ativo",null,{"$f":"+IF(E72<0,\"\",+E72/SUM(E58:E59))","v":{"$error":"#VALUE!"}},{"$error":"#VALUE!"},{"$error":"#VALUE!"},{"$error":"#VALUE!"},{"$error":"#VALUE!"},{"$error":"#VALUE!"},"RL/Ativo"]
[null,null,"Atividade operacional"]
[null,null,"Turnover do ativo",null,{"$f":"+IF(E68<0,\"\",E68/SUM(E58:E59))","v":{"$error":"#VALUE!"}},{"$error":"#VALUE!"},{"$error":"#VALUE!"},{"$error":"#VALUE!"},{"$error":"#VALUE!"},{"$error":"#VALUE!"},"Vendas e Serviços prestados/Ativo"]
[null,null,"Retorno"]
[null,null,"ROIC (Rentabilidade do Capital Investido)",null,{"$f":"+IF('1.Demonstração de Resultados'!E24<0,\"\",(+'1.Demonstração de Resultados'!E28+'1.Demonstração de Resultados'!E24)/SUM(E58:E59))","v":{"$error":"#VALUE!"}},{"$f":"+IF('1.Demonstração de Resultados'!F24<0,\"\",(+'1.Demonstração de Resultados'!F28+'1.Demonstração de Resultados'!F24)/SUM(F58:F59))","v":{"$error":"#VALUE!"}},{"$f":"+IF('1.Demonstração de Resultados'!G24<0,\"\",(+'1.Demonstração de Resultados'!G28+'1.Demonstração de Resultados'!G24)/SUM(G58:G59))","v":{"$error":"#VALUE!"}},{"$f":"+IF('1.Demonstração de Resultados'!H24<0,\"\",(+'1.Demonstração de Resultados'!H28+'1.Demonstração de Resultados'!H24)/SUM(H58:H59))","v":{"$error":"#VALUE!"}},{"$f":"+IF('1.Demonstração de Resultados'!I24<0,\"\",(+'1.Demonstração de Resultados'!I28+'1.Demonstração de Resultados'!I24)/SUM(I58:I59))","v":{"$error":"#VALUE!"}},{"$f":"+IF('1.Demonstração de Resultados'!J24<0,\"\",(+'1.Demonstração de Resultados'!J28+'1.Demonstração de Resultados'!J24)/SUM(J58:J59))","v":{"$error":"#VALUE!"}},"(EBIT-imposto)/Ativo","Quão eficiente é a empresa a geral valor"]
[null,null,"ROE (Rentabilidade do Capital Próprio)",null,{"$f":"+IF(E72<0,\"\",IF(E63<0,\"\",E72/E63))","v":{"$error":"#VALUE!"}},{"$error":"#VALUE!"},{"$error":"#VALUE!"},{"$error":"#VALUE!"},{"$error":"#VALUE!"},{"$error":"#VALUE!"},"RL/Capital Próprio","Valor gerado pelos \"recursos\" dos accionistas"]
[null,null,"Liquidez"]
[null,null,"Liquidez geral",null,{"$f":"+E59/E65","v":{"$error":"#VALUE!"}},{"$error":"#VALUE!"},{"$error":"#VALUE!"},{"$error":"#VALUE!"},{"$error":"#VALUE!"},{"$error":"#VALUE!"},"Ativo Corrente/Passivo Corrente"]
[null,null,"Financeiros"]
[null,null,"Autonomia Financeira",null,{"$f":"+IF(E63<0,\"\",E63/SUM(E58:E59))","v":{"$error":"#VALUE!"}},{"$error":"#VALUE!"},{"$error":"#VALUE!"},{"$error":"#VALUE!"},{"$error":"#VALUE!"},{"$error":"#VALUE!"},"CP/Ativo"]
[null,null,"Endividamento",null,{"$f":"+SUM(E64:E65)/SUM(E58:E59)","v":{"$error":"#VALUE!"}},{"$error":"#VALUE!"},{"$error":"#VALUE!"},{"$error":"#VALUE!"},{"$error":"#VALUE!"},{"$error":"#VALUE!"},"Passivo/Ativo"]
[null,null,"Solvabilidade",null,{"$f":"SUM(E58:E59)/SUM(E64:E65)","v":{"$error":"#VALUE!"}},{"$error":"#VALUE!"},{"$error":"#VALUE!"},{"$error":"#VALUE!"},{"$error":"#VALUE!"},{"$error":"#VALUE!"},"Ativo/Passivo"]
[]
[null,null,"C. Balanço e Demontração de Resultados",null,null,null,null,null,null,null,"O que está isto aqui a fazer? Se isto é um a folha de rácios Financeiros ( e também podia conter rácios económicos) não vejo razão para misturar dados que já estão em mapas especificos. Também não me parece necessário usar funções do tipo PROCV ou PROCH porque dificultam imenso o exercicio de detecção de erros, ou de analise de uma situação passo-a-passo.\n\nTL: Esta folha é um resumo dos dados/valores chave de uma análise económica. Mas caso entendam que estes dados sejam retirados, retira-se desta folha.\nAs fórmulas VLOOKUP são precisamente para não existerem erros de recolha de dados, umas vez que as células são dinâmicas, não podemos correr esse risco. Também, a única folha em que será permitida a edição de dados é na A.Pressupostos, todas as restantes estarão trancadas."]
[]
[null,null,"Balanço"]
[null,null,"Ativo não corrente",null,{"$f":"+VLOOKUP($C58,'2. Balanço'!$C$7:$J$55,HLOOKUP('4. Rácios Financeiros'!E$4,'2. Balanço'!$E$4:$J$5,2,0),0)","v":0},{"$f":"+VLOOKUP($C58,'2. Balanço'!$C$7:$J$55,HLOOKUP('4. Rácios Financeiros'!F$4,'2. Balanço'!$E$4:$J$5,2,0),0)","v":0},{"$f":"+VLOOKUP($C58,'2. Balanço'!$C$7:$J$55,HLOOKUP('4. Rácios Financeiros'!G$4,'2. Balanço'!$E$4:$J$5,2,0),0)","v":0},{"$f":"+VLOOKUP($C58,'2. Balanço'!$C$7:$J$55,HLOOKUP('4. Rácios Financeiros'!H$4,'2. Balanço'!$E$4:$J$5,2,0),0)","v":0},{"$f":"+VLOOKUP($C58,'2. Balanço'!$C$7:$J$55,HLOOKUP('4. Rácios Financeiros'!I$4,'2. Balanço'!$E$4:$J$5,2,0),0)","v":0},{"$f":"+VLOOKUP($C58,'2. Balanço'!$C$7:$J$55,HLOOKUP('4. Rácios Financeiros'!J$4,'2. Balanço'!$E$4:$J$5,2,0),0)","v":0}]
[null,null,"Ativo corrente",null,{"$f":"+VLOOKUP($C59,'2. Balanço'!$C$7:$J$55,HLOOKUP('4. Rácios Financeiros'!E$4,'2. Balanço'!$E$4:$J$5,2,0),0)","v":{"$error":"#VALUE!"}},{"$f":"+VLOOKUP($C59,'2. Balanço'!$C$7:$J$55,HLOOKUP('4. Rácios Financeiros'!F$4,'2. Balanço'!$E$4:$J$5,2,0),0)","v":{"$error":"#VALUE!"}},{"$f":"+VLOOKUP($C59,'2. Balanço'!$C$7:$J$55,HLOOKUP('4. Rácios Financeiros'!G$4,'2. Balanço'!$E$4:$J$5,2,0),0)","v":{"$error":"#VALUE!"}},{"$f":"+VLOOKUP($C59,'2. Balanço'!$C$7:$J$55,HLOOKUP('4. Rácios Financeiros'!H$4,'2. Balanço'!$E$4:$J$5,2,0),0)","v":{"$error":"#VALUE!"}},{"$f":"+VLOOKUP($C59,'2. Balanço'!$C$7:$J$55,HLOOKUP('4. Rácios Financeiros'!I$4,'2. Balanço'!$E$4:$J$5,2,0),0)","v":{"$error":"#VALUE!"}},{"$f":"+VLOOKUP($C59,'2. Balanço'!$C$7:$J$55,HLOOKUP('4. Rácios Financeiros'!J$4,'2. Balanço'!$E$4:$J$5,2,0),0)","v":{"$error":"#VALUE!"}}]
[null,null,"Inventários",null,{"$f":"+VLOOKUP($C60,'2. Balanço'!$C$7:$J$55,HLOOKUP('4. Rácios Financeiros'!E$4,'2. Balanço'!$E$4:$J$5,2,0),0)","v":0},{"$f":"+VLOOKUP($C60,'2. Balanço'!$C$7:$J$55,HLOOKUP('4. Rácios Financeiros'!F$4,'2. Balanço'!$E$4:$J$5,2,0),0)","v":0},{"$f":"+VLOOKUP($C60,'2. Balanço'!$C$7:$J$55,HLOOKUP('4. Rácios Financeiros'!G$4,'2. Balanço'!$E$4:$J$5,2,0),0)","v":0},{"$f":"+VLOOKUP($C60,'2. Balanço'!$C$7:$J$55,HLOOKUP('4. Rácios Financeiros'!H$4,'2. Balanço'!$E$4:$J$5,2,0),0)","v":0},{"$f":"+VLOOKUP($C60,'2. Balanço'!$C$7:$J$55,HLOOKUP('4. Rácios Financeiros'!I$4,'2. Balanço'!$E$4:$J$5,2,0),0)","v":0},{"$f":"+VLOOKUP($C60,'2. Balanço'!$C$7:$J$55,HLOOKUP('4. Rácios Financeiros'!J$4,'2. Balanço'!$E$4:$J$5,2,0),0)","v":0}]
[null,null,"Clientes",null,{"$f":"+VLOOKUP($C61,'2. Balanço'!$C$7:$J$55,HLOOKUP('4. Rácios Financeiros'!E$4,'2. Balanço'!$E$4:$J$5,2,0),0)","v":0},{"$f":"+VLOOKUP($C61,'2. Balanço'!$C$7:$J$55,HLOOKUP('4. Rácios Financeiros'!F$4,'2. Balanço'!$E$4:$J$5,2,0),0)","v":0},{"$f":"+VLOOKUP($C61,'2. Balanço'!$C$7:$J$55,HLOOKUP('4. Rácios Financeiros'!G$4,'2. Balanço'!$E$4:$J$5,2,0),0)","v":0},{"$f":"+VLOOKUP($C61,'2. Balanço'!$C$7:$J$55,HLOOKUP('4. Rácios Financeiros'!H$4,'2. Balanço'!$E$4:$J$5,2,0),0)","v":0},{"$f":"+VLOOKUP($C61,'2. Balanço'!$C$7:$J$55,HLOOKUP('4. Rácios Financeiros'!I$4,'2. Balanço'!$E$4:$J$5,2,0),0)","v":0},{"$f":"+VLOOKUP($C61,'2. Balanço'!$C$7:$J$55,HLOOKUP('4. Rácios Financeiros'!J$4,'2. Balanço'!$E$4:$J$5,2,0),0)","v":0}]
[null,null,"Caixa e depósitos bancários",null,{"$f":"+VLOOKUP($C62,'2. Balanço'!$C$7:$J$55,HLOOKUP('4. Rácios Financeiros'!E$4,'2. Balanço'!$E$4:$J$5,2,0),0)","v":{"$error":"#VALUE!"}},{"$f":"+VLOOKUP($C62,'2. Balanço'!$C$7:$J$55,HLOOKUP('4. Rácios Financeiros'!F$4,'2. Balanço'!$E$4:$J$5,2,0),0)","v":{"$error":"#VALUE!"}},{"$f":"+VLOOKUP($C62,'2. Balanço'!$C$7:$J$55,HLOOKUP('4. Rácios Financeiros'!G$4,'2. Balanço'!$E$4:$J$5,2,0),0)","v":{"$error":"#VALUE!"}},{"$f":"+VLOOKUP($C62,'2. Balanço'!$C$7:$J$55,HLOOKUP('4. Rácios Financeiros'!H$4,'2. Balanço'!$E$4:$J$5,2,0),0)","v":{"$error":"#VALUE!"}},{"$f":"+VLOOKUP($C62,'2. Balanço'!$C$7:$J$55,HLOOKUP('4. Rácios Financeiros'!I$4,'2. Balanço'!$E$4:$J$5,2,0),0)","v":{"$error":"#VALUE!"}},{"$f":"+VLOOKUP($C62,'2. Balanço'!$C$7:$J$55,HLOOKUP('4. Rácios Financeiros'!J$4,'2. Balanço'!$E$4:$J$5,2,0),0)","v":{"$error":"#VALUE!"}}]
[null,null,"Capital próprio",null,{"$f":"+VLOOKUP($C63,'2. Balanço'!$C$7:$J$55,HLOOKUP('4. Rácios Financeiros'!E$4,'2. Balanço'!$E$4:$J$5,2,0),0)","v":50000},{"$f":"+VLOOKUP($C63,'2. Balanço'!$C$7:$J$55,HLOOKUP('4. Rácios Financeiros'!F$4,'2. Balanço'!$E$4:$J$5,2,0),0)","v":{"$error":"#VALUE!"}},{"$f":"+VLOOKUP($C63,'2. Balanço'!$C$7:$J$55,HLOOKUP('4. Rácios Financeiros'!G$4,'2. Balanço'!$E$4:$J$5,2,0),0)","v":{"$error":"#VALUE!"}},{"$f":"+VLOOKUP($C63,'2. Balanço'!$C$7:$J$55,HLOOKUP('4. Rácios Financeiros'!H$4,'2. Balanço'!$E$4:$J$5,2,0),0)","v":{"$error":"#VALUE!"}},{"$f":"+VLOOKUP($C63,'2. Balanço'!$C$7:$J$55,HLOOKUP('4. Rácios Financeiros'!I$4,'2. Balanço'!$E$4:$J$5,2,0),0)","v":{"$error":"#VALUE!"}},{"$f":"+VLOOKUP($C63,'2. Balanço'!$C$7:$J$55,HLOOKUP('4. Rácios Financeiros'!J$4,'2. Balanço'!$E$4:$J$5,2,0),0)","v":{"$error":"#VALUE!"}}]
[null,null,"Passivo não corrente",null,{"$f":"+VLOOKUP($C64,'2. Balanço'!$C$7:$J$55,HLOOKUP('4. Rácios Financeiros'!E$4,'2. Balanço'!$E$4:$J$5,2,0),0)","v":{"$error":"#VALUE!"}},{"$f":"+VLOOKUP($C64,'2. Balanço'!$C$7:$J$55,HLOOKUP('4. Rácios Financeiros'!F$4,'2. Balanço'!$E$4:$J$5,2,0),0)","v":{"$error":"#VALUE!"}},{"$f":"+VLOOKUP($C64,'2. Balanço'!$C$7:$J$55,HLOOKUP('4. Rácios Financeiros'!G$4,'2. Balanço'!$E$4:$J$5,2,0),0)","v":{"$error":"#VALUE!"}},{"$f":"+VLOOKUP($C64,'2. Balanço'!$C$7:$J$55,HLOOKUP('4. Rácios Financeiros'!H$4,'2. Balanço'!$E$4:$J$5,2,0),0)","v":{"$error":"#VALUE!"}},{"$f":"+VLOOKUP($C64,'2. Balanço'!$C$7:$J$55,HLOOKUP('4. Rácios Financeiros'!I$4,'2. Balanço'!$E$4:$J$5,2,0),0)","v":{"$error":"#VALUE!"}},{"$f":"+VLOOKUP($C64,'2. Balanço'!$C$7:$J$55,HLOOKUP('4. Rácios Financeiros'!J$4,'2. Balanço'!$E$4:$J$5,2,0),0)","v":{"$error":"#VALUE!"}}]
[null,null,"Passivo corrente",null,{"$f":"+VLOOKUP($C65,'2. Balanço'!$C$7:$J$55,HLOOKUP('4. Rácios Financeiros'!E$4,'2. Balanço'!$E$4:$J$5,2,0),0)","v":{"$error":"#VALUE!"}},{"$f":"+VLOOKUP($C65,'2. Balanço'!$C$7:$J$55,HLOOKUP('4. Rácios Financeiros'!F$4,'2. Balanço'!$E$4:$J$5,2,0),0)","v":{"$error":"#VALUE!"}},{"$f":"+VLOOKUP($C65,'2. Balanço'!$C$7:$J$55,HLOOKUP('4. Rácios Financeiros'!G$4,'2. Balanço'!$E$4:$J$5,2,0),0)","v":{"$error":"#VALUE!"}},{"$f":"+VLOOKUP($C65,'2. Balanço'!$C$7:$J$55,HLOOKUP('4. Rácios Financeiros'!H$4,'2. Balanço'!$E$4:$J$5,2,0),0)","v":{"$error":"#VALUE!"}},{"$f":"+VLOOKUP($C65,'2. Balanço'!$C$7:$J$55,HLOOKUP('4. Rácios Financeiros'!I$4,'2. Balanço'!$E$4:$J$5,2,0),0)","v":{"$error":"#VALUE!"}},{"$f":"+VLOOKUP($C65,'2. Balanço'!$C$7:$J$55,HLOOKUP('4. Rácios Financeiros'!J$4,'2. Balanço'!$E$4:$J$5,2,0),0)","v":{"$error":"#VALUE!"}}]
[]
[null,null,"Demonstração de resultados"]
[null,null,{"$f":"+'1.Demonstração de Resultados'!C6","v":"Vendas e Serviços prestados"},null,{"$f":"+'1.Demonstração de Resultados'!E6","v":0},{"$f":"+'1.Demonstração de Resultados'!F6","v":0},{"$f":"+'1.Demonstração de Resultados'!G6","v":0},{"$f":"+'1.Demonstração de Resultados'!H6","v":0},{"$f":"+'1.Demonstração de Resultados'!I6","v":0},{"$f":"+'1.Demonstração de Resultados'!J6","v":0}]
[null,null,"EBITDA",null,{"$f":"+'1.Demonstração de Resultados'!E21","v":{"$error":"#VALUE!"}},{"$f":"+'1.Demonstração de Resultados'!F21","v":{"$error":"#VALUE!"}},{"$f":"+'1.Demonstração de Resultados'!G21","v":{"$error":"#VALUE!"}},{"$f":"+'1.Demonstração de Resultados'!H21","v":{"$error":"#VALUE!"}},{"$f":"+'1.Demonstração de Resultados'!I21","v":{"$error":"#VALUE!"}},{"$f":"+'1.Demonstração de Resultados'!J21","v":{"$error":"#VALUE!"}}]
[null,null,"Juros e Gastos Similares Suportados",null,{"$f":"+'1.Demonstração de Resultados'!E26","v":0},{"$f":"+'1.Demonstração de Resultados'!F26","v":{"$error":"#VALUE!"}},{"$f":"+'1.Demonstração de Resultados'!G26","v":{"$error":"#VALUE!"}},{"$f":"+'1.Demonstração de Resultados'!H26","v":{"$error":"#VALUE!"}},{"$f":"+'1.Demonstração de Resultados'!I26","v":{"$error":"#VALUE!"}},{"$f":"+'1.Demonstração de Resultados'!J26","v":{"$error":"#VALUE!"}}]
[null,null,"Imposto",null,{"$f":"+'1.Demonstração de Resultados'!E28","v":{"$error":"#VALUE!"}},{"$f":"+'1.Demonstração de Resultados'!F28","v":{"$error":"#VALUE!"}},{"$f":"+'1.Demonstração de Resultados'!G28","v":{"$error":"#VALUE!"}},{"$f":"+'1.Demonstração de Resultados'!H28","v":{"$error":"#VALUE!"}},{"$f":"+'1.Demonstração de Resultados'!I28","v":{"$error":"#VALUE!"}},{"$f":"+'1.Demonstração de Resultados'!J28","v":{"$error":"#VALUE!"}}]
[null,null,"Resultado Líquido",null,{"$f":"+'1.Demonstração de Resultados'!E31","v":""},{"$f":"+'1.Demonstração de Resultados'!F31","v":""},{"$f":"+'1.Demonstração de Resultados'!G31","v":""},{"$f":"+'1.Demonstração de Resultados'!H31","v":""},{"$f":"+'1.Demonstração de Resultados'!I31","v":""},{"$f":"+'1.Demonstração de Resultados'!J31","v":""}]
[]
[]
[null,null,"Cofinanciado por:"]

{"sheet":"5. Fundo de Maneio","index":7,"n_rows":31,"n_cols":10,"rows_kept":31,"cut":false,"hidden":false,"merged":[]}
[]
[null,null,"5. Fundo de Maneio"]
[]
[null,null,{"$f":"+Capa!C13","v":"<Nome do Projeto>"},null,{"$f":"+AnoN","v":0},{"$f":"+E4+1","v":1},{"$f":"+F4+1","v":2},3,4,5]
[]
[null,null,"Necessidades de Fundo de Maneio",null,{"$f":"+E7+E8+E9+E11","v":0},0,0,0,0,0]
[null,null,"Clientes",null,{"$f":"+IFERROR((Pressupostos!G$44+Pressupostos!G$45)*Pressupostos!$D$197/Pressupostos!G15,0)","v":0},{"$f":"+(Pressupostos!H$44+Pressupostos!H$45)*Pressupostos!$D$197/Pressupostos!H15","v":0},{"$f":"+(Pressupostos!I$44+Pressupostos!I$45)*Pressupostos!$D$197/Pressupostos!I15","v":0},{"$f":"+(Pressupostos!J$44+Pressupostos!J$45)*Pressupostos!$D$197/Pressupostos!J15","v":0},{"$f":"+(Pressupostos!K$44+Pressupostos!K$45)*Pressupostos!$D$197/Pressupostos!K15","v":0},{"$f":"+(Pressupostos!L$44+Pressupostos!L$45)*Pressupostos!$D$197/Pressupostos!L15","v":0}]
[null,null,"Inventários",null,{"$f":"+Pressupostos!G79","v":0},{"$f":"+Pressupostos!H79","v":0},{"$f":"+Pressupostos!I79","v":0},{"$f":"+Pressupostos!J79","v":0},{"$f":"+Pressupostos!K79","v":0},{"$f":"+Pressupostos!L79","v":0}]
[null,null,"EOEP (Estado e Outros Entes Públicos)",null,{"$f":"+E10","v":0},{"$f":"+F10","v":0},0,0,0,0]
[null,null,"IVA",null,{"$f":"-+IFERROR(IF(E$27<0,E$27,\"0\"),\"0\")","v":0},{"$f":"-+IFERROR(IF(F$27<0,F$27,\"0\"),\"0\")","v":0},0,0,0,0]
[null,null,"Outros créditos a receber"]
[null,null,"Diferimentos"]
[]
[null,null,"Recursos de Fundo de Maneio",null,{"$f":"+E15+E16+E21","v":0},{"$error":"#VALUE!"},{"$error":"#VALUE!"},{"$error":"#VALUE!"},{"$error":"#VALUE!"},{"$error":"#VALUE!"}]
[null,null,"Fornecedores",null,{"$f":"+IFERROR((Pressupostos!G103+Pressupostos!G104+Pressupostos!G78+Pressupostos!G77+Pressupostos!G179+Pressupostos!G180)*Pressupostos!$D$200/Pressupostos!G15,0)","v":0},{"$f":"+(Pressupostos!H103+Pressupostos!H104+Pressupostos!H78+Pressupostos!H77+Pressupostos!H179+Pressupostos!H180)*Pressupostos!$D$200/Pressupostos!H15","v":{"$error":"#VALUE!"}},{"$f":"+(Pressupostos!I103+Pressupostos!I104+Pressupostos!I78+Pressupostos!I77+Pressupostos!I179+Pressupostos!I180)*Pressupostos!$D$200/Pressupostos!I15","v":{"$error":"#VALUE!"}},{"$f":"+(Pressupostos!J103+Pressupostos!J104+Pressupostos!J78+Pressupostos!J77+Pressupostos!J179+Pressupostos!J180)*Pressupostos!$D$200/Pressupostos!J15","v":{"$error":"#VALUE!"}},{"$f":"+(Pressupostos!K103+Pressupostos!K104+Pressupostos!K78+Pressupostos!K77+Pressupostos!K179+Pressupostos!K180)*Pressupostos!$D$200/Pressupostos!K15","v":{"$error":"#VALUE!"}},{"$f":"+(Pressupostos!L103+Pressupostos!L104+Pressupostos!L78+Pressupostos!L77+Pressupostos!L179+Pressupostos!L180)*Pressupostos!$D$200/Pressupostos!L15","v":{"$error":"#VALUE!"}}]
[null,null,"EOEP (Estado e Outros Entes Públicos)",null,{"$f":"+SUM(E17:E20)","v":0},0,0,0,0,{"$f":"+SUM(J17:J20)","v":0}]
[null,null,"IRS",null,{"$f":"+IFERROR(Pressupostos!G$170/(Pressupostos!G14+Pressupostos!G14*2/12)*2,0)","v":0},{"$f":"+Pressupostos!H$170/(Pressupostos!H14+Pressupostos!H14*2/12)*2","v":0},{"$f":"+Pressupostos!I$170/(Pressupostos!I14+Pressupostos!I14*2/12)*2","v":0},{"$f":"+Pressupostos!J$170/(Pressupostos!J14+Pressupostos!J14*2/12)*2","v":0},{"$f":"+Pressupostos!K$170/(Pressupostos!K14+Pressupostos!K14*2/12)*2","v":0},{"$f":"+Pressupostos!L$170/(Pressupostos!L14+Pressupostos!L14*2/12)*2","v":0}]
[null,null,"IVA",null,{"$f":"+IFERROR(IF(E$27>0,E$27,\"\")/(Pressupostos!G14)*2,\"0\")","v":"0"},{"$f":"+IFERROR(IF(F$27>0,F$27,\"\")/(Pressupostos!H14)*2,\"0\")","v":"0"},{"$f":"+IFERROR(IF(G$27>0,G$27,\"\")/(Pressupostos!I14)*2,\"0\")","v":"0"},{"$f":"+IFERROR(IF(H$27>0,H$27,\"\")/(Pressupostos!J14)*2,\"0\")","v":"0"},{"$f":"+IFERROR(IF(I$27>0,I$27,\"\")/(Pressupostos!K14)*2,\"0\")","v":"0"},{"$f":"+IFERROR(IF(J$27>0,J$27,\"\")/(Pressupostos!L14)*2,\"0\")","v":"0"}]
[null,null,"TSU",null,{"$f":"+IFERROR(Pressupostos!G$166/(Pressupostos!G14+Pressupostos!G14*2/12)*2,0)","v":0},{"$f":"+Pressupostos!H$166/(Pressupostos!H14+Pressupostos!H14*2/12)*2","v":0},{"$f":"+Pressupostos!I$166/(Pressupostos!I14+Pressupostos!I14*2/12)*2","v":0},{"$f":"+Pressupostos!J$166/(Pressupostos!J14+Pressupostos!J14*2/12)*2","v":0},{"$f":"+Pressupostos!K$166/(Pressupostos!K14+Pressupostos!K14*2/12)*2","v":0},{"$f":"+Pressupostos!L$166/(Pressupostos!L14+Pressupostos!L14*2/12)*2","v":0}]
[null,null,"FCT",null,{"$f":"IFERROR((Pressupostos!G$174+'2. Balanço'!E14-'2. Balanço'!D14)/(Pressupostos!G14+Pressupostos!G14*2/12)*2,0)","v":0},{"$f":"(Pressupostos!H$174+'2. Balanço'!F14-'2. Balanço'!E14)/(Pressupostos!H14+Pressupostos!H14*2/12)*2","v":0},{"$f":"(Pressupostos!I$174+'2. Balanço'!G14-'2. Balanço'!F14)/(Pressupostos!I14+Pressupostos!I14*2/12)*2","v":0},{"$f":"(Pressupostos!J$174+'2. Balanço'!H14-'2. Balanço'!G14)/(Pressupostos!J14+Pressupostos!J14*2/12)*2","v":0},{"$f":"(Pressupostos!K$174+'2. Balanço'!I14-'2. Balanço'!H14)/(Pressupostos!K14+Pressupostos!K14*2/12)*2","v":0},{"$f":"(Pressupostos!L$174+'2. Balanço'!J14-'2. Balanço'!I14)/(Pressupostos!L14+Pressupostos!L14*2/12)*2","v":0}]
[null,null,"Outras dívidas a pagar"]
[null,null,"Diferimentos"]
[]
[null,null,"Fundo de Maneio",null,{"$f":"+E6-E14","v":0},{"$error":"#VALUE!"},{"$error":"#VALUE!"},{"$error":"#VALUE!"},{"$error":"#VALUE!"},{"$f":"+J6-J14","v":{"$error":"#VALUE!"}}]
[null,null,"Variação Fundo de Maneio",null,{"$f":"E24-D24","v":0},{"$f":"F24-E24","v":{"$error":"#VALUE!"}},{"$error":"#VALUE!"},{"$error":"#VALUE!"},{"$error":"#VALUE!"},{"$error":"#VALUE!"}]
[]
[null,null,"IVA",null,{"$f":"+E28-E29","v":{"$error":"#VALUE!"}},{"$f":"+F28-F29","v":{"$error":"#VALUE!"}},{"$error":"#VALUE!"},{"$error":"#VALUE!"},{"$error":"#VALUE!"},{"$error":"#VALUE!"}]
[null,null,"IVA líquidado",null,{"$f":"+Pressupostos!G$45","v":0},{"$f":"+Pressupostos!H$45","v":0},{"$f":"+Pressupostos!I$45","v":0},{"$f":"+Pressupostos!J$45","v":0},{"$f":"+Pressupostos!K$45","v":0},{"$f":"+Pressupostos!L$45","v":0}]
[null,null,"IVA dedutível",null,{"$f":"+Pressupostos!G$78+Pressupostos!G$104+Pressupostos!G$180+Pressupostos!G$207","v":{"$error":"#VALUE!"}},{"$f":"+Pressupostos!H$78+Pressupostos!H$104+Pressupostos!H$180+Pressupostos!H$207","v":{"$error":"#VALUE!"}},{"$f":"+Pressupostos!I$78+Pressupostos!I$104+Pressupostos!I$180+Pressupostos!I$207","v":{"$error":"#VALUE!"}},{"$f":"+Pressupostos!J$78+Pressupostos!J$104+Pressupostos!J$180+Pressupostos!J$207","v":{"$error":"#VALUE!"}},{"$f":"+Pressupostos!K$78+Pressupostos!K$104+Pressupostos!K$180+Pressupostos!K$207","v":{"$error":"#VALUE!"}},{"$f":"+Pressupostos!L$78+Pressupostos!L$104+Pressupostos!L$180+Pressupostos!L$207","v":{"$error":"#VALUE!"}}]
[]
[null,null,"Cofinanciado por:"]

{"sheet":"6. Investimento","index":8,"n_rows":191,"n_cols":14,"rows_kept":191,"cut":false,"hidden":false,"merged":[[35,11,43,11]]}
[]
[null,null,"6. Investimento, Depreciações e Amortizações"]
[]
[null,null,{"$f":"+Capa!C13","v":"<Nome do Projeto>"},null,null,{"$f":"+AnoN","v":0},{"$f":"+F4+1","v":1},{"$f":"+G4+1","v":2},3,4,5]
[]
[null,null,"CAPEX (Investimento)",null,null,{"$f":"+Pressupostos!G206","v":0},{"$f":"+Pressupostos!H206","v":0},{"$f":"+Pressupostos!I206","v":0},{"$f":"+Pressupostos!J206","v":0},{"$f":"+Pressupostos!K206","v":0},{"$f":"+Pressupostos!L206","v":0}]
[null,null,"Ativo fixo tangíveis",null,null,{"$f":"+Pressupostos!G208","v":0},{"$f":"+Pressupostos!H208","v":0},{"$f":"+Pressupostos!I208","v":0},{"$f":"+Pressupostos!J208","v":0},{"$f":"+Pressupostos!K208","v":0},{"$f":"+Pressupostos!L208","v":0}]
[null,null,"Terrenos e Recursos Naturais",null,null,{"$f":"+Pressupostos!G209","v":0},{"$f":"+Pressupostos!H209","v":0},{"$f":"+Pressupostos!I209","v":0},{"$f":"+Pressupostos!J209","v":0},{"$f":"+Pressupostos!K209","v":0},{"$f":"+Pressupostos!L209","v":0}]
[null,null,"Edifícios e outras construções",null,null,{"$f":"+Pressupostos!G210","v":0},{"$f":"+Pressupostos!H210","v":0},{"$f":"+Pressupostos!I210","v":0},{"$f":"+Pressupostos!J210","v":0},{"$f":"+Pressupostos!K210","v":0},{"$f":"+Pressupostos!L210","v":0}]
[null,null,"Equipamento básico ",null,null,{"$f":"+Pressupostos!G211","v":0},{"$f":"+Pressupostos!H211","v":0},{"$f":"+Pressupostos!I211","v":0},{"$f":"+Pressupostos!J211","v":0},{"$f":"+Pressupostos!K211","v":0},{"$f":"+Pressupostos!L211","v":0}]
[null,null,"Equipamento ligeiro",null,null,{"$f":"+Pressupostos!G212","v":0},{"$f":"+Pressupostos!H212","v":0},{"$f":"+Pressupostos!I212","v":0},{"$f":"+Pressupostos!J212","v":0},{"$f":"+Pressupostos!K212","v":0},{"$f":"+Pressupostos!L212","v":0}]
[null,null,"Equipamento de transporte",null,null,{"$f":"+Pressupostos!G213","v":0},{"$f":"+Pressupostos!H213","v":0},{"$f":"+Pressupostos!I213","v":0},{"$f":"+Pressupostos!J213","v":0},{"$f":"+Pressupostos!K213","v":0},{"$f":"+Pressupostos!L213","v":0}]
[null,null,"Equipamento administrativo",null,null,{"$f":"+Pressupostos!G214","v":0},{"$f":"+Pressupostos!H214","v":0},{"$f":"+Pressupostos!I214","v":0},{"$f":"+Pressupostos!J214","v":0},{"$f":"+Pressupostos!K214","v":0},{"$f":"+Pressupostos!L214","v":0}]
[null,null,"Outros Ativos Fixos Tangíveis",null,null,{"$f":"+Pressupostos!G215","v":0},{"$f":"+Pressupostos!H215","v":0},{"$f":"+Pressupostos!I215","v":0},{"$f":"+Pressupostos!J215","v":0},{"$f":"+Pressupostos!K215","v":0},{"$f":"+Pressupostos!L215","v":0}]
[null,null,"Ativos intangíveis",null,null,{"$f":"+Pressupostos!G216","v":0},{"$f":"+Pressupostos!H216","v":0},{"$f":"+Pressupostos!I216","v":0},{"$f":"+Pressupostos!J216","v":0},{"$f":"+Pressupostos!K216","v":0},{"$f":"+Pressupostos!L216","v":0}]
[null,null,"Projetos de desenvolvimento",null,null,{"$f":"+Pressupostos!G217","v":0},{"$f":"+Pressupostos!H217","v":0},{"$f":"+Pressupostos!I217","v":0},{"$f":"+Pressupostos!J217","v":0},{"$f":"+Pressupostos!K217","v":0},{"$f":"+Pressupostos!L217","v":0}]
[null,null,"Programas de Computador",null,null,{"$f":"+Pressupostos!G218","v":0},{"$f":"+Pressupostos!H218","v":0},{"$f":"+Pressupostos!I218","v":0},{"$f":"+Pressupostos!J218","v":0},{"$f":"+Pressupostos!K218","v":0},{"$f":"+Pressupostos!L218","v":0}]
[null,null,"Propriedade Industrial",null,null,{"$f":"+Pressupostos!G219","v":0},{"$f":"+Pressupostos!H219","v":0},{"$f":"+Pressupostos!I219","v":0},{"$f":"+Pressupostos!J219","v":0},{"$f":"+Pressupostos!K219","v":0},{"$f":"+Pressupostos!L219","v":0}]
[null,null,"Outros Ativos Intangíveis",null,null,{"$f":"+Pressupostos!G220","v":0},{"$f":"+Pressupostos!H220","v":0},{"$f":"+Pressupostos!I220","v":0},{"$f":"+Pressupostos!J220","v":0},{"$f":"+Pressupostos!K220","v":0},{"$f":"+Pressupostos!L220","v":0}]
[]
[null,null,"CAPEX (Balanço)",null,null,{"$f":"+F22+F30","v":0},{"$f":"+G22+G30","v":0},0,0,0,{"$f":"+K22+K30","v":0}]
[null,null,"Ativo fixo tangíveis",null,null,{"$f":"+SUM(F23:F29)","v":0},{"$f":"+SUM(G23:G29)","v":0},0,0,0,{"$f":"+SUM(K23:K29)","v":0}]
[null,null,"Terrenos e Recursos Naturais",null,null,{"$f":"+IFERROR(Pressupostos!G$209-'6. Investimento'!F38,0)","v":0},{"$f":"+IFERROR(F23+(Pressupostos!H209-'6. Investimento'!G38),\"\")","v":0},{"$f":"+IFERROR(G23+(Pressupostos!I209-'6. Investimento'!H38),\"\")","v":0},{"$f":"+IFERROR(H23+(Pressupostos!J209-'6. Investimento'!I38),\"\")","v":0},{"$f":"+IFERROR(I23+(Pressupostos!K209-'6. Investimento'!J38),\"\")","v":0},{"$f":"+IFERROR(J23+(Pressupostos!L209-'6. Investimento'!K38),\"\")","v":0}]
[null,null,"Edifícios e outras construções",null,null,{"$f":"+IFERROR(Pressupostos!G$210-'6. Investimento'!F45,0)","v":0},{"$f":"+F24+(Pressupostos!H210-'6. Investimento'!G45)","v":0},{"$f":"+G24+(Pressupostos!I210-'6. Investimento'!H45)","v":0},{"$f":"+H24+(Pressupostos!J210-'6. Investimento'!I45)","v":0},{"$f":"+I24+(Pressupostos!K210-'6. Investimento'!J45)","v":0},{"$f":"+J24+(Pressupostos!L210-'6. Investimento'!K45)","v":0}]
[null,null,"Equipamento básico ",null,null,{"$f":"+IFERROR(Pressupostos!G$211-'6. Investimento'!F52,0)","v":0},{"$f":"+F25+(Pressupostos!H211-'6. Investimento'!G52)","v":0},{"$f":"+G25+(Pressupostos!I211-'6. Investimento'!H52)","v":0},{"$f":"+H25+(Pressupostos!J211-'6. Investimento'!I52)","v":0},{"$f":"+I25+(Pressupostos!K211-'6. Investimento'!J52)","v":0},{"$f":"+J25+(Pressupostos!L211-'6. Investimento'!K52)","v":0}]
[null,null,"Equipamento ligeiro",null,null,{"$f":"+IFERROR(Pressupostos!G$212-'6. Investimento'!F59,0)","v":0},{"$f":"+F26+(Pressupostos!H212-'6. Investimento'!G59)","v":0},{"$f":"+G26+(Pressupostos!I212-'6. Investimento'!H59)","v":0},{"$f":"+H26+(Pressupostos!J212-'6. Investimento'!I59)","v":0},{"$f":"+I26+(Pressupostos!K212-'6. Investimento'!J59)","v":0},{"$f":"+J26+(Pressupostos!L212-'6. Investimento'!K59)","v":0}]
[null,null,"Equipamento de transporte",null,null,{"$f":"+IFERROR(Pressupostos!G$213-'6. Investimento'!F66,0)","v":0},{"$f":"+F27+(Pressupostos!H213-'6. Investimento'!G66)","v":0},{"$f":"+G27+(Pressupostos!I213-'6. Investimento'!H66)","v":0},{"$f":"+H27+(Pressupostos!J213-'6. Investimento'!I66)","v":0},{"$f":"+I27+(Pressupostos!K213-'6. Investimento'!J66)","v":0},{"$f":"+J27+(Pressupostos!L213-'6. Investimento'!K66)","v":0}]
[null,null,"Equipamento administrativo",null,null,{"$f":"+IFERROR(Pressupostos!G$214-'6. Investimento'!F73,0)","v":0},{"$f":"+F28+(Pressupostos!H214-'6. Investimento'!G73)","v":0},{"$f":"+G28+(Pressupostos!I214-'6. Investimento'!H73)","v":0},{"$f":"+H28+(Pressupostos!J214-'6. Investimento'!I73)","v":0},{"$f":"+I28+(Pressupostos!K214-'6. Investimento'!J73)","v":0},{"$f":"+J28+(Pressupostos!L214-'6. Investimento'!K73)","v":0}]
[null,null,"Outros Ativos Fixos Tangíveis",null,null,{"$f":"+IFERROR(Pressupostos!G$215-'6. Investimento'!F80,0)","v":0},{"$f":"+F29+(Pressupostos!H215-'6. Investimento'!G80)","v":0},{"$f":"+G29+(Pressupostos!I215-'6. Investimento'!H80)","v":0},{"$f":"+H29+(Pressupostos!J215-'6. Investimento'!I80)","v":0},{"$f":"+I29+(Pressupostos!K215-'6. Investimento'!J80)","v":0},{"$f":"+J29+(Pressupostos!L215-'6. Investimento'!K80)","v":0}]
[null,null,"Ativos intangíveis",null,null,{"$f":"+SUM(F31:F34)","v":0},{"$f":"+SUM(G31:G34)","v":0},0,0,0,0]
[null,null,"Projetos de desenvolvimento",null,null,{"$f":"+IFERROR(Pressupostos!G$217-'6. Investimento'!F88,0)","v":0},{"$f":"+F31+(Pressupostos!H217-'6. Investimento'!G88)","v":0},{"$f":"+G31+(Pressupostos!I217-'6. Investimento'!H88)","v":0},{"$f":"+H31+(Pressupostos!J217-'6. Investimento'!I88)","v":0},{"$f":"+I31+(Pressupostos!K217-'6. Investimento'!J88)","v":0},{"$f":"+J31+(Pressupostos!L217-'6. Investimento'!K88)","v":0}]
[null,null,"Programas de Computador",null,null,{"$f":"+IFERROR(Pressupostos!G$218-'6. Investimento'!F95,0)","v":0},{"$f":"+F32+(Pressupostos!H218-'6. Investimento'!G95)","v":0},{"$f":"+G32+(Pressupostos!I218-'6. Investimento'!H95)","v":0},{"$f":"+H32+(Pressupostos!J218-'6. Investimento'!I95)","v":0},{"$f":"+I32+(Pressupostos!K218-'6. Investimento'!J95)","v":0},{"$f":"+J32+(Pressupostos!L218-'6. Investimento'!K95)","v":0}]
[null,null,"Propriedade Industrial",null,null,{"$f":"+IFERROR(Pressupostos!G$219-'6. Investimento'!F102,0)","v":0},{"$f":"+F33+(Pressupostos!H219-'6. Investimento'!G102)","v":0},{"$f":"+G33+(Pressupostos!I219-'6. Investimento'!H102)","v":0},{"$f":"+H33+(Pressupostos!J219-'6. Investimento'!I102)","v":0},{"$f":"+I33+(Pressupostos!K219-'6. Investimento'!J102)","v":0},{"$f":"+J33+(Pressupostos!L219-'6. Investimento'!K102)","v":0}]
[null,null,"Outros Ativos Intangíveis",null,null,{"$f":"+IFERROR(Pressupostos!G$220-'6. Investimento'!F109,0)","v":0},{"$f":"+F34+(Pressupostos!H220-'6. Investimento'!G109)","v":0},{"$f":"+G34+(Pressupostos!I220-'6. Investimento'!H109)","v":0},{"$f":"+H34+(Pressupostos!J220-'6. Investimento'!I109)","v":0},{"$f":"+I34+(Pressupostos!K220-'6. Investimento'!J109)","v":0},{"$f":"+J34+(Pressupostos!L220-'6. Investimento'!K109)","v":0}]
[]
[null,null,"Valor Depreciações e Amortizações <AUXILIAR>","Amort.",null,{"$f":"+F37+F87","v":0},0,0,0,0,0]
[null,null,"Ativo fixo tangíveis",null,null,{"$f":"+F38+F45+F52+F59+F66+F73+F80","v":0},0,0,0,0,0]
[null,"x","Terrenos e Recursos Naturais",null,null,{"$f":"SUBTOTAL(9,F39:F44)","v":0},0,0,0,0,0]
[null,null,"Terrenos e Recursos Naturais",0,null,{"$f":"+IFERROR(IF(Pressupostos!G$14=0,0,IF(Pressupostos!$G209>SUM('6. Investimento'!E39:$E39),MIN(((Pressupostos!$G209/Pressupostos!$E209/12)*Pressupostos!G$14),(Pressupostos!$G209-SUM('6. Investimento'!E39:$E39))),0)),\"0\")","v":0},{"$f":"+IFERROR(IF(Pressupostos!H$14=0,0,IF(Pressupostos!$G209>SUM('6. Investimento'!F39:$F39),MIN(((Pressupostos!$G209/Pressupostos!$E209/12)*Pressupostos!H$14),(Pressupostos!$G209-SUM('6. Investimento'!F39:$F39))),0)),\"0\")","v":0},{"$f":"+IFERROR(IF(Pressupostos!I$14=0,0,IF(Pressupostos!$G209>SUM('6. Investimento'!$F39:G39),MIN(((Pressupostos!$G209/Pressupostos!$E209/12)*Pressupostos!I$14),(Pressupostos!$G209-SUM('6. Investimento'!$F39:G39))),0)),\"0\")","v":0},{"$f":"+IFERROR(IF(Pressupostos!J$14=0,0,IF(Pressupostos!$G209>SUM('6. Investimento'!$F39:H39),MIN(((Pressupostos!$G209/Pressupostos!$E209/12)*Pressupostos!J$14),(Pressupostos!$G209-SUM('6. Investimento'!$F39:H39))),0)),\"0\")","v":0},{"$f":"+IFERROR(IF(Pressupostos!K$14=0,0,IF(Pressupostos!$G209>SUM('6. Investimento'!$F39:I39),MIN(((Pressupostos!$G209/Pressupostos!$E209/12)*Pressupostos!K$14),(Pressupostos!$G209-SUM('6. Investimento'!$F39:I39))),0)),\"0\")","v":0},{"$f":"+IFERROR(IF(Pressupostos!L$14=0,0,IF(Pressupostos!$G209>SUM('6. Investimento'!$F39:J39),MIN(((Pressupostos!$G209/Pressupostos!$E209/12)*Pressupostos!L$14),(Pressupostos!$G209-SUM('6. Investimento'!$F39:J39))),0)),\"0\")","v":0}]
[null,null,"Terrenos e Recursos Naturais",0,null,null,{"$f":"+IFERROR(IF(Pressupostos!H$14=0,0,IF(Pressupostos!$H$209>SUM('6. Investimento'!F40:$F40),MIN(((Pressupostos!$H$209/Pressupostos!$E$209/12)*Pressupostos!H$14),(Pressupostos!$H$209-SUM('6. Investimento'!F40:$F40))),0)),\"0\")","v":0},{"$f":"+IFERROR(IF(Pressupostos!I$14=0,0,IF(Pressupostos!$H$209>SUM('6. Investimento'!$F40:G40),MIN(((Pressupostos!$H$209/Pressupostos!$E$209/12)*Pressupostos!I$14),(Pressupostos!$H$209-SUM('6. Investimento'!$F40:G40))),0)),\"0\")","v":0},{"$f":"+IFERROR(IF(Pressupostos!J$14=0,0,IF(Pressupostos!$H$209>SUM('6. Investimento'!$F40:H40),MIN(((Pressupostos!$H$209/Pressupostos!$E$209/12)*Pressupostos!J$14),(Pressupostos!$H$209-SUM('6. Investimento'!$F40:H40))),0)),\"0\")","v":0},{"$f":"+IFERROR(IF(Pressupostos!K$14=0,0,IF(Pressupostos!$H$209>SUM('6. Investimento'!$F40:I40),MIN(((Pressupostos!$H$209/Pressupostos!$E$209/12)*Pressupostos!K$14),(Pressupostos!$H$209-SUM('6. Investimento'!$F40:I40))),0)),\"0\")","v":0},{"$f":"+IFERROR(IF(Pressupostos!L$14=0,0,IF(Pressupostos!$H$209>SUM('6. Investimento'!$F40:J40),MIN(((Pressupostos!$H$209/Pressupostos!$E$209/12)*Pressupostos!L$14),(Pressupostos!$H$209-SUM('6. Investimento'!$F40:J40))),0)),\"0\")","v":0}]
[null,null,"Terrenos e Recursos Naturais",0,null,null,null,{"$f":"+IF(Pressupostos!I$14=0,0,IF(Pressupostos!$I$209>SUM('6. Investimento'!$F41:G41),MIN(((Pressupostos!$I$209/Pressupostos!$E$209/12)*Pressupostos!I$14),(Pressupostos!$I$209-SUM('6. Investimento'!$F41:G41))),0))","v":0},{"$f":"+IF(Pressupostos!J$14=0,0,IF(Pressupostos!$I$209>SUM('6. Investimento'!$F41:H41),MIN(((Pressupostos!$I$209/Pressupostos!$E$209/12)*Pressupostos!J$14),(Pressupostos!$I$209-SUM('6. Investimento'!$F41:H41))),0))","v":0},{"$f":"+IF(Pressupostos!K$14=0,0,IF(Pressupostos!$I$209>SUM('6. Investimento'!$F41:I41),MIN(((Pressupostos!$I$209/Pressupostos!$E$209/12)*Pressupostos!K$14),(Pressupostos!$I$209-SUM('6. Investimento'!$F41:I41))),0))","v":0},{"$f":"+IF(Pressupostos!L$14=0,0,IF(Pressupostos!$I$209>SUM('6. Investimento'!$F41:J41),MIN(((Pressupostos!$I$209/Pressupostos!$E$209/12)*Pressupostos!L$14),(Pressupostos!$I$209-SUM('6. Investimento'!$F41:J41))),0))","v":0}]
[null,null,"Terrenos e Recursos Naturais",0,null,null,null,null,{"$f":"+IF(Pressupostos!J$14=0,0,IF(Pressupostos!$J$209>SUM('6. Investimento'!$F42:H42),MIN(((Pressupostos!$J$209/Pressupostos!$E$209/12)*Pressupostos!J$14),(Pressupostos!$J$209-SUM('6. Investimento'!$F42:H42))),0))","v":0},{"$f":"+IF(Pressupostos!K$14=0,0,IF(Pressupostos!$J$209>SUM('6. Investimento'!$F42:I42),MIN(((Pressupostos!$J$209/Pressupostos!$E$209/12)*Pressupostos!K$14),(Pressupostos!$J$209-SUM('6. Investimento'!$F42:I42))),0))","v":0},{"$f":"+IF(Pressupostos!L$14=0,0,IF(Pressupostos!$J$209>SUM('6. Investimento'!$F42:J42),MIN(((Pressupostos!$J$209/Pressupostos!$E$209/12)*Pressupostos!L$14),(Pressupostos!$J$209-SUM('6. Investimento'!$F42:J42))),0))","v":0}]
[null,null,"Terrenos e Recursos Naturais",0,null,null,null,null,null,{"$f":"+IF(Pressupostos!K$14=0,0,IF(Pressupostos!$K$209>SUM('6. Investimento'!$F43:I43),MIN(((Pressupostos!$K$209/Pressupostos!$E$209/12)*Pressupostos!K$14),(Pressupostos!$K$209-SUM('6. Investimento'!$F43:I43))),0))","v":0},{"$f":"+IF(Pressupostos!L$14=0,0,IF(Pressupostos!$K$209>SUM('6. Investimento'!$F43:J43),MIN(((Pressupostos!$K$209/Pressupostos!$E$209/12)*Pressupostos!L$14),(Pressupostos!$K$209-SUM('6. Investimento'!$F43:J43))),0))","v":0}]
[null,null,"Terrenos e Recursos Naturais",0]
[null,"x","Edifícios e outras construções",null,null,{"$f":"SUBTOTAL(9,F46:F51)","v":0},0,0,0,0,0]
[null,null,"Edifícios e outras construções",1,null,{"$f":"+IF(Pressupostos!G$14=0,0,IF(Pressupostos!$G210>SUM('6. Investimento'!E46:$E46),MIN(((Pressupostos!$G210/Pressupostos!$E210/12)*Pressupostos!G$14),(Pressupostos!$G210-SUM('6. Investimento'!E46:$E46))),0))","v":0},{"$f":"+IF(Pressupostos!H$14=0,0,IF(Pressupostos!$G210>SUM('6. Investimento'!F46:$F46),MIN(((Pressupostos!$G210/Pressupostos!$E210/12)*Pressupostos!H$14),(Pressupostos!$G210-SUM('6. Investimento'!F46:$F46))),0))","v":0},{"$f":"+IF(Pressupostos!I$14=0,0,IF(Pressupostos!$G210>SUM('6. Investimento'!$F46:G46),MIN(((Pressupostos!$G210/Pressupostos!$E210/12)*Pressupostos!I$14),(Pressupostos!$G210-SUM('6. Investimento'!$F46:G46))),0))","v":0},{"$f":"+IF(Pressupostos!J$14=0,0,IF(Pressupostos!$G210>SUM('6. Investimento'!$F46:H46),MIN(((Pressupostos!$G210/Pressupostos!$E210/12)*Pressupostos!J$14),(Pressupostos!$G210-SUM('6. Investimento'!$F46:H46))),0))","v":0},{"$f":"+IF(Pressupostos!K$14=0,0,IF(Pressupostos!$G210>SUM('6. Investimento'!$F46:I46),MIN(((Pressupostos!$G210/Pressupostos!$E210/12)*Pressupostos!K$14),(Pressupostos!$G210-SUM('6. Investimento'!$F46:I46))),0))","v":0},{"$f":"+IF(Pressupostos!L$14=0,0,IF(Pressupostos!$G210>SUM('6. Investimento'!$F46:J46),MIN(((Pressupostos!$G210/Pressupostos!$E210/12)*Pressupostos!L$14),(Pressupostos!$G210-SUM('6. Investimento'!$F46:J46))),0))","v":0}]
[null,null,"Edifícios e outras construções",1,null,null,{"$f":"+IF(Pressupostos!H$14=0,0,IF(Pressupostos!$H$210>SUM('6. Investimento'!F47:$F47),MIN(((Pressupostos!$H$210/Pressupostos!$E$210/12)*Pressupostos!H$14),(Pressupostos!$H$210-SUM('6. Investimento'!F47:$F47))),0))","v":0},{"$f":"+IF(Pressupostos!I$14=0,0,IF(Pressupostos!$H$210>SUM('6. Investimento'!$F47:G47),MIN(((Pressupostos!$H$210/Pressupostos!$E$210/12)*Pressupostos!I$14),(Pressupostos!$H$210-SUM('6. Investimento'!$F47:G47))),0))","v":0},{"$f":"+IF(Pressupostos!J$14=0,0,IF(Pressupostos!$H$210>SUM('6. Investimento'!$F47:H47),MIN(((Pressupostos!$H$210/Pressupostos!$E$210/12)*Pressupostos!J$14),(Pressupostos!$H$210-SUM('6. Investimento'!$F47:H47))),0))","v":0},{"$f":"+IF(Pressupostos!K$14=0,0,IF(Pressupostos!$H$210>SUM('6. Investimento'!$F47:I47),MIN(((Pressupostos!$H$210/Pressupostos!$E$210/12)*Pressupostos!K$14),(Pressupostos!$H$210-SUM('6. Investimento'!$F47:I47))),0))","v":0},{"$f":"+IF(Pressupostos!L$14=0,0,IF(Pressupostos!$H$210>SUM('6. Investimento'!$F47:J47),MIN(((Pressupostos!$H$210/Pressupostos!$E$210/12)*Pressupostos!L$14),(Pressupostos!$H$210-SUM('6. Investimento'!$F47:J47))),0))","v":0}]
[null,null,"Edifícios e outras construções",1,null,null,null,{"$f":"+IF(Pressupostos!I$14=0,0,IF(Pressupostos!$I$210>SUM('6. Investimento'!$F48:G48),MIN(((Pressupostos!$I$210/Pressupostos!$E$210/12)*Pressupostos!I$14),(Pressupostos!$I$210-SUM('6. Investimento'!$F48:G48))),0))","v":0},{"$f":"+IF(Pressupostos!J$14=0,0,IF(Pressupostos!$I$210>SUM('6. Investimento'!$F48:H48),MIN(((Pressupostos!$I$210/Pressupostos!$E$210/12)*Pressupostos!J$14),(Pressupostos!$I$210-SUM('6. Investimento'!$F48:H48))),0))","v":0},{"$f":"+IF(Pressupostos!K$14=0,0,IF(Pressupostos!$I$210>SUM('6. Investimento'!$F48:I48),MIN(((Pressupostos!$I$210/Pressupostos!$E$210/12)*Pressupostos!K$14),(Pressupostos!$I$210-SUM('6. Investimento'!$F48:I48))),0))","v":0},{"$f":"+IF(Pressupostos!L$14=0,0,IF(Pressupostos!$I$210>SUM('6. Investimento'!$F48:J48),MIN(((Pressupostos!$I$210/Pressupostos!$E$210/12)*Pressupostos!L$14),(Pressupostos!$I$210-SUM('6. Investimento'!$F48:J48))),0))","v":0}]
[null,null,"Edifícios e outras construções",1,null,null,null,null,{"$f":"+IF(Pressupostos!J$14=0,0,IF(Pressupostos!$J$210>SUM('6. Investimento'!$F49:H49),MIN(((Pressupostos!$J$210/Pressupostos!$E$210/12)*Pressupostos!J$14),(Pressupostos!$J$210-SUM('6. Investimento'!$F49:H49))),0))","v":0},{"$f":"+IF(Pressupostos!K$14=0,0,IF(Pressupostos!$J$210>SUM('6. Investimento'!$F49:I49),MIN(((Pressupostos!$J$210/Pressupostos!$E$210/12)*Pressupostos!K$14),(Pressupostos!$J$210-SUM('6. Investimento'!$F49:I49))),0))","v":0},{"$f":"+IF(Pressupostos!L$14=0,0,IF(Pressupostos!$J$210>SUM('6. Investimento'!$F49:J49),MIN(((Pressupostos!$J$210/Pressupostos!$E$210/12)*Pressupostos!L$14),(Pressupostos!$J$210-SUM('6. Investimento'!$F49:J49))),0))","v":0}]
[null,null,"Edifícios e outras construções",1,null,null,null,null,null,{"$f":"+IF(Pressupostos!K$14=0,0,IF(Pressupostos!$K$210>SUM('6. Investimento'!$F50:I50),MIN(((Pressupostos!$K$210/Pressupostos!$E$210/12)*Pressupostos!K$14),(Pressupostos!$K$210-SUM('6. Investimento'!$F50:I50))),0))","v":0},{"$f":"+IF(Pressupostos!L$14=0,0,IF(Pressupostos!$K$210>SUM('6. Investimento'!$F50:J50),MIN(((Pressupostos!$K$210/Pressupostos!$E$210/12)*Pressupostos!L$14),(Pressupostos!$K$210-SUM('6. Investimento'!$F50:J50))),0))","v":0}]
[null,null,"Edifícios e outras construções",1,null,null,null,null,null,null,{"$f":"+IF(Pressupostos!L$14=0,0,IF(Pressupostos!$L$210>SUM('6. Investimento'!$F51:J51),MIN(((Pressupostos!$L$210/Pressupostos!$E$210/12)*Pressupostos!L$14),(Pressupostos!$L$210-SUM('6. Investimento'!$F51:J51))),0))","v":0}]
[null,"x","Equipamento básico ",null,null,{"$f":"SUBTOTAL(9,F53:F58)","v":0},0,0,0,0,0]
[null,null,"Equipamento básico ",2,null,{"$f":"+IF(Pressupostos!G$14=0,0,IF(Pressupostos!$G211>SUM('6. Investimento'!E53:$E53),MIN(((Pressupostos!$G211/Pressupostos!$E211/12)*Pressupostos!G$14),(Pressupostos!$G211-SUM('6. Investimento'!E53:$E53))),0))","v":0},{"$f":"+IF(Pressupostos!H$14=0,0,IF(Pressupostos!$G211>SUM('6. Investimento'!F53:$F53),MIN(((Pressupostos!$G211/Pressupostos!$E211/12)*Pressupostos!H$14),(Pressupostos!$G211-SUM('6. Investimento'!F53:$F53))),0))","v":0},{"$f":"+IF(Pressupostos!I$14=0,0,IF(Pressupostos!$G211>SUM('6. Investimento'!$F53:G53),MIN(((Pressupostos!$G211/Pressupostos!$E211/12)*Pressupostos!I$14),(Pressupostos!$G211-SUM('6. Investimento'!$F53:G53))),0))","v":0},{"$f":"+IF(Pressupostos!J$14=0,0,IF(Pressupostos!$G211>SUM('6. Investimento'!$F53:H53),MIN(((Pressupostos!$G211/Pressupostos!$E211/12)*Pressupostos!J$14),(Pressupostos!$G211-SUM('6. Investimento'!$F53:H53))),0))","v":0},{"$f":"+IF(Pressupostos!K$14=0,0,IF(Pressupostos!$G211>SUM('6. Investimento'!$F53:I53),MIN(((Pressupostos!$G211/Pressupostos!$E211/12)*Pressupostos!K$14),(Pressupostos!$G211-SUM('6. Investimento'!$F53:I53))),0))","v":0},{"$f":"+IF(Pressupostos!L$14=0,0,IF(Pressupostos!$G211>SUM('6. Investimento'!$F53:J53),MIN(((Pressupostos!$G211/Pressupostos!$E211/12)*Pressupostos!L$14),(Pressupostos!$G211-SUM('6. Investimento'!$F53:J53))),0))","v":0}]
[null,null,"Equipamento básico ",2,null,null,{"$f":"+IF(Pressupostos!H$14=0,0,IF(Pressupostos!$H$211>SUM('6. Investimento'!F54:$F54),MIN(((Pressupostos!$H$211/Pressupostos!$E$211/12)*Pressupostos!H$14),(Pressupostos!$H$211-SUM('6. Investimento'!F54:$F54))),0))","v":0},{"$f":"+IF(Pressupostos!I$14=0,0,IF(Pressupostos!$H$211>SUM('6. Investimento'!$F54:G54),MIN(((Pressupostos!$H$211/Pressupostos!$E$211/12)*Pressupostos!I$14),(Pressupostos!$H$211-SUM('6. Investimento'!$F54:G54))),0))","v":0},{"$f":"+IF(Pressupostos!J$14=0,0,IF(Pressupostos!$H$211>SUM('6. Investimento'!$F54:H54),MIN(((Pressupostos!$H$211/Pressupostos!$E$211/12)*Pressupostos!J$14),(Pressupostos!$H$211-SUM('6. Investimento'!$F54:H54))),0))","v":0},{"$f":"+IF(Pressupostos!K$14=0,0,IF(Pressupostos!$H$211>SUM('6. Investimento'!$F54:I54),MIN(((Pressupostos!$H$211/Pressupostos!$E$211/12)*Pressupostos!K$14),(Pressupostos!$H$211-SUM('6. Investimento'!$F54:I54))),0))","v":0},{"$f":"+IF(Pressupostos!L$14=0,0,IF(Pressupostos!$H$211>SUM('6. Investimento'!$F54:J54),MIN(((Pressupostos!$H$211/Pressupostos!$E$211/12)*Pressupostos!L$14),(Pressupostos!$H$211-SUM('6. Investimento'!$F54:J54))),0))","v":0}]
[null,null,"Equipamento básico ",2,null,null,null,{"$f":"+IF(Pressupostos!I$14=0,0,IF(Pressupostos!$I$211>SUM('6. Investimento'!$F55:G55),MIN(((Pressupostos!$I$211/Pressupostos!$E$211/12)*Pressupostos!I$14),(Pressupostos!$I$211-SUM('6. Investimento'!$F55:G55))),0))","v":0},{"$f":"+IF(Pressupostos!J$14=0,0,IF(Pressupostos!$I$211>SUM('6. Investimento'!$F55:H55),MIN(((Pressupostos!$I$211/Pressupostos!$E$211/12)*Pressupostos!J$14),(Pressupostos!$I$211-SUM('6. Investimento'!$F55:H55))),0))","v":0},{"$f":"+IF(Pressupostos!K$14=0,0,IF(Pressupostos!$I$211>SUM('6. Investimento'!$F55:I55),MIN(((Pressupostos!$I$211/Pressupostos!$E$211/12)*Pressupostos!K$14),(Pressupostos!$I$211-SUM('6. Investimento'!$F55:I55))),0))","v":0},{"$f":"+IF(Pressupostos!L$14=0,0,IF(Pressupostos!$I$211>SUM('6. Investimento'!$F55:J55),MIN(((Pressupostos!$I$211/Pressupostos!$E$211/12)*Pressupostos!L$14),(Pressupostos!$I$211-SUM('6. Investimento'!$F55:J55))),0))","v":0}]
[null,null,"Equipamento básico ",2,null,null,null,null,{"$f":"+IF(Pressupostos!J$14=0,0,IF(Pressupostos!$J$211>SUM('6. Investimento'!$F56:H56),MIN(((Pressupostos!$J$211/Pressupostos!$E$211/12)*Pressupostos!J$14),(Pressupostos!$J$211-SUM('6. Investimento'!$F56:H56))),0))","v":0},{"$f":"+IF(Pressupostos!K$14=0,0,IF(Pressupostos!$J$211>SUM('6. Investimento'!$F56:I56),MIN(((Pressupostos!$J$211/Pressupostos!$E$211/12)*Pressupostos!K$14),(Pressupostos!$J$211-SUM('6. Investimento'!$F56:I56))),0))","v":0},{"$f":"+IF(Pressupostos!L$14=0,0,IF(Pressupostos!$J$211>SUM('6. Investimento'!$F56:J56),MIN(((Pressupostos!$J$211/Pressupostos!$E$211/12)*Pressupostos!L$14),(Pressupostos!$J$211-SUM('6. Investimento'!$F56:J56))),0))","v":0}]
[null,null,"Equipamento básico ",2,null,null,null,null,null,{"$f":"+IF(Pressupostos!K$14=0,0,IF(Pressupostos!$K$211>SUM('6. Investimento'!$F57:I57),MIN(((Pressupostos!$K$211/Pressupostos!$E$211/12)*Pressupostos!K$14),(Pressupostos!$K$211-SUM('6. Investimento'!$F57:I57))),0))","v":0},{"$f":"+IF(Pressupostos!L$14=0,0,IF(Pressupostos!$K$211>SUM('6. Investimento'!$F57:J57),MIN(((Pressupostos!$K$211/Pressupostos!$E$211/12)*Pressupostos!L$14),(Pressupostos!$K$211-SUM('6. Investimento'!$F57:J57))),0))","v":0}]
[null,null,"Equipamento básico",2,null,null,null,null,null,null,{"$f":"+IF(Pressupostos!L$14=0,0,IF(Pressupostos!$L$211>SUM('6. Investimento'!$F58:J58),MIN(((Pressupostos!$L$211/Pressupostos!$E$211/12)*Pressupostos!L$14),(Pressupostos!$L$211-SUM('6. Investimento'!$F58:J58))),0))","v":0}]
[null,"x","Equipamento ligeiro",null,null,{"$f":"SUBTOTAL(9,F60:F65)","v":0},0,0,0,0,0]
[null,null,"Equipamento ligeiro",3,null,{"$f":"+IF(Pressupostos!G$14=0,0,IF(Pressupostos!$G212>SUM('6. Investimento'!E60:$E60),MIN(((Pressupostos!$G212/Pressupostos!$E212/12)*Pressupostos!G$14),(Pressupostos!$G212-SUM('6. Investimento'!E60:$E60))),0))","v":0},{"$f":"+IF(Pressupostos!H$14=0,0,IF(Pressupostos!$G212>SUM('6. Investimento'!F60:$F60),MIN(((Pressupostos!$G212/Pressupostos!$E212/12)*Pressupostos!H$14),(Pressupostos!$G212-SUM('6. Investimento'!F60:$F60))),0))","v":0},{"$f":"+IF(Pressupostos!I$14=0,0,IF(Pressupostos!$G212>SUM('6. Investimento'!$F60:G60),MIN(((Pressupostos!$G212/Pressupostos!$E212/12)*Pressupostos!I$14),(Pressupostos!$G212-SUM('6. Investimento'!$F60:G60))),0))","v":0},{"$f":"+IF(Pressupostos!J$14=0,0,IF(Pressupostos!$G212>SUM('6. Investimento'!$F60:H60),MIN(((Pressupostos!$G212/Pressupostos!$E212/12)*Pressupostos!J$14),(Pressupostos!$G212-SUM('6. Investimento'!$F60:H60))),0))","v":0},{"$f":"+IF(Pressupostos!K$14=0,0,IF(Pressupostos!$G212>SUM('6. Investimento'!$F60:I60),MIN(((Pressupostos!$G212/Pressupostos!$E212/12)*Pressupostos!K$14),(Pressupostos!$G212-SUM('6. Investimento'!$F60:I60))),0))","v":0},{"$f":"+IF(Pressupostos!L$14=0,0,IF(Pressupostos!$G212>SUM('6. Investimento'!$F60:J60),MIN(((Pressupostos!$G212/Pressupostos!$E212/12)*Pressupostos!L$14),(Pressupostos!$G212-SUM('6. Investimento'!$F60:J60))),0))","v":0}]
[null,null,"Equipamento ligeiro",3,null,null,{"$f":"+IF(Pressupostos!H$14=0,0,IF(Pressupostos!$H$212>SUM('6. Investimento'!F61:$F61),MIN(((Pressupostos!$H$212/Pressupostos!$E$212/12)*Pressupostos!H$14),(Pressupostos!$H$212-SUM('6. Investimento'!F61:$F61))),0))","v":0},{"$f":"+IF(Pressupostos!I$14=0,0,IF(Pressupostos!$H$212>SUM('6. Investimento'!$F61:G61),MIN(((Pressupostos!$H$212/Pressupostos!$E$212/12)*Pressupostos!I$14),(Pressupostos!$H$212-SUM('6. Investimento'!$F61:G61))),0))","v":0},{"$f":"+IF(Pressupostos!J$14=0,0,IF(Pressupostos!$H$212>SUM('6. Investimento'!$F61:H61),MIN(((Pressupostos!$H$212/Pressupostos!$E$212/12)*Pressupostos!J$14),(Pressupostos!$H$212-SUM('6. Investimento'!$F61:H61))),0))","v":0},{"$f":"+IF(Pressupostos!K$14=0,0,IF(Pressupostos!$H$212>SUM('6. Investimento'!$F61:I61),MIN(((Pressupostos!$H$212/Pressupostos!$E$212/12)*Pressupostos!K$14),(Pressupostos!$H$212-SUM('6. Investimento'!$F61:I61))),0))","v":0},{"$f":"+IF(Pressupostos!L$14=0,0,IF(Pressupostos!$H$212>SUM('6. Investimento'!$F61:J61),MIN(((Pressupostos!$H$212/Pressupostos!$E$212/12)*Pressupostos!L$14),(Pressupostos!$H$212-SUM('6. Investimento'!$F61:J61))),0))","v":0}]
[null,null,"Equipamento ligeiro",3,null,null,null,{"$f":"+IF(Pressupostos!I$14=0,0,IF(Pressupostos!$I$212>SUM('6. Investimento'!$F62:G62),MIN(((Pressupostos!$I$212/Pressupostos!$E$212/12)*Pressupostos!I$14),(Pressupostos!$I$212-SUM('6. Investimento'!$F62:G62))),0))","v":0},{"$f":"+IF(Pressupostos!J$14=0,0,IF(Pressupostos!$I$212>SUM('6. Investimento'!$F62:H62),MIN(((Pressupostos!$I$212/Pressupostos!$E$212/12)*Pressupostos!J$14),(Pressupostos!$I$212-SUM('6. Investimento'!$F62:H62))),0))","v":0},{"$f":"+IF(Pressupostos!K$14=0,0,IF(Pressupostos!$I$212>SUM('6. Investimento'!$F62:I62),MIN(((Pressupostos!$I$212/Pressupostos!$E$212/12)*Pressupostos!K$14),(Pressupostos!$I$212-SUM('6. Investimento'!$F62:I62))),0))","v":0},{"$f":"+IF(Pressupostos!L$14=0,0,IF(Pressupostos!$I$212>SUM('6. Investimento'!$F62:J62),MIN(((Pressupostos!$I$212/Pressupostos!$E$212/12)*Pressupostos!L$14),(Pressupostos!$I$212-SUM('6. Investimento'!$F62:J62))),0))","v":0}]
[null,null,"Equipamento ligeiro",3,null,null,null,null,{"$f":"+IF(Pressupostos!J$14=0,0,IF(Pressupostos!$J$212>SUM('6. Investimento'!$F63:H63),MIN(((Pressupostos!$J$212/Pressupostos!$E$212/12)*Pressupostos!J$14),(Pressupostos!$J$212-SUM('6. Investimento'!$F63:H63))),0))","v":0},{"$f":"+IF(Pressupostos!K$14=0,0,IF(Pressupostos!$J$212>SUM('6. Investimento'!$F63:I63),MIN(((Pressupostos!$J$212/Pressupostos!$E$212/12)*Pressupostos!K$14),(Pressupostos!$J$212-SUM('6. Investimento'!$F63:I63))),0))","v":0},{"$f":"+IF(Pressupostos!L$14=0,0,IF(Pressupostos!$J$212>SUM('6. Investimento'!$F63:J63),MIN(((Pressupostos!$J$212/Pressupostos!$E$212/12)*Pressupostos!L$14),(Pressupostos!$J$212-SUM('6. Investimento'!$F63:J63))),0))","v":0}]
[null,null,"Equipamento ligeiro",3,null,null,null,null,null,{"$f":"+IF(Pressupostos!K$14=0,0,IF(Pressupostos!$K$212>SUM('6. Investimento'!$F64:I64),MIN(((Pressupostos!$K$212/Pressupostos!$E$212/12)*Pressupostos!K$14),(Pressupostos!$K$212-SUM('6. Investimento'!$F64:I64))),0))","v":0},{"$f":"+IF(Pressupostos!L$14=0,0,IF(Pressupostos!$K$212>SUM('6. Investimento'!$F64:J64),MIN(((Pressupostos!$K$212/Pressupostos!$E$212/12)*Pressupostos!L$14),(Pressupostos!$K$212-SUM('6. Investimento'!$F64:J64))),0))","v":0}]
[null,null,"Equipamento ligeiro",3,null,null,null,null,null,null,{"$f":"+IF(Pressupostos!L$14=0,0,IF(Pressupostos!$L$212>SUM('6. Investimento'!$F65:J65),MIN(((Pressupostos!$L$212/Pressupostos!$E$212/12)*Pressupostos!L$14),(Pressupostos!$L$212-SUM('6. Investimento'!$F65:J65))),0))","v":0}]
[null,"x","Equipamento de transporte",null,null,{"$f":"SUBTOTAL(9,F67:F72)","v":0},0,0,0,0,0]
[null,null,"Equipamento de transporte",4,null,{"$f":"+IF(Pressupostos!G$14=0,0,IF(Pressupostos!$G213>SUM('6. Investimento'!E67:$E67),MIN(((Pressupostos!$G213/Pressupostos!$E213/12)*Pressupostos!G$14),(Pressupostos!$G213-SUM('6. Investimento'!E67:$E67))),0))","v":0},{"$f":"+IF(Pressupostos!H$14=0,0,IF(Pressupostos!$G213>SUM('6. Investimento'!F67:$F67),MIN(((Pressupostos!$G213/Pressupostos!$E213/12)*Pressupostos!H$14),(Pressupostos!$G213-SUM('6. Investimento'!F67:$F67))),0))","v":0},{"$f":"+IF(Pressupostos!I$14=0,0,IF(Pressupostos!$G213>SUM('6. Investimento'!$F67:G67),MIN(((Pressupostos!$G213/Pressupostos!$E213/12)*Pressupostos!I$14),(Pressupostos!$G213-SUM('6. Investimento'!$F67:G67))),0))","v":0},{"$f":"+IF(Pressupostos!J$14=0,0,IF(Pressupostos!$G213>SUM('6. Investimento'!$F67:H67),MIN(((Pressupostos!$G213/Pressupostos!$E213/12)*Pressupostos!J$14),(Pressupostos!$G213-SUM('6. Investimento'!$F67:H67))),0))","v":0},{"$f":"+IF(Pressupostos!K$14=0,0,IF(Pressupostos!$G213>SUM('6. Investimento'!$F67:I67),MIN(((Pressupostos!$G213/Pressupostos!$E213/12)*Pressupostos!K$14),(Pressupostos!$G213-SUM('6. Investimento'!$F67:I67))),0))","v":0},{"$f":"+IF(Pressupostos!L$14=0,0,IF(Pressupostos!$G213>SUM('6. Investimento'!$F67:J67),MIN(((Pressupostos!$G213/Pressupostos!$E213/12)*Pressupostos!L$14),(Pressupostos!$G213-SUM('6. Investimento'!$F67:J67))),0))","v":0}]
[null,null,"Equipamento de transporte",4,null,null,{"$f":"+IF(Pressupostos!H$14=0,0,IF(Pressupostos!$H$213>SUM('6. Investimento'!F68:$F68),MIN(((Pressupostos!$H$213/Pressupostos!$E$213/12)*Pressupostos!H$14),(Pressupostos!$H$213-SUM('6. Investimento'!F68:$F68))),0))","v":0},{"$f":"+IF(Pressupostos!I$14=0,0,IF(Pressupostos!$H$213>SUM('6. Investimento'!$F68:G68),MIN(((Pressupostos!$H$213/Pressupostos!$E$213/12)*Pressupostos!I$14),(Pressupostos!$H$213-SUM('6. Investimento'!$F68:G68))),0))","v":0},{"$f":"+IF(Pressupostos!J$14=0,0,IF(Pressupostos!$H$213>SUM('6. Investimento'!$F68:H68),MIN(((Pressupostos!$H$213/Pressupostos!$E$213/12)*Pressupostos!J$14),(Pressupostos!$H$213-SUM('6. Investimento'!$F68:H68))),0))","v":0},{"$f":"+IF(Pressupostos!K$14=0,0,IF(Pressupostos!$H$213>SUM('6. Investimento'!$F68:I68),MIN(((Pressupostos!$H$213/Pressupostos!$E$213/12)*Pressupostos!K$14),(Pressupostos!$H$213-SUM('6. Investimento'!$F68:I68))),0))","v":0},{"$f":"+IF(Pressupostos!L$14=0,0,IF(Pressupostos!$H$213>SUM('6. Investimento'!$F68:J68),MIN(((Pressupostos!$H$213/Pressupostos!$E$213/12)*Pressupostos!L$14),(Pressupostos!$H$213-SUM('6. Investimento'!$F68:J68))),0))","v":0}]
[null,null,"Equipamento de transporte",4,null,null,null,{"$f":"+IF(Pressupostos!I$14=0,0,IF(Pressupostos!$I$213>SUM('6. Investimento'!$F69:G69),MIN(((Pressupostos!$I$213/Pressupostos!$E$213/12)*Pressupostos!I$14),(Pressupostos!$I$213-SUM('6. Investimento'!$F69:G69))),0))","v":0},{"$f":"+IF(Pressupostos!J$14=0,0,IF(Pressupostos!$I$213>SUM('6. Investimento'!$F69:H69),MIN(((Pressupostos!$I$213/Pressupostos!$E$213/12)*Pressupostos!J$14),(Pressupostos!$I$213-SUM('6. Investimento'!$F69:H69))),0))","v":0},{"$f":"+IF(Pressupostos!K$14=0,0,IF(Pressupostos!$I$213>SUM('6. Investimento'!$F69:I69),MIN(((Pressupostos!$I$213/Pressupostos!$E$213/12)*Pressupostos!K$14),(Pressupostos!$I$213-SUM('6. Investimento'!$F69:I69))),0))","v":0},{"$f":"+IF(Pressupostos!L$14=0,0,IF(Pressupostos!$I$213>SUM('6. Investimento'!$F69:J69),MIN(((Pressupostos!$I$213/Pressupostos!$E$213/12)*Pressupostos!L$14),(Pressupostos!$I$213-SUM('6. Investimento'!$F69:J69))),0))","v":0}]
[null,null,"Equipamento de transporte",4,null,null,null,null,{"$f":"+IF(Pressupostos!J$14=0,0,IF(Pressupostos!$J$213>SUM('6. Investimento'!$F70:H70),MIN(((Pressupostos!$J$213/Pressupostos!$E$213/12)*Pressupostos!J$14),(Pressupostos!$J$213-SUM('6. Investimento'!$F70:H70))),0))","v":0},{"$f":"+IF(Pressupostos!K$14=0,0,IF(Pressupostos!$J$213>SUM('6. Investimento'!$F70:I70),MIN(((Pressupostos!$J$213/Pressupostos!$E$213/12)*Pressupostos!K$14),(Pressupostos!$J$213-SUM('6. Investimento'!$F70:I70))),0))","v":0},{"$f":"+IF(Pressupostos!L$14=0,0,IF(Pressupostos!$J$213>SUM('6. Investimento'!$F70:J70),MIN(((Pressupostos!$J$213/Pressupostos!$E$213/12)*Pressupostos!L$14),(Pressupostos!$J$213-SUM('6. Investimento'!$F70:J70))),0))","v":0}]
[null,null,"Equipamento de transporte",4,null,null,null,null,null,{"$f":"+IF(Pressupostos!K$14=0,0,IF(Pressupostos!$K$213>SUM('6. Investimento'!$F71:I71),MIN(((Pressupostos!$K$213/Pressupostos!$E$213/12)*Pressupostos!K$14),(Pressupostos!$K$213-SUM('6. Investimento'!$F71:I71))),0))","v":0},{"$f":"+IF(Pressupostos!L$14=0,0,IF(Pressupostos!$K$213>SUM('6. Investimento'!$F71:J71),MIN(((Pressupostos!$K$213/Pressupostos!$E$213/12)*Pressupostos!L$14),(Pressupostos!$K$213-SUM('6. Investimento'!$F71:J71))),0))","v":0}]
[null,null,"Equipamento de transporte",4,null,null,null,null,null,null,{"$f":"+IF(Pressupostos!L$14=0,0,IF(Pressupostos!$L$213>SUM('6. Investimento'!$F72:J72),MIN(((Pressupostos!$L$213/Pressupostos!$E$213/12)*Pressupostos!L$14),(Pressupostos!$L$213-SUM('6. Investimento'!$F72:J72))),0))","v":0}]
[null,"x","Equipamento administrativo",null,null,{"$f":"SUBTOTAL(9,F74:F79)","v":0},0,0,0,0,0]
[null,null,"Equipamento administrativo",5,null,{"$f":"+IF(Pressupostos!G$14=0,0,IF(Pressupostos!$G214>SUM('6. Investimento'!E74:$E74),MIN(((Pressupostos!$G214/Pressupostos!$E214/12)*Pressupostos!G$14),(Pressupostos!$G214-SUM('6. Investimento'!E74:$E74))),0))","v":0},{"$f":"+IF(Pressupostos!H$14=0,0,IF(Pressupostos!$G214>SUM('6. Investimento'!F74:$F74),MIN(((Pressupostos!$G214/Pressupostos!$E214/12)*Pressupostos!H$14),(Pressupostos!$G214-SUM('6. Investimento'!F74:$F74))),0))","v":0},{"$f":"+IF(Pressupostos!I$14=0,0,IF(Pressupostos!$G214>SUM('6. Investimento'!$F74:G74),MIN(((Pressupostos!$G214/Pressupostos!$E214/12)*Pressupostos!I$14),(Pressupostos!$G214-SUM('6. Investimento'!$F74:G74))),0))","v":0},{"$f":"+IF(Pressupostos!J$14=0,0,IF(Pressupostos!$G214>SUM('6. Investimento'!$F74:H74),MIN(((Pressupostos!$G214/Pressupostos!$E214/12)*Pressupostos!J$14),(Pressupostos!$G214-SUM('6. Investimento'!$F74:H74))),0))","v":0},{"$f":"+IF(Pressupostos!K$14=0,0,IF(Pressupostos!$G214>SUM('6. Investimento'!$F74:I74),MIN(((Pressupostos!$G214/Pressupostos!$E214/12)*Pressupostos!K$14),(Pressupostos!$G214-SUM('6. Investimento'!$F74:I74))),0))","v":0},{"$f":"+IF(Pressupostos!L$14=0,0,IF(Pressupostos!$G214>SUM('6. Investimento'!$F74:J74),MIN(((Pressupostos!$G214/Pressupostos!$E214/12)*Pressupostos!L$14),(Pressupostos!$G214-SUM('6. Investimento'!$F74:J74))),0))","v":0}]
[null,null,"Equipamento administrativo",5,null,null,{"$f":"+IF(Pressupostos!H$14=0,0,IF(Pressupostos!$H$214>SUM('6. Investimento'!F75:$F75),MIN(((Pressupostos!$H$214/Pressupostos!$E$214/12)*Pressupostos!H$14),(Pressupostos!$H$214-SUM('6. Investimento'!F75:$F75))),0))","v":0},{"$f":"+IF(Pressupostos!I$14=0,0,IF(Pressupostos!$H$214>SUM('6. Investimento'!$F75:G75),MIN(((Pressupostos!$H$214/Pressupostos!$E$214/12)*Pressupostos!I$14),(Pressupostos!$H$214-SUM('6. Investimento'!$F75:G75))),0))","v":0},{"$f":"+IF(Pressupostos!J$14=0,0,IF(Pressupostos!$H$214>SUM('6. Investimento'!$F75:H75),MIN(((Pressupostos!$H$214/Pressupostos!$E$214/12)*Pressupostos!J$14),(Pressupostos!$H$214-SUM('6. Investimento'!$F75:H75))),0))","v":0},{"$f":"+IF(Pressupostos!K$14=0,0,IF(Pressupostos!$H$214>SUM('6. Investimento'!$F75:I75),MIN(((Pressupostos!$H$214/Pressupostos!$E$214/12)*Pressupostos!K$14),(Pressupostos!$H$214-SUM('6. Investimento'!$F75:I75))),0))","v":0},{"$f":"+IF(Pressupostos!L$14=0,0,IF(Pressupostos!$H$214>SUM('6. Investimento'!$F75:J75),MIN(((Pressupostos!$H$214/Pressupostos!$E$214/12)*Pressupostos!L$14),(Pressupostos!$H$214-SUM('6. Investimento'!$F75:J75))),0))","v":0}]
[null,null,"Equipamento administrativo",5,null,null,null,{"$f":"+IF(Pressupostos!I$14=0,0,IF(Pressupostos!$I$214>SUM('6. Investimento'!$F76:G76),MIN(((Pressupostos!$I$214/Pressupostos!$E$214/12)*Pressupostos!I$14),(Pressupostos!$I$214-SUM('6. Investimento'!$F76:G76))),0))","v":0},{"$f":"+IF(Pressupostos!J$14=0,0,IF(Pressupostos!$I$214>SUM('6. Investimento'!$F76:H76),MIN(((Pressupostos!$I$214/Pressupostos!$E$214/12)*Pressupostos!J$14),(Pressupostos!$I$214-SUM('6. Investimento'!$F76:H76))),0))","v":0},{"$f":"+IF(Pressupostos!K$14=0,0,IF(Pressupostos!$I$214>SUM('6. Investimento'!$F76:I76),MIN(((Pressupostos!$I$214/Pressupostos!$E$214/12)*Pressupostos!K$14),(Pressupostos!$I$214-SUM('6. Investimento'!$F76:I76))),0))","v":0},{"$f":"+IF(Pressupostos!L$14=0,0,IF(Pressupostos!$I$214>SUM('6. Investimento'!$F76:J76),MIN(((Pressupostos!$I$214/Pressupostos!$E$214/12)*Pressupostos!L$14),(Pressupostos!$I$214-SUM('6. Investimento'!$F76:J76))),0))","v":0}]
[null,null,"Equipamento administrativo",5,null,null,null,null,{"$f":"+IF(Pressupostos!J$14=0,0,IF(Pressupostos!$J$214>SUM('6. Investimento'!$F77:H77),MIN(((Pressupostos!$J$214/Pressupostos!$E$214/12)*Pressupostos!J$14),(Pressupostos!$J$214-SUM('6. Investimento'!$F77:H77))),0))","v":0},{"$f":"+IF(Pressupostos!K$14=0,0,IF(Pressupostos!$J$214>SUM('6. Investimento'!$F77:I77),MIN(((Pressupostos!$J$214/Pressupostos!$E$214/12)*Pressupostos!K$14),(Pressupostos!$J$214-SUM('6. Investimento'!$F77:I77))),0))","v":0},{"$f":"+IF(Pressupostos!L$14=0,0,IF(Pressupostos!$J$214>SUM('6. Investimento'!$F77:J77),MIN(((Pressupostos!$J$214/Pressupostos!$E$214/12)*Pressupostos!L$14),(Pressupostos!$J$214-SUM('6. Investimento'!$F77:J77))),0))","v":0}]
[null,null,"Equipamento administrativo",5,null,null,null,null,null,{"$f":"+IF(Pressupostos!K$14=0,0,IF(Pressupostos!$K$214>SUM('6. Investimento'!$F78:I78),MIN(((Pressupostos!$K$214/Pressupostos!$E$214/12)*Pressupostos!K$14),(Pressupostos!$K$214-SUM('6. Investimento'!$F78:I78))),0))","v":0},{"$f":"+IF(Pressupostos!L$14=0,0,IF(Pressupostos!$K$214>SUM('6. Investimento'!$F78:J78),MIN(((Pressupostos!$K$214/Pressupostos!$E$214/12)*Pressupostos!L$14),(Pressupostos!$K$214-SUM('6. Investimento'!$F78:J78))),0))","v":0}]
[null,null,"Equipamento administrativo",5,null,null,null,null,null,null,{"$f":"+IF(Pressupostos!L$14=0,0,IF(Pressupostos!$L$214>SUM('6. Investimento'!$F79:J79),MIN(((Pressupostos!$L$214/Pressupostos!$E$214/12)*Pressupostos!L$14),(Pressupostos!$L$214-SUM('6. Investimento'!$F79:J79))),0))","v":0}]
[null,"x","Outros Ativos Fixos Tangíveis",null,null,{"$f":"SUBTOTAL(9,F81:F86)","v":0},0,0,0,0,0]
[null,null,"Outros Ativos Fixos Tangíveis",6,null,{"$f":"+IF(Pressupostos!G$14=0,0,IF(Pressupostos!$G215>SUM('6. Investimento'!E81:$E81),MIN(((Pressupostos!$G215/Pressupostos!$E215/12)*Pressupostos!G$14),(Pressupostos!$G215-SUM('6. Investimento'!E81:$E81))),0))","v":0},{"$f":"+IF(Pressupostos!H$14=0,0,IF(Pressupostos!$G215>SUM('6. Investimento'!F81:$F81),MIN(((Pressupostos!$G215/Pressupostos!$E215/12)*Pressupostos!H$14),(Pressupostos!$G215-SUM('6. Investimento'!F81:$F81))),0))","v":0},{"$f":"+IF(Pressupostos!I$14=0,0,IF(Pressupostos!$G215>SUM('6. Investimento'!$F81:G81),MIN(((Pressupostos!$G215/Pressupostos!$E215/12)*Pressupostos!I$14),(Pressupostos!$G215-SUM('6. Investimento'!$F81:G81))),0))","v":0},{"$f":"+IF(Pressupostos!J$14=0,0,IF(Pressupostos!$G215>SUM('6. Investimento'!$F81:H81),MIN(((Pressupostos!$G215/Pressupostos!$E215/12)*Pressupostos!J$14),(Pressupostos!$G215-SUM('6. Investimento'!$F81:H81))),0))","v":0},{"$f":"+IF(Pressupostos!K$14=0,0,IF(Pressupostos!$G215>SUM('6. Investimento'!$F81:I81),MIN(((Pressupostos!$G215/Pressupostos!$E215/12)*Pressupostos!K$14),(Pressupostos!$G215-SUM('6. Investimento'!$F81:I81))),0))","v":0},{"$f":"+IF(Pressupostos!L$14=0,0,IF(Pressupostos!$G215>SUM('6. Investimento'!$F81:J81),MIN(((Pressupostos!$G215/Pressupostos!$E215/12)*Pressupostos!L$14),(Pressupostos!$G215-SUM('6. Investimento'!$F81:J81))),0))","v":0}]
[null,null,"Outros Ativos Fixos Tangíveis",6,null,null,{"$f":"+IF(Pressupostos!H$14=0,0,IF(Pressupostos!$H$215>SUM('6. Investimento'!F82:$F82),MIN(((Pressupostos!$H$215/Pressupostos!$E$215/12)*Pressupostos!H$14),(Pressupostos!$H$215-SUM('6. Investimento'!F82:$F82))),0))","v":0},{"$f":"+IF(Pressupostos!I$14=0,0,IF(Pressupostos!$H$215>SUM('6. Investimento'!$F82:G82),MIN(((Pressupostos!$H$215/Pressupostos!$E$215/12)*Pressupostos!I$14),(Pressupostos!$H$215-SUM('6. Investimento'!$F82:G82))),0))","v":0},{"$f":"+IF(Pressupostos!J$14=0,0,IF(Pressupostos!$H$215>SUM('6. Investimento'!$F82:H82),MIN(((Pressupostos!$H$215/Pressupostos!$E$215/12)*Pressupostos!J$14),(Pressupostos!$H$215-SUM('6. Investimento'!$F82:H82))),0))","v":0},{"$f":"+IF(Pressupostos!K$14=0,0,IF(Pressupostos!$H$215>SUM('6. Investimento'!$F82:I82),MIN(((Pressupostos!$H$215/Pressupostos!$E$215/12)*Pressupostos!K$14),(Pressupostos!$H$215-SUM('6. Investimento'!$F82:I82))),0))","v":0},{"$f":"+IF(Pressupostos!L$14=0,0,IF(Pressupostos!$H$215>SUM('6. Investimento'!$F82:J82),MIN(((Pressupostos!$H$215/Pressupostos!$E$215/12)*Pressupostos!L$14),(Pressupostos!$H$215-SUM('6. Investimento'!$F82:J82))),0))","v":0}]
[null,null,"Outros Ativos Fixos Tangíveis",6,null,null,null,{"$f":"+IF(Pressupostos!I$14=0,0,IF(Pressupostos!$I$215>SUM('6. Investimento'!$F83:G83),MIN(((Pressupostos!$I$215/Pressupostos!$E$215/12)*Pressupostos!I$14),(Pressupostos!$I$215-SUM('6. Investimento'!$F83:G83))),0))","v":0},{"$f":"+IF(Pressupostos!J$14=0,0,IF(Pressupostos!$I$215>SUM('6. Investimento'!$F83:H83),MIN(((Pressupostos!$I$215/Pressupostos!$E$215/12)*Pressupostos!J$14),(Pressupostos!$I$215-SUM('6. Investimento'!$F83:H83))),0))","v":0},{"$f":"+IF(Pressupostos!K$14=0,0,IF(Pressupostos!$I$215>SUM('6. Investimento'!$F83:I83),MIN(((Pressupostos!$I$215/Pressupostos!$E$215/12)*Pressupostos!K$14),(Pressupostos!$I$215-SUM('6. Investimento'!$F83:I83))),0))","v":0},{"$f":"+IF(Pressupostos!L$14=0,0,IF(Pressupostos!$I$215>SUM('6. Investimento'!$F83:J83),MIN(((Pressupostos!$I$215/Pressupostos!$E$215/12)*Pressupostos!L$14),(Pressupostos!$I$215-SUM('6. Investimento'!$F83:J83))),0))","v":0}]
[null,null,"Outros Ativos Fixos Tangíveis",6,null,null,null,null,{"$f":"+IF(Pressupostos!J$14=0,0,IF(Pressupostos!$J$215>SUM('6. Investimento'!$F84:H84),MIN(((Pressupostos!$J$215/Pressupostos!$E$215/12)*Pressupostos!J$14),(Pressupostos!$J$215-SUM('6. Investimento'!$F84:H84))),0))","v":0},{"$f":"+IF(Pressupostos!K$14=0,0,IF(Pressupostos!$J$215>SUM('6. Investimento'!$F84:I84),MIN(((Pressupostos!$J$215/Pressupostos!$E$215/12)*Pressupostos!K$14),(Pressupostos!$J$215-SUM('6. Investimento'!$F84:I84))),0))","v":0},{"$f":"+IF(Pressupostos!L$14=0,0,IF(Pressupostos!$J$215>SUM('6. Investimento'!$F84:J84),MIN(((Pressupostos!$J$215/Pressupostos!$E$215/12)*Pressupostos!L$14),(Pressupostos!$J$215-SUM('6. Investimento'!$F84:J84))),0))","v":0}]
[null,null,"Outros Ativos Fixos Tangíveis",6,null,null,null,null,null,{"$f":"+IF(Pressupostos!K$14=0,0,IF(Pressupostos!$K$215>SUM('6. Investimento'!$F85:I85),MIN(((Pressupostos!$K$215/Pressupostos!$E$215/12)*Pressupostos!K$14),(Pressupostos!$K$215-SUM('6. Investimento'!$F85:I85))),0))","v":0},{"$f":"+IF(Pressupostos!L$14=0,0,IF(Pressupostos!$K$215>SUM('6. Investimento'!$F85:J85),MIN(((Pressupostos!$K$215/Pressupostos!$E$215/12)*Pressupostos!L$14),(Pressupostos!$K$215-SUM('6. Investimento'!$F85:J85))),0))","v":0}]
[null,null,"Outros Ativos Fixos Tangíveis",6,null,null,null,null,null,null,{"$f":"+IF(Pressupostos!L$14=0,0,IF(Pressupostos!$L$215>SUM('6. Investimento'!$F86:J86),MIN(((Pressupostos!$L$215/Pressupostos!$E$215/12)*Pressupostos!L$14),(Pressupostos!$L$215-SUM('6. Investimento'!$F86:J86))),0))","v":0}]
[null,"x","Ativos intangíveis",null,null,{"$f":"+F88+F95+F102+F109","v":0},0,0,0,0,0]
[null,"x","Projetos de desenvolvimento",null,null,{"$f":"SUBTOTAL(9,F89:F94)","v":0},0,0,0,0,0]
[null,null,"Projetos de desenvolvimento",7,null,{"$f":"+IF(Pressupostos!G$14=0,0,IF(Pressupostos!$G217>SUM('6. Investimento'!E89:$E89),MIN(((Pressupostos!$G217/Pressupostos!$E217/12)*Pressupostos!G$14),(Pressupostos!$G217-SUM('6. Investimento'!E89:$E89))),0))","v":0},{"$f":"+IF(Pressupostos!H$14=0,0,IF(Pressupostos!$G217>SUM('6. Investimento'!F89:$F89),MIN(((Pressupostos!$G217/Pressupostos!$E217/12)*Pressupostos!H$14),(Pressupostos!$G217-SUM('6. Investimento'!F89:$F89))),0))","v":0},{"$f":"+IF(Pressupostos!I$14=0,0,IF(Pressupostos!$G217>SUM('6. Investimento'!$F89:G89),MIN(((Pressupostos!$G217/Pressupostos!$E217/12)*Pressupostos!I$14),(Pressupostos!$G217-SUM('6. Investimento'!$F89:G89))),0))","v":0},{"$f":"+IF(Pressupostos!J$14=0,0,IF(Pressupostos!$G217>SUM('6. Investimento'!$F89:H89),MIN(((Pressupostos!$G217/Pressupostos!$E217/12)*Pressupostos!J$14),(Pressupostos!$G217-SUM('6. Investimento'!$F89:H89))),0))","v":0},{"$f":"+IF(Pressupostos!K$14=0,0,IF(Pressupostos!$G217>SUM('6. Investimento'!$F89:I89),MIN(((Pressupostos!$G217/Pressupostos!$E217/12)*Pressupostos!K$14),(Pressupostos!$G217-SUM('6. Investimento'!$F89:I89))),0))","v":0},{"$f":"+IF(Pressupostos!L$14=0,0,IF(Pressupostos!$G217>SUM('6. Investimento'!$F89:J89),MIN(((Pressupostos!$G217/Pressupostos!$E217/12)*Pressupostos!L$14),(Pressupostos!$G217-SUM('6. Investimento'!$F89:J89))),0))","v":0}]
[null,null,"Projetos de desenvolvimento",7,null,null,{"$f":"+IF(Pressupostos!H$14=0,0,IF(Pressupostos!$H$217>SUM('6. Investimento'!F90:$F90),MIN(((Pressupostos!$H$217/Pressupostos!$E$217/12)*Pressupostos!H$14),(Pressupostos!$H$217-SUM('6. Investimento'!F90:$F90))),0))","v":0},{"$f":"+IF(Pressupostos!I$14=0,0,IF(Pressupostos!$H$217>SUM('6. Investimento'!$F90:G90),MIN(((Pressupostos!$H$217/Pressupostos!$E$217/12)*Pressupostos!I$14),(Pressupostos!$H$217-SUM('6. Investimento'!$F90:G90))),0))","v":0},{"$f":"+IF(Pressupostos!J$14=0,0,IF(Pressupostos!$H$217>SUM('6. Investimento'!$F90:H90),MIN(((Pressupostos!$H$217/Pressupostos!$E$217/12)*Pressupostos!J$14),(Pressupostos!$H$217-SUM('6. Investimento'!$F90:H90))),0))","v":0},{"$f":"+IF(Pressupostos!K$14=0,0,IF(Pressupostos!$H$217>SUM('6. Investimento'!$F90:I90),MIN(((Pressupostos!$H$217/Pressupostos!$E$217/12)*Pressupostos!K$14),(Pressupostos!$H$217-SUM('6. Investimento'!$F90:I90))),0))","v":0},{"$f":"+IF(Pressupostos!L$14=0,0,IF(Pressupostos!$H$217>SUM('6. Investimento'!$F90:J90),MIN(((Pressupostos!$H$217/Pressupostos!$E$217/12)*Pressupostos!L$14),(Pressupostos!$H$217-SUM('6. Investimento'!$F90:J90))),0))","v":0}]
[null,null,"Projetos de desenvolvimento",7,null,null,null,{"$f":"+IF(Pressupostos!I$14=0,0,IF(Pressupostos!$I$217>SUM('6. Investimento'!$F91:G91),MIN(((Pressupostos!$I$217/Pressupostos!$E$217/12)*Pressupostos!I$14),(Pressupostos!$I$217-SUM('6. Investimento'!$F91:G91))),0))","v":0},{"$f":"+IF(Pressupostos!J$14=0,0,IF(Pressupostos!$I$217>SUM('6. Investimento'!$F91:H91),MIN(((Pressupostos!$I$217/Pressupostos!$E$217/12)*Pressupostos!J$14),(Pressupostos!$I$217-SUM('6. Investimento'!$F91:H91))),0))","v":0},{"$f":"+IF(Pressupostos!K$14=0,0,IF(Pressupostos!$I$217>SUM('6. Investimento'!$F91:I91),MIN(((Pressupostos!$I$217/Pressupostos!$E$217/12)*Pressupostos!K$14),(Pressupostos!$I$217-SUM('6. Investimento'!$F91:I91))),0))","v":0},{"$f":"+IF(Pressupostos!L$14=0,0,IF(Pressupostos!$I$217>SUM('6. Investimento'!$F91:J91),MIN(((Pressupostos!$I$217/Pressupostos!$E$217/12)*Pressupostos!L$14),(Pressupostos!$I$217-SUM('6. Investimento'!$F91:J91))),0))","v":0}]
[null,null,"Projetos de desenvolvimento",7,null,null,null,null,{"$f":"+IF(Pressupostos!J$14=0,0,IF(Pressupostos!$J$217>SUM('6. Investimento'!$F92:H92),MIN(((Pressupostos!$J$217/Pressupostos!$E$217/12)*Pressupostos!J$14),(Pressupostos!$J$217-SUM('6. Investimento'!$F92:H92))),0))","v":0},{"$f":"+IF(Pressupostos!K$14=0,0,IF(Pressupostos!$J$217>SUM('6. Investimento'!$F92:I92),MIN(((Pressupostos!$J$217/Pressupostos!$E$217/12)*Pressupostos!K$14),(Pressupostos!$J$217-SUM('6. Investimento'!$F92:I92))),0))","v":0},{"$f":"+IF(Pressupostos!L$14=0,0,IF(Pressupostos!$J$217>SUM('6. Investimento'!$F92:J92),MIN(((Pressupostos!$J$217/Pressupostos!$E$217/12)*Pressupostos!L$14),(Pressupostos!$J$217-SUM('6. Investimento'!$F92:J92))),0))","v":0}]
[null,null,"Projetos de desenvolvimento",7,null,null,null,null,null,{"$f":"+IF(Pressupostos!K$14=0,0,IF(Pressupostos!$K$217>SUM('6. Investimento'!$F93:I93),MIN(((Pressupostos!$K$217/Pressupostos!$E$217/12)*Pressupostos!K$14),(Pressupostos!$K$217-SUM('6. Investimento'!$F93:I93))),0))","v":0},{"$f":"+IF(Pressupostos!L$14=0,0,IF(Pressupostos!$K$217>SUM('6. Investimento'!$F93:J93),MIN(((Pressupostos!$K$217/Pressupostos!$E$217/12)*Pressupostos!L$14),(Pressupostos!$K$217-SUM('6. Investimento'!$F93:J93))),0))","v":0}]
[null,null,"Projetos de desenvolvimento",7,null,null,null,null,null,null,{"$f":"+IF(Pressupostos!L$14=0,0,IF(Pressupostos!$L$217>SUM('6. Investimento'!$F94:J94),MIN(((Pressupostos!$L$217/Pressupostos!$E$217/12)*Pressupostos!L$14),(Pressupostos!$L$217-SUM('6. Investimento'!$F94:J94))),0))","v":0}]
[null,"x","Programas de Computador",null,null,{"$f":"SUM(F96:F101)","v":0},0,0,0,0,0]
[null,null,"Programas de Computador",8,null,{"$f":"+IF(Pressupostos!G$14=0,0,IF(Pressupostos!$G218>SUM('6. Investimento'!E96:$E96),MIN(((Pressupostos!$G218/Pressupostos!$E218/12)*Pressupostos!G$14),(Pressupostos!$G218-SUM('6. Investimento'!E96:$E96))),0))","v":0},{"$f":"+IF(Pressupostos!H$14=0,0,IF(Pressupostos!$G218>SUM('6. Investimento'!F96:$F96),MIN(((Pressupostos!$G218/Pressupostos!$E218/12)*Pressupostos!H$14),(Pressupostos!$G218-SUM('6. Investimento'!F96:$F96))),0))","v":0},{"$f":"+IF(Pressupostos!I$14=0,0,IF(Pressupostos!$G218>SUM('6. Investimento'!$F96:G96),MIN(((Pressupostos!$G218/Pressupostos!$E218/12)*Pressupostos!I$14),(Pressupostos!$G218-SUM('6. Investimento'!$F96:G96))),0))","v":0},{"$f":"+IF(Pressupostos!J$14=0,0,IF(Pressupostos!$G218>SUM('6. Investimento'!$F96:H96),MIN(((Pressupostos!$G218/Pressupostos!$E218/12)*Pressupostos!J$14),(Pressupostos!$G218-SUM('6. Investimento'!$F96:H96))),0))","v":0},{"$f":"+IF(Pressupostos!K$14=0,0,IF(Pressupostos!$G218>SUM('6. Investimento'!$F96:I96),MIN(((Pressupostos!$G218/Pressupostos!$E218/12)*Pressupostos!K$14),(Pressupostos!$G218-SUM('6. Investimento'!$F96:I96))),0))","v":0},{"$f":"+IF(Pressupostos!L$14=0,0,IF(Pressupostos!$G218>SUM('6. Investimento'!$F96:J96),MIN(((Pressupostos!$G218/Pressupostos!$E218/12)*Pressupostos!L$14),(Pressupostos!$G218-SUM('6. Investimento'!$F96:J96))),0))","v":0}]
[null,null,"Programas de Computador",8,null,null,{"$f":"+IF(Pressupostos!H$14=0,0,IF(Pressupostos!$H$218>SUM('6. Investimento'!F97:$F97),MIN(((Pressupostos!$H$218/Pressupostos!$E$218/12)*Pressupostos!H$14),(Pressupostos!$H$218-SUM('6. Investimento'!F97:$F97))),0))","v":0},{"$f":"+IF(Pressupostos!I$14=0,0,IF(Pressupostos!$H$218>SUM('6. Investimento'!$F97:G97),MIN(((Pressupostos!$H$218/Pressupostos!$E$218/12)*Pressupostos!I$14),(Pressupostos!$H$218-SUM('6. Investimento'!$F97:G97))),0))","v":0},{"$f":"+IF(Pressupostos!J$14=0,0,IF(Pressupostos!$H$218>SUM('6. Investimento'!$F97:H97),MIN(((Pressupostos!$H$218/Pressupostos!$E$218/12)*Pressupostos!J$14),(Pressupostos!$H$218-SUM('6. Investimento'!$F97:H97))),0))","v":0},{"$f":"+IF(Pressupostos!K$14=0,0,IF(Pressupostos!$H$218>SUM('6. Investimento'!$F97:I97),MIN(((Pressupostos!$H$218/Pressupostos!$E$218/12)*Pressupostos!K$14),(Pressupostos!$H$218-SUM('6. Investimento'!$F97:I97))),0))","v":0},{"$f":"+IF(Pressupostos!L$14=0,0,IF(Pressupostos!$H$218>SUM('6. Investimento'!$F97:J97),MIN(((Pressupostos!$H$218/Pressupostos!$E$218/12)*Pressupostos!L$14),(Pressupostos!$H$218-SUM('6. Investimento'!$F97:J97))),0))","v":0}]
[null,null,"Programas de Computador",8,null,null,null,{"$f":"+IF(Pressupostos!I$14=0,0,IF(Pressupostos!$I$218>SUM('6. Investimento'!$F98:G98),MIN(((Pressupostos!$I$218/Pressupostos!$E$218/12)*Pressupostos!I$14),(Pressupostos!$I$218-SUM('6. Investimento'!$F98:G98))),0))","v":0},{"$f":"+IF(Pressupostos!J$14=0,0,IF(Pressupostos!$I$218>SUM('6. Investimento'!$F98:H98),MIN(((Pressupostos!$I$218/Pressupostos!$E$218/12)*Pressupostos!J$14),(Pressupostos!$I$218-SUM('6. Investimento'!$F98:H98))),0))","v":0},{"$f":"+IF(Pressupostos!K$14=0,0,IF(Pressupostos!$I$218>SUM('6. Investimento'!$F98:I98),MIN(((Pressupostos!$I$218/Pressupostos!$E$218/12)*Pressupostos!K$14),(Pressupostos!$I$218-SUM('6. Investimento'!$F98:I98))),0))","v":0},{"$f":"+IF(Pressupostos!L$14=0,0,IF(Pressupostos!$I$218>SUM('6. Investimento'!$F98:J98),MIN(((Pressupostos!$I$218/Pressupostos!$E$218/12)*Pressupostos!L$14),(Pressupostos!$I$218-SUM('6. Investimento'!$F98:J98))),0))","v":0}]
[null,null,"Programas de Computador",8,null,null,null,null,{"$f":"+IF(Pressupostos!J$14=0,0,IF(Pressupostos!$J$218>SUM('6. Investimento'!$F99:H99),MIN(((Pressupostos!$J$218/Pressupostos!$E$218/12)*Pressupostos!J$14),(Pressupostos!$J$218-SUM('6. Investimento'!$F99:H99))),0))","v":0},{"$f":"+IF(Pressupostos!K$14=0,0,IF(Pressupostos!$J$218>SUM('6. Investimento'!$F99:I99),MIN(((Pressupostos!$J$218/Pressupostos!$E$218/12)*Pressupostos!K$14),(Pressupostos!$J$218-SUM('6. Investimento'!$F99:I99))),0))","v":0},{"$f":"+IF(Pressupostos!L$14=0,0,IF(Pressupostos!$J$218>SUM('6. Investimento'!$F99:J99),MIN(((Pressupostos!$J$218/Pressupostos!$E$218/12)*Pressupostos!L$14),(Pressupostos!$J$218-SUM('6. Investimento'!$F99:J99))),0))","v":0}]
[null,null,"Programas de Computador",8,null,null,null,null,null,{"$f":"+IF(Pressupostos!K$14=0,0,IF(Pressupostos!$K$218>SUM('6. Investimento'!$F100:I100),MIN(((Pressupostos!$K$218/Pressupostos!$E$218/12)*Pressupostos!K$14),(Pressupostos!$K$218-SUM('6. Investimento'!$F100:I100))),0))","v":0},{"$f":"+IF(Pressupostos!L$14=0,0,IF(Pressupostos!$K$218>SUM('6. Investimento'!$F100:J100),MIN(((Pressupostos!$K$218/Pressupostos!$E$218/12)*Pressupostos!L$14),(Pressupostos!$K$218-SUM('6. Investimento'!$F100:J100))),0))","v":0}]
[null,null,"Programas de Computador",8,null,null,null,null,null,null,{"$f":"+IF(Pressupostos!L$14=0,0,IF(Pressupostos!$L$218>SUM('6. Investimento'!$F101:J101),MIN(((Pressupostos!$L$218/Pressupostos!$E$218/12)*Pressupostos!L$14),(Pressupostos!$L$218-SUM('6. Investimento'!$F101:J101))),0))","v":0}]
[null,"x","Propriedade Industrial",null,null,{"$f":"+SUM(F103:F108)","v":0},0,0,0,0,0]
[null,null,"Propriedade Industrial",9,null,{"$f":"+IF(Pressupostos!G$14=0,0,IF(Pressupostos!$G219>SUM('6. Investimento'!E103:$E103),MIN(((Pressupostos!$G219/Pressupostos!$E219/12)*Pressupostos!G$14),(Pressupostos!$G219-SUM('6. Investimento'!E103:$E103))),0))","v":0},{"$f":"+IF(Pressupostos!H$14=0,0,IF(Pressupostos!$G219>SUM('6. Investimento'!F103:$F103),MIN(((Pressupostos!$G219/Pressupostos!$E219/12)*Pressupostos!H$14),(Pressupostos!$G219-SUM('6. Investimento'!F103:$F103))),0))","v":0},{"$f":"+IF(Pressupostos!I$14=0,0,IF(Pressupostos!$G219>SUM('6. Investimento'!$F103:G103),MIN(((Pressupostos!$G219/Pressupostos!$E219/12)*Pressupostos!I$14),(Pressupostos!$G219-SUM('6. Investimento'!$F103:G103))),0))","v":0},{"$f":"+IF(Pressupostos!J$14=0,0,IF(Pressupostos!$G219>SUM('6. Investimento'!$F103:H103),MIN(((Pressupostos!$G219/Pressupostos!$E219/12)*Pressupostos!J$14),(Pressupostos!$G219-SUM('6. Investimento'!$F103:H103))),0))","v":0},{"$f":"+IF(Pressupostos!K$14=0,0,IF(Pressupostos!$G219>SUM('6. Investimento'!$F103:I103),MIN(((Pressupostos!$G219/Pressupostos!$E219/12)*Pressupostos!K$14),(Pressupostos!$G219-SUM('6. Investimento'!$F103:I103))),0))","v":0},{"$f":"+IF(Pressupostos!L$14=0,0,IF(Pressupostos!$G219>SUM('6. Investimento'!$F103:J103),MIN(((Pressupostos!$G219/Pressupostos!$E219/12)*Pressupostos!L$14),(Pressupostos!$G219-SUM('6. Investimento'!$F103:J103))),0))","v":0}]
[null,null,"Propriedade Industrial",9,null,null,{"$f":"+IF(Pressupostos!H$14=0,0,IF(Pressupostos!$H$219>SUM('6. Investimento'!F104:$F104),MIN(((Pressupostos!$H$219/Pressupostos!$E$219/12)*Pressupostos!H$14),(Pressupostos!$H$219-SUM('6. Investimento'!F104:$F104))),0))","v":0},{"$f":"+IF(Pressupostos!I$14=0,0,IF(Pressupostos!$H$219>SUM('6. Investimento'!$F104:G104),MIN(((Pressupostos!$H$219/Pressupostos!$E$219/12)*Pressupostos!I$14),(Pressupostos!$H$219-SUM('6. Investimento'!$F104:G104))),0))","v":0},{"$f":"+IF(Pressupostos!J$14=0,0,IF(Pressupostos!$H$219>SUM('6. Investimento'!$F104:H104),MIN(((Pressupostos!$H$219/Pressupostos!$E$219/12)*Pressupostos!J$14),(Pressupostos!$H$219-SUM('6. Investimento'!$F104:H104))),0))","v":0},{"$f":"+IF(Pressupostos!K$14=0,0,IF(Pressupostos!$H$219>SUM('6. Investimento'!$F104:I104),MIN(((Pressupostos!$H$219/Pressupostos!$E$219/12)*Pressupostos!K$14),(Pressupostos!$H$219-SUM('6. Investimento'!$F104:I104))),0))","v":0},{"$f":"+IF(Pressupostos!L$14=0,0,IF(Pressupostos!$H$219>SUM('6. Investimento'!$F104:J104),MIN(((Pressupostos!$H$219/Pressupostos!$E$219/12)*Pressupostos!L$14),(Pressupostos!$H$219-SUM('6. Investimento'!$F104:J104))),0))","v":0}]
[null,null,"Propriedade Industrial",9,null,null,null,{"$f":"+IF(Pressupostos!I$14=0,0,IF(Pressupostos!$I$219>SUM('6. Investimento'!$F105:G105),MIN(((Pressupostos!$I$219/Pressupostos!$E$219/12)*Pressupostos!I$14),(Pressupostos!$I$219-SUM('6. Investimento'!$F105:G105))),0))","v":0},{"$f":"+IF(Pressupostos!J$14=0,0,IF(Pressupostos!$I$219>SUM('6. Investimento'!$F105:H105),MIN(((Pressupostos!$I$219/Pressupostos!$E$219/12)*Pressupostos!J$14),(Pressupostos!$I$219-SUM('6. Investimento'!$F105:H105))),0))","v":0},{"$f":"+IF(Pressupostos!K$14=0,0,IF(Pressupostos!$I$219>SUM('6. Investimento'!$F105:I105),MIN(((Pressupostos!$I$219/Pressupostos!$E$219/12)*Pressupostos!K$14),(Pressupostos!$I$219-SUM('6. Investimento'!$F105:I105))),0))","v":0},{"$f":"+IF(Pressupostos!L$14=0,0,IF(Pressupostos!$I$219>SUM('6. Investimento'!$F105:J105),MIN(((Pressupostos!$I$219/Pressupostos!$E$219/12)*Pressupostos!L$14),(Pressupostos!$I$219-SUM('6. Investimento'!$F105:J105))),0))","v":0}]
[null,null,"Propriedade Industrial",9,null,null,null,null,{"$f":"+IF(Pressupostos!J$14=0,0,IF(Pressupostos!$J$219>SUM('6. Investimento'!$F106:H106),MIN(((Pressupostos!$J$219/Pressupostos!$E$219/12)*Pressupostos!J$14),(Pressupostos!$J$219-SUM('6. Investimento'!$F106:H106))),0))","v":0},{"$f":"+IF(Pressupostos!K$14=0,0,IF(Pressupostos!$J$219>SUM('6. Investimento'!$F106:I106),MIN(((Pressupostos!$J$219/Pressupostos!$E$219/12)*Pressupostos!K$14),(Pressupostos!$J$219-SUM('6. Investimento'!$F106:I106))),0))","v":0},{"$f":"+IF(Pressupostos!L$14=0,0,IF(Pressupostos!$J$219>SUM('6. Investimento'!$F106:J106),MIN(((Pressupostos!$J$219/Pressupostos!$E$219/12)*Pressupostos!L$14),(Pressupostos!$J$219-SUM('6. Investimento'!$F106:J106))),0))","v":0}]
[null,null,"Propriedade Industrial",9,null,null,null,null,null,{"$f":"+IF(Pressupostos!K$14=0,0,IF(Pressupostos!$K$219>SUM('6. Investimento'!$F107:I107),MIN(((Pressupostos!$K$219/Pressupostos!$E$219/12)*Pressupostos!K$14),(Pressupostos!$K$219-SUM('6. Investimento'!$F107:I107))),0))","v":0},{"$f":"+IF(Pressupostos!L$14=0,0,IF(Pressupostos!$K$219>SUM('6. Investimento'!$F107:J107),MIN(((Pressupostos!$K$219/Pressupostos!$E$219/12)*Pressupostos!L$14),(Pressupostos!$K$219-SUM('6. Investimento'!$F107:J107))),0))","v":0}]
[null,null,"Propriedade Industrial",9,null,null,null,null,null,null,{"$f":"+IF(Pressupostos!L$14=0,0,IF(Pressupostos!$L$219>SUM('6. Investimento'!$F108:J108),MIN(((Pressupostos!$L$219/Pressupostos!$E$219/12)*Pressupostos!L$14),(Pressupostos!$L$219-SUM('6. Investimento'!$F108:J108))),0))","v":0}]
[null,"x","Outros Ativos Intangíveis",null,null,{"$f":"+SUM(F110:F115)","v":0},0,0,0,0,0]
[null,null,"Outros Ativos Intangíveis",10,null,{"$f":"+IF(Pressupostos!G$14=0,0,IF(Pressupostos!$G220>SUM('6. Investimento'!E110:$E110),MIN(((Pressupostos!$G220/Pressupostos!$E220/12)*Pressupostos!G$14),(Pressupostos!$G220-SUM('6. Investimento'!E110:$E110))),0))","v":0},{"$f":"+IF(Pressupostos!H$14=0,0,IF(Pressupostos!$G220>SUM('6. Investimento'!$F110:F110),MIN(((Pressupostos!$G220/Pressupostos!$E220/12)*Pressupostos!H$14),(Pressupostos!$G220-SUM('6. Investimento'!$F110:F110))),0))","v":0},{"$f":"+IF(Pressupostos!I$14=0,0,IF(Pressupostos!$G220>SUM('6. Investimento'!$F110:G110),MIN(((Pressupostos!$G220/Pressupostos!$E220/12)*Pressupostos!I$14),(Pressupostos!$G220-SUM('6. Investimento'!$F110:G110))),0))","v":0},{"$f":"+IF(Pressupostos!J$14=0,0,IF(Pressupostos!$G220>SUM('6. Investimento'!$F110:H110),MIN(((Pressupostos!$G220/Pressupostos!$E220/12)*Pressupostos!J$14),(Pressupostos!$G220-SUM('6. Investimento'!$F110:H110))),0))","v":0},{"$f":"+IF(Pressupostos!K$14=0,0,IF(Pressupostos!$G220>SUM('6. Investimento'!$F110:I110),MIN(((Pressupostos!$G220/Pressupostos!$E220/12)*Pressupostos!K$14),(Pressupostos!$G220-SUM('6. Investimento'!$F110:I110))),0))","v":0},{"$f":"+IF(Pressupostos!L$14=0,0,IF(Pressupostos!$G220>SUM('6. Investimento'!$F110:J110),MIN(((Pressupostos!$G220/Pressupostos!$E220/12)*Pressupostos!L$14),(Pressupostos!$G220-SUM('6. Investimento'!$F110:J110))),0))","v":0}]
[null,null,"Outros Ativos Intangíveis",10,null,null,{"$f":"+IF(Pressupostos!H$14=0,0,IF(Pressupostos!$H$220>SUM('6. Investimento'!F111:$F111),MIN(((Pressupostos!$H$220/Pressupostos!$E$220/12)*Pressupostos!H$14),(Pressupostos!$H$220-SUM('6. Investimento'!F111:$F111))),0))","v":0},{"$f":"+IF(Pressupostos!I$14=0,0,IF(Pressupostos!$H$220>SUM('6. Investimento'!$F111:G111),MIN(((Pressupostos!$H$220/Pressupostos!$E$220/12)*Pressupostos!I$14),(Pressupostos!$H$220-SUM('6. Investimento'!$F111:G111))),0))","v":0},{"$f":"+IF(Pressupostos!J$14=0,0,IF(Pressupostos!$H$220>SUM('6. Investimento'!$F111:H111),MIN(((Pressupostos!$H$220/Pressupostos!$E$220/12)*Pressupostos!J$14),(Pressupostos!$H$220-SUM('6. Investimento'!$F111:H111))),0))","v":0},{"$f":"+IF(Pressupostos!K$14=0,0,IF(Pressupostos!$H$220>SUM('6. Investimento'!$F111:I111),MIN(((Pressupostos!$H$220/Pressupostos!$E$220/12)*Pressupostos!K$14),(Pressupostos!$H$220-SUM('6. Investimento'!$F111:I111))),0))","v":0},{"$f":"+IF(Pressupostos!L$14=0,0,IF(Pressupostos!$H$220>SUM('6. Investimento'!$F111:J111),MIN(((Pressupostos!$H$220/Pressupostos!$E$220/12)*Pressupostos!L$14),(Pressupostos!$H$220-SUM('6. Investimento'!$F111:J111))),0))","v":0}]
[null,null,"Outros Ativos Intangíveis",10,null,null,null,{"$f":"+IF(Pressupostos!I$14=0,0,IF(Pressupostos!$I$220>SUM('6. Investimento'!$F112:G112),MIN(((Pressupostos!$I$220/Pressupostos!$E$220/12)*Pressupostos!I$14),(Pressupostos!$I$220-SUM('6. Investimento'!$F112:G112))),0))","v":0},{"$f":"+IF(Pressupostos!J$14=0,0,IF(Pressupostos!$I$220>SUM('6. Investimento'!$F112:H112),MIN(((Pressupostos!$I$220/Pressupostos!$E$220/12)*Pressupostos!J$14),(Pressupostos!$I$220-SUM('6. Investimento'!$F112:H112))),0))","v":0},{"$f":"+IF(Pressupostos!K$14=0,0,IF(Pressupostos!$I$220>SUM('6. Investimento'!$F112:I112),MIN(((Pressupostos!$I$220/Pressupostos!$E$220/12)*Pressupostos!K$14),(Pressupostos!$I$220-SUM('6. Investimento'!$F112:I112))),0))","v":0},{"$f":"+IF(Pressupostos!L$14=0,0,IF(Pressupostos!$I$220>SUM('6. Investimento'!$F112:J112),MIN(((Pressupostos!$I$220/Pressupostos!$E$220/12)*Pressupostos!L$14),(Pressupostos!$I$220-SUM('6. Investimento'!$F112:J112))),0))","v":0}]
[null,null,"Outros Ativos Intangíveis",10,null,null,null,null,{"$f":"+IF(Pressupostos!J$14=0,0,IF(Pressupostos!$J$220>SUM('6. Investimento'!$F113:H113),MIN(((Pressupostos!$J$220/Pressupostos!$E$220/12)*Pressupostos!J$14),(Pressupostos!$J$220-SUM('6. Investimento'!$F113:H113))),0))","v":0},{"$f":"+IF(Pressupostos!K$14=0,0,IF(Pressupostos!$J$220>SUM('6. Investimento'!$F113:I113),MIN(((Pressupostos!$J$220/Pressupostos!$E$220/12)*Pressupostos!K$14),(Pressupostos!$J$220-SUM('6. Investimento'!$F113:I113))),0))","v":0},{"$f":"+IF(Pressupostos!L$14=0,0,IF(Pressupostos!$J$220>SUM('6. Investimento'!$F113:J113),MIN(((Pressupostos!$J$220/Pressupostos!$E$220/12)*Pressupostos!L$14),(Pressupostos!$J$220-SUM('6. Investimento'!$F113:J113))),0))","v":0}]
[null,null,"Outros Ativos Intangíveis",10,null,null,null,null,null,{"$f":"+IF(Pressupostos!K$14=0,0,IF(Pressupostos!$K$220>SUM('6. Investimento'!$F114:I114),MIN(((Pressupostos!$K$220/Pressupostos!$E$220/12)*Pressupostos!K$14),(Pressupostos!$K$220-SUM('6. Investimento'!$F114:I114))),0))","v":0},{"$f":"+IF(Pressupostos!L$14=0,0,IF(Pressupostos!$K$220>SUM('6. Investimento'!$F114:J114),MIN(((Pressupostos!$K$220/Pressupostos!$E$220/12)*Pressupostos!L$14),(Pressupostos!$K$220-SUM('6. Investimento'!$F114:J114))),0))","v":0},null,{"$f":"+IF(Pressupostos!N$14=0,0,IF(Pressupostos!$I$220>SUM('6. Investimento'!$F114:L114),MIN(((Pressupostos!$I$220/Pressupostos!$E$220/12)*Pressupostos!N$14),(Pressupostos!$I$220-SUM('6. Investimento'!$F114:L114))),0))","v":0}]
[null,null,"Outros Ativos Intangíveis",10,null,null,null,null,null,null,{"$f":"+IF(Pressupostos!L$14=0,0,IF(Pressupostos!$L$220>SUM('6. Investimento'!$F115:J115),MIN(((Pressupostos!$L$220/Pressupostos!$E$220/12)*Pressupostos!L$14),(Pressupostos!$L$220-SUM('6. Investimento'!$F115:J115))),0))","v":0},null,{"$f":"+IF(Pressupostos!N$14=0,0,IF(Pressupostos!$I$220>SUM('6. Investimento'!$F115:L115),MIN(((Pressupostos!$I$220/Pressupostos!$E$220/12)*Pressupostos!N$14),(Pressupostos!$I$220-SUM('6. Investimento'!$F115:L115))),0))","v":0},{"$f":"+IF(Pressupostos!O$14=0,0,IF(Pressupostos!$I$220>SUM('6. Investimento'!$F115:M115),MIN(((Pressupostos!$I$220/Pressupostos!$E$220/12)*Pressupostos!O$14),(Pressupostos!$I$220-SUM('6. Investimento'!$F115:M115))),0))","v":0}]
[]
[null,null,"Valor D&A (Auxiliar)","Amort.",null,{"$f":"+SUM(F118:F128)","v":0},{"$f":"+SUM(G118:G128)","v":0},0,0,0,0]
[null,null,"Terrenos e Recursos Naturais",{"$f":"+Pressupostos!E209","v":0},null,{"$f":"+IFERROR(Pressupostos!G209/$D$118,\"\")","v":""},{"$f":"+IFERROR(Pressupostos!H209/$D$118,\"\")","v":""},{"$f":"+IFERROR(Pressupostos!I209/$D$118,\"\")","v":""},{"$f":"+IFERROR(Pressupostos!J209/$D$118,\"\")","v":""},{"$f":"+IFERROR(Pressupostos!K209/$D$118,\"\")","v":""},{"$f":"+IFERROR(Pressupostos!L209/$D$118,\"\")","v":""}]
[null,null,"Edifícios e outras construções",{"$f":"+Pressupostos!E210","v":0},null,{"$f":"+IFERROR(Pressupostos!G210/$D$119,\"\")","v":""},{"$f":"+IFERROR(Pressupostos!H210/$D$119,\"\")","v":""},{"$f":"+IFERROR(Pressupostos!I210/$D$119,\"\")","v":""},{"$f":"+IFERROR(Pressupostos!J210/$D$119,\"\")","v":""},{"$f":"+IFERROR(Pressupostos!K210/$D$119,\"\")","v":""},{"$f":"+IFERROR(Pressupostos!L210/$D$119,\"\")","v":""}]
[null,null,"Equipamento básico ",{"$f":"+Pressupostos!E211","v":0},null,{"$f":"+IFERROR(Pressupostos!G211/$D$120,\"\")","v":""},{"$f":"+IFERROR(Pressupostos!H211/$D$120,\"\")","v":""},{"$f":"+IFERROR(Pressupostos!I211/$D$120,\"\")","v":""},{"$f":"+IFERROR(Pressupostos!J211/$D$120,\"\")","v":""},{"$f":"+IFERROR(Pressupostos!K211/$D$120,\"\")","v":""},{"$f":"+IFERROR(Pressupostos!L211/$D$120,\"\")","v":""}]
[null,null,"Equipamento ligeiro",{"$f":"+Pressupostos!E212","v":0},null,{"$f":"+IFERROR(Pressupostos!G212/$D$121,\"\")","v":""},{"$f":"+IFERROR(Pressupostos!H212/$D$121,\"\")","v":""},{"$f":"+IFERROR(Pressupostos!I212/$D$121,\"\")","v":""},{"$f":"+IFERROR(Pressupostos!J212/$D$121,\"\")","v":""},{"$f":"+IFERROR(Pressupostos!K212/$D$121,\"\")","v":""},{"$f":"+IFERROR(Pressupostos!L212/$D$121,\"\")","v":""}]
[null,null,"Equipamento de transporte",{"$f":"+Pressupostos!E213","v":0},null,{"$f":"+IFERROR(Pressupostos!G213/$D$122,\"\")","v":""},{"$f":"+IFERROR(Pressupostos!H213/$D$122,\"\")","v":""},{"$f":"+IFERROR(Pressupostos!I213/$D$122,\"\")","v":""},{"$f":"+IFERROR(Pressupostos!J213/$D$122,\"\")","v":""},{"$f":"+IFERROR(Pressupostos!K213/$D$122,\"\")","v":""},{"$f":"+IFERROR(Pressupostos!L213/$D$122,\"\")","v":""}]
[null,null,"Equipamento administrativo",{"$f":"+Pressupostos!E214","v":0},null,{"$f":"+IFERROR(Pressupostos!G214/$D$123,\"\")","v":""},{"$f":"+IFERROR(Pressupostos!H214/$D$123,\"\")","v":""},{"$f":"+IFERROR(Pressupostos!I214/$D$123,\"\")","v":""},{"$f":"+IFERROR(Pressupostos!J214/$D$123,\"\")","v":""},{"$f":"+IFERROR(Pressupostos!K214/$D$123,\"\")","v":""},{"$f":"+IFERROR(Pressupostos!L214/$D$123,\"\")","v":""}]
[null,null,"Outros Ativos Fixos Tangíveis",{"$f":"+Pressupostos!E215","v":0},null,{"$f":"+IFERROR(Pressupostos!G215/$D$124,\"\")","v":""},{"$f":"+IFERROR(Pressupostos!H215/$D$124,\"\")","v":""},{"$f":"+IFERROR(Pressupostos!I215/$D$124,\"\")","v":""},{"$f":"+IFERROR(Pressupostos!J215/$D$124,\"\")","v":""},{"$f":"+IFERROR(Pressupostos!K215/$D$124,\"\")","v":""},{"$f":"+IFERROR(Pressupostos!L215/$D$124,\"\")","v":""}]
[null,null,"Projetos de desenvolvimento",{"$f":"+Pressupostos!E217","v":0},null,{"$f":"+IFERROR(Pressupostos!G217/$D$125,\"\")","v":""},{"$f":"+IFERROR(Pressupostos!H217/$D$125,\"\")","v":""},{"$f":"+IFERROR(Pressupostos!I217/$D$125,\"\")","v":""},{"$f":"+IFERROR(Pressupostos!J217/$D$125,\"\")","v":""},{"$f":"+IFERROR(Pressupostos!K217/$D$125,\"\")","v":""},{"$f":"+IFERROR(Pressupostos!L217/$D$125,\"\")","v":""}]
[null,null,"Programas de Computador",{"$f":"+Pressupostos!E218","v":0},null,{"$f":"+IFERROR(Pressupostos!G218/$D$126,\"\")","v":""},{"$f":"+IFERROR(Pressupostos!H218/$D$126,\"\")","v":""},{"$f":"+IFERROR(Pressupostos!I218/$D$126,\"\")","v":""},{"$f":"+IFERROR(Pressupostos!J218/$D$126,\"\")","v":""},{"$f":"+IFERROR(Pressupostos!K218/$D$126,\"\")","v":""},{"$f":"+IFERROR(Pressupostos!L218/$D$126,\"\")","v":""}]
[null,null,"Propriedade Industrial",{"$f":"+Pressupostos!E219","v":0},null,{"$f":"+IFERROR(Pressupostos!G219/$D$127,\"\")","v":""},{"$f":"+IFERROR(Pressupostos!H219/$D$127,\"\")","v":""},{"$f":"+IFERROR(Pressupostos!I219/$D$127,\"\")","v":""},{"$f":"+IFERROR(Pressupostos!J219/$D$127,\"\")","v":""},{"$f":"+IFERROR(Pressupostos!K219/$D$127,\"\")","v":""},{"$f":"+IFERROR(Pressupostos!L219/$D$127,\"\")","v":""}]
[null,null,"Outros Ativos Intangíveis",4,null,{"$f":"+IFERROR(Pressupostos!G220/$D$128,\"\")","v":0},{"$f":"+IFERROR(Pressupostos!H220/$D$128,\"\")","v":0},{"$f":"+IFERROR(Pressupostos!I220/$D$128,\"\")","v":0},{"$f":"+IFERROR(Pressupostos!J220/$D$128,\"\")","v":0},{"$f":"+IFERROR(Pressupostos!K220/$D$128,\"\")","v":0},{"$f":"+IFERROR(Pressupostos!L220/$D$128,\"\")","v":0}]
[]
[]
[null,null,"Cofinanciado por:"]
[]
[]
[]
[]
[]
[]
[]
[]
[]
[]
[]
[]
[]
[]
[]
[]
[]
[]
[]
[]
[]
[]
[]
[]
[]
[]
[]
[]
[]
[]
[]
[]
[]
[]
[]
[]
[]
[]
[]
[]
[]
[]
[]
[]
[]
[]
[]
[]
[]
[]
[null,null,"Custos com pessoal"]
[null,null,"Outros Custos"]
[null,null,"Receita 2"]
[null,null,"Ano anterior"]
[null,null,"Custos com mercadorias e matérias"]
[null,null,"FSE"]
[null,null,"Custos com pessoal"]
[null,null,"Outros Custos"]
[null,null,"Outros"]
[null,null,"Imposto sobre o rendimento"]

{"sheet":"CAE","index":9,"n_rows":558,"n_cols":1,"rows_kept":558,"cut":false,"hidden":true,"merged":[]}
[111]
[112]
[113]
[114]
[115]
[116]
[119]
[121]
[122]
[123]
[124]
[125]
[126]
[127]
[128]
[129]
[130]
[141]
[142]
[143]
[144]
[145]
[146]
[147]
[149]
[150]
[161]
[162]
[163]
[164]
[170]
[210]
[220]
[230]
[240]
[311]
[312]
[321]
[322]
[510]
[520]
[610]
[620]
[710]
[721]
[729]
[811]
[812]
[891]
[892]
[893]
[899]
[910]
[990]
[1011]
[1012]
[1013]
[1020]
[1031]
[1032]
[1039]
[1041]
[1103]
[1104]
[1105]
[1106]
[1107]
[1200]
[1310]
[1320]
[1330]
[1391]
[1392]
[1393]
[1394]
[1395]
[1396]
[1399]
[1411]
[1412]
[1413]
[1414]
[1419]
[1420]
[1431]
[1439]
[1511]
[1512]
[1520]
[1721]
[1722]
[1723]
[1724]
[1729]
[1811]
[1812]
[1813]
[1814]
[1820]
[1910]
[1920]
[2011]
[2012]
[2013]
[2014]
[2015]
[2016]
[2017]
[2020]
[2030]
[2041]
[2042]
[2051]
[2052]
[2053]
[2059]
[2060]
[2110]
[2120]
[2211]
[2219]
[2221]
[2222]
[2223]
[2229]
[2311]
[2312]
[2313]
[2314]
[2319]
[2320]
[2331]
[2332]
[2341]
[2342]
[2343]
[2344]
[2349]
[2351]
[2352]
[2361]
[2362]
[2363]
[2364]
[2365]
[2369]
[2370]
[2391]
[2399]
[2410]
[2420]
[2431]
[2432]
[2433]
[2434]
[2441]
[2442]
[2443]
[2444]
[2445]
[2446]
[2451]
[2452]
[2453]
[2454]
[2511]
[2512]
[2521]
[2529]
[2530]
[2540]
[2550]
[2561]
[2562]
[2571]
[2572]
[2573]
[2591]
[2592]
[2593]
[2594]
[2599]
[2611]
[2612]
[2620]
[2630]
[2640]
[2651]
[2652]
[2660]
[2670]
[2680]
[2711]
[2712]
[2720]
[2731]
[2732]
[2733]
[2740]
[2751]
[2752]
[2790]
[2811]
[2812]
[2813]
[2814]
[2815]
[2821]
[2822]
[2823]
[2824]
[2825]
[2829]
[2830]
[2841]
[2849]
[2891]
[2892]
[2893]
[2894]
[2895]
[2896]
[2899]
[2910]
[2920]
[2931]
[2932]
[3011]
[3012]
[3020]
[3030]
[3040]
[3091]
[3092]
[3099]
[3101]
[3102]
[3103]
[3109]
[3211]
[3212]
[3213]
[3220]
[3230]
[3240]
[3250]
[3291]
[3299]
[3311]
[3312]
[3313]
[3314]
[3315]
[3316]
[3317]
[3319]
[3320]
[3511]
[3512]
[3513]
[3514]
[3521]
[3522]
[3523]
[3530]
[3600]
[3700]
[3811]
[3812]
[3821]
[3822]
[3831]
[3832]
[3900]
[4110]
[4120]
[4211]
[4212]
[4213]
[4221]
[4222]
[4291]
[4299]
[4311]
[4312]
[4313]
[4321]
[4322]
[4329]
[4331]
[4332]
[4333]
[4334]
[4339]
[4391]
[4399]
[4511]
[4519]
[4520]
[4531]
[4532]
[4540]
[4611]
[4612]
[4613]
[4614]
[4615]
[4616]
[4617]
[4618]
[4619]
[4621]
[4622]
[4623]
[4624]
[4631]
[4646]
[4647]
[4648]
[4649]
[4651]
[4652]
[4661]
[4662]
[4663]
[4664]
[4665]
[4666]
[4669]
[4671]
[4672]
[4673]
[4674]
[4675]
[4676]
[4677]
[4690]
[4711]
[4719]
[4721]
[4722]
[4723]
[4724]
[4725]
[4726]
[4729]
[4730]
[4741]
[4742]
[4743]
[4751]
[4752]
[4753]
[4754]
[4759]
[4761]
[4762]
[4763]
[4764]
[4765]
[4771]
[4772]
[4773]
[4774]
[4775]
[4776]
[4777]
[4778]
[4779]
[4781]
[4782]
[4789]
[4791]
[4799]
[4910]
[4920]
[4931]
[4932]
[4939]
[4941]
[4942]
[4950]
[5010]
[5020]
[5030]
[5040]
[5110]
[5121]
[5122]
[5210]
[5221]
[5222]
[5223]
[5224]
[5229]
[5310]
[5320]
[5511]
[5512]
[5911]
[5912]
[5913]
[5914]
[5920]
[6010]
[6020]
[6110]
[6120]
[6130]
[6190]
[6201]
[6202]
[6203]
[6209]
[6311]
[6312]
[6391]
[6399]
[6411]
[6419]
[6420]
[6430]
[6491]
[6492]
[6499]
[6511]
[6512]
[6520]
[6530]
[6611]
[6612]
[6619]
[6621]
[6622]
[6629]
[6630]
[6810]
[6820]
[6831]
[6832]
[6910]
[6920]
[7010]
[7021]
[7022]
[7111]
[7112]
[7120]
[7211]
[7219]
[7220]
[7311]
[7312]
[7320]
[7410]
[7420]
[7430]
[7490]
[7500]
[7711]
[7712]
[7721]
[7722]
[7729]
[7731]
[7732]
[7733]
[7734]
[7735]
[7739]
[7740]
[7810]
[7820]
[7830]
[7911]
[7912]
[7990]
[8010]
[8020]
[8030]
[8110]
[8121]
[8122]
[8129]
[8130]
[8211]
[8219]
[8220]
[8230]
[8291]
[8292]
[8299]
[8411]
[8412]
[8413]
[8421]
[8422]
[8423]
[8424]
[8425]
[8430]
[8510]
[8520]
[8531]
[8532]
[8541]
[8542]
[8551]
[8552]
[8553]
[8559]
[8560]
[8610]
[8621]
[8622]
[8623]
[8690]
[8710]
[8720]
[8730]
[9001]
[9002]
[9003]
[9004]
[9101]
[9102]
[9103]
[9104]
[9200]
[9311]
[9312]
[9313]
[9319]
[9321]
[9329]
[9411]
[9412]
[9420]
[9491]
[9492]
[9499]
[9511]
[9512]
[9521]
[9522]
[9523]
[9524]
[9525]
[9529]
[9601]
[9602]
[9603]
[9604]
[9609]
[9700]
[9810]
[9820]
[9900]

{"sheet":"7. Serviço da Dívida","index":10,"n_rows":47,"n_cols":12,"rows_kept":47,"cut":false,"hidden":false,"merged":[]}
[]
[null,null,"7. Serviço da Dívida"]
[]
[null,null,{"$f":"+Capa!C13","v":"<Nome do Projeto>"},null,{"$f":"+AnoN","v":0},{"$f":"+E4+1","v":1},{"$f":"+F4+1","v":2},3,4,5,{"$f":"+J4+1","v":6},7]
[null,null,null,null,1,{"$f":"+E5+1","v":2},3,4,5,6,7,8]
[null,null,"Total de Financiamentos",null,{"$f":"+SUM(E7:E8)","v":{"$error":"#VALUE!"}},{"$f":"+SUM(F7:F8)","v":{"$error":"#VALUE!"}},{"$error":"#VALUE!"},{"$error":"#VALUE!"},{"$error":"#VALUE!"},{"$error":"#VALUE!"}]
[null,null,"Total de Financiamentos MLP",null,{"$f":"+SUMIFS(E$29:E$1016,$C$29:$C$1016,\"Capital em dívida no final do período\",$B$29:$B$1016,\"MLP\")","v":0},0,0,0,0,0]
[null,null,"Total de Financiamentos CP",null,{"$f":"+SUMIFS(E$29:E$1016,$C$29:$C$1016,\"Capital em dívida no final do período\",$B$29:$B$1016,\"CP\")+E20","v":{"$error":"#VALUE!"}},{"$error":"#VALUE!"},{"$error":"#VALUE!"},{"$error":"#VALUE!"},{"$error":"#VALUE!"},{"$error":"#VALUE!"}]
[null,null,"Total das amortizações (reembolso de capital)",null,{"$f":"+SUM(E10:E11)","v":0},{"$f":"+SUM(F10:F11)","v":{"$error":"#VALUE!"}},{"$error":"#VALUE!"},{"$error":"#VALUE!"},{"$error":"#VALUE!"},{"$error":"#VALUE!"}]
[null,null,"Total das amortizações MLP",null,{"$f":"+SUMIFS(E$29:E$1016,$C$29:$C$1016,\"Amortização de dívida\",$B$29:$B$1016,\"MLP\")","v":0},0,0,0,0,0]
[null,null,"Total das amortizações CP",null,{"$f":"+SUMIFS(E$29:E$1016,$C$29:$C$1016,\"Amortização de dívida\",$B$29:$B$1016,\"CP\")+E19","v":0},{"$error":"#VALUE!"},{"$error":"#VALUE!"},{"$error":"#VALUE!"},{"$error":"#VALUE!"},{"$error":"#VALUE!"}]
[null,null,"Juros e Gastos Similares Suportados",null,{"$f":"+SUMIF($C$29:$C$10016,\"Juros e Gastos Similares Suportados\",E$29:E$1016)+E21","v":0},{"$error":"#VALUE!"},{"$error":"#VALUE!"},{"$error":"#VALUE!"},{"$error":"#VALUE!"},{"$error":"#VALUE!"},{"$f":"+SUMIF($C$29:$C$10016,\"Juros e Gastos Similares Suportados\",K$29:K$1016)","v":0},{"$f":"+SUMIF($C$29:$C$10016,\"Juros e Gastos Similares Suportados\",L$29:L$1016)","v":0}]
[]
[null,null,"Financiamento Bancário (Necessidades de Tesouraria)"]
[null,null,"Capital contratualizado",null,{"$f":"+'8. Mapa de tesouraria'!E60","v":{"$error":"#VALUE!"}},{"$f":"+'8. Mapa de tesouraria'!F60","v":{"$error":"#VALUE!"}},{"$f":"+'8. Mapa de tesouraria'!G60","v":{"$error":"#VALUE!"}},{"$f":"+'8. Mapa de tesouraria'!H60","v":{"$error":"#VALUE!"}},{"$f":"+'8. Mapa de tesouraria'!I60","v":{"$error":"#VALUE!"}},{"$f":"+'8. Mapa de tesouraria'!J60","v":{"$error":"#VALUE!"}}]
[null,null,"Taxa de juro anual",{"$f":"+Pressupostos!E236","v":0}]
[null,null,"Serviço da dívida"]
[null,"CP","Capital em dívida no início do período",null,0,{"$f":"+E20","v":{"$error":"#VALUE!"}},{"$f":"+F20","v":{"$error":"#VALUE!"}},{"$error":"#VALUE!"},{"$error":"#VALUE!"},{"$error":"#VALUE!"},{"$f":"IF($D$25>$H$4,0,IF($D$25=$H$4,$D$24,IF($D$25<$H$4,J20,0)))","v":{"$error":"#VALUE!"}},{"$f":"IF($D$25>$H$4,0,IF($D$25=$H$4,$D$24,IF($D$25<$H$4,K20,0)))","v":{"$error":"#VALUE!"}}]
[null,"CP","Amortização de dívida",null,{"$f":"+D15","v":0},{"$f":"+E15","v":{"$error":"#VALUE!"}},{"$error":"#VALUE!"},{"$error":"#VALUE!"},{"$error":"#VALUE!"},{"$error":"#VALUE!"},{"$f":"+IF(K$4<$D$25,0,IF(K$4-($D$25+$D$27)<0,0,MIN($D$24/$D$26,$D$24-SUM($D19:J19))))","v":{"$error":"#VALUE!"}},{"$f":"+IF(L$4<$D$25,0,IF(L$4-($D$25+$D$27)<0,0,MIN($D$24/$D$26,$D$24-SUM($D19:K19))))","v":{"$error":"#VALUE!"}}]
[null,"CP","Capital em dívida no final do período",null,{"$f":"+E19-E18+E15","v":{"$error":"#VALUE!"}},{"$f":"+F19-F18+F15","v":{"$error":"#VALUE!"}},{"$error":"#VALUE!"},{"$error":"#VALUE!"},{"$error":"#VALUE!"},{"$f":"+J19-J18+J15","v":{"$error":"#VALUE!"}},{"$f":"+K18-K19","v":{"$error":"#VALUE!"}},{"$f":"+L18-L19","v":{"$error":"#VALUE!"}}]
[null,null,"Juros e Gastos Similares Suportados",null,{"$f":"+E18*($D$16*(1+Pressupostos!$D$21))","v":0},{"$f":"+F18*($D$16*(1+Pressupostos!$D$21))","v":{"$error":"#VALUE!"}},{"$f":"+G18*($D$16*(1+Pressupostos!$D$21))","v":{"$error":"#VALUE!"}},{"$f":"+H18*($D$16*(1+Pressupostos!$D$21))","v":{"$error":"#VALUE!"}},{"$f":"+I18*($D$16*(1+Pressupostos!$D$21))","v":{"$error":"#VALUE!"}},{"$f":"+J18*($D$16*(1+Pressupostos!$D$21))","v":{"$error":"#VALUE!"}},{"$f":"+K18*$D$28","v":{"$error":"#VALUE!"}},{"$error":"#VALUE!"}]
[]
[null,null,"Finaciamento Bancário",{"$f":"+Pressupostos!D277","v":"CP"}]
[null,null,"Capital contratualizado",{"$f":"+Pressupostos!D279","v":0}]
[null,null,"Ano do contrato",{"$f":"+Pressupostos!D278","v":0}]
[null,null,"Período de reembolso de capital ",{"$f":"+Pressupostos!D280","v":1}]
[null,null,"Período de carência de capital (anos)",{"$f":"+Pressupostos!D281","v":0}]
[null,null,"Taxa de juro anual",{"$f":"+Pressupostos!D282","v":0}]
[null,null,"Serviço da dívida"]
[null,{"$f":"+D23","v":"CP"},"Capital em dívida no início do período",null,{"$f":"IF($D$25>$E$4,0,IF($D$25=$E$4,$D$24,IF($D$25<$E$4,D32,0)))","v":0},{"$f":"IF($D$25>$F$4,0,IF($D$25=$F$4,$D$24,IF($D$25<$F$4,E32,0)))","v":0},{"$f":"IF($D$25>$G$4,0,IF($D$25=$G$4,$D$24,IF($D$25<$G$4,F32,0)))","v":0},{"$f":"IF($D$25>$H$4,0,IF($D$25=$H$4,$D$24,IF($D$25<$H$4,G32,0)))","v":0},{"$f":"IF($D$25>$I$4,0,IF($D$25=$I$4,$D$24,IF($D$25<$I$4,H32,0)))","v":0},{"$f":"IF($D$25>$I$4,0,IF($D$25=$I$4,$D$24,IF($D$25<$I$4,I32,0)))","v":0},{"$f":"IF($D$25>$H$4,0,IF($D$25=$H$4,$D$24,IF($D$25<$H$4,J32,0)))","v":0},{"$f":"IF($D$25>$H$4,0,IF($D$25=$H$4,$D$24,IF($D$25<$H$4,K32,0)))","v":0}]
[null,{"$f":"+D23","v":"CP"},"Amortização de dívida",null,{"$f":"+IF(E$4<$D$25,0,IF(E$4-($D$25+$D$27+0.5)<0,0,MIN($D$24/$D$26,$D$24-SUM($D31:D31))))","v":0},{"$f":"+IF(F$4<$D$25,0,IF(F$4-($D$25+$D$27+0.5)<0,0,MIN($D$24/$D$26,$D$24-SUM($D31:E31))))","v":0},{"$f":"+IF(G$4<$D$25,0,IF(G$4-($D$25+$D$27+0.5)<0,0,MIN($D$24/$D$26,$D$24-SUM($D31:F31))))","v":0},{"$f":"+IF(H$4<$D$25,0,IF(H$4-($D$25+$D$27+0.5)<0,0,MIN($D$24/$D$26,$D$24-SUM($D31:G31))))","v":0},{"$f":"+IF(I$4<$D$25,0,IF(I$4-($D$25+$D$27+0.5)<0,0,MIN($D$24/$D$26,$D$24-SUM($D31:H31))))","v":0},{"$f":"+IF(J$4<$D$25,0,IF(J$4-($D$25+$D$27+0.5)<0,0,MIN($D$24/$D$26,$D$24-SUM($D31:I31))))","v":0},{"$f":"+IF(K$4<$D$25,0,IF(K$4-($D$25+$D$27)<0,0,MIN($D$24/$D$26,$D$24-SUM($D31:J31))))","v":0},{"$f":"+IF(L$4<$D$25,0,IF(L$4-($D$25+$D$27)<0,0,MIN($D$24/$D$26,$D$24-SUM($D31:K31))))","v":0}]
[null,{"$f":"+D23","v":"CP"},"Capital em dívida no final do período",null,{"$f":"+E30-E31","v":0},{"$f":"+F30-F31","v":0},{"$f":"+G30-G31","v":0},0,0,0,{"$f":"+K30-K31","v":0},{"$f":"+L30-L31","v":0}]
[null,null,"Juros e Gastos Similares Suportados",null,{"$f":"+E30*($D$28*(1+Pressupostos!$D$21))","v":0},{"$f":"+F30*($D$28*(1+Pressupostos!$D$21))","v":0},{"$f":"+G30*($D$28*(1+Pressupostos!$D$21))","v":0},{"$f":"+H30*($D$28*(1+Pressupostos!$D$21))","v":0},{"$f":"+I30*($D$28*(1+Pressupostos!$D$21))","v":0},{"$f":"+J30*($D$28*(1+Pressupostos!$D$21))","v":0},{"$f":"+K30*$D$28","v":0},0]
[null,null,"Financiamento Bancário ",{"$f":"+Pressupostos!D283","v":"CP"}]
[null,null,"Capital contratualizado",{"$f":"+Pressupostos!D285","v":0}]
[null,null,"Ano do contrato",{"$f":"+Pressupostos!D284","v":0}]
[null,null,"Período de reembolso de capital ",{"$f":"+Pressupostos!D286","v":1}]
[null,null,"Período de carência de capital (anos)",{"$f":"+Pressupostos!D287","v":0}]
[null,null,"Taxa de juro anual",{"$f":"+Pressupostos!D288","v":0}]
[null,null,"Serviço da dívida"]
[null,{"$f":"+D34","v":"CP"},"Capital em dívida no início do período",null,{"$f":"IF($D$36>$E$4,0,IF($D$36=$E$4,$D$35,IF($D$36<$E$4,D43,0)))","v":0},{"$f":"IF($D$36>$F$4,0,IF($D$36=$F$4,$D$35,IF($D$36<$F$4,E43,0)))","v":0},{"$f":"IF($D$36>$G$4,0,IF($D$36=$G$4,$D$35,IF($D$36<$G$4,F43,0)))","v":0},{"$f":"IF($D$36>$H$4,0,IF($D$36=$H$4,$D$35,IF($D$36<$H$4,G43,0)))","v":0},{"$f":"IF($D$36>$I$4,0,IF($D$36=$I$4,$D$35,IF($D$36<$I$4,H43,0)))","v":0},{"$f":"IF($D$36>$I$4,0,IF($D$36=$I$4,$D$35,IF($D$36<$I$4,I43,0)))","v":0},{"$f":"IF($D$25>$H$4,0,IF($D$25=$H$4,$D$24,IF($D$25<$H$4,J43,0)))","v":0},{"$f":"IF($D$25>$H$4,0,IF($D$25=$H$4,$D$24,IF($D$25<$H$4,K43,0)))","v":0}]
[null,{"$f":"+D34","v":"CP"},"Amortização de dívida",null,{"$f":"+IF(E$4<$D$36,0,IF(E$4-($D$36+$D$38+0.5)<0,0,MIN($D$35/$D$37,$D$35-SUM($D42:D42))))","v":0},{"$f":"+IF(F$4<$D$36,0,IF(F$4-($D$36+$D$38+0.5)<0,0,MIN($D$35/$D$37,$D$35-SUM($D42:E42))))","v":0},{"$f":"+IF(G$4<$D$36,0,IF(G$4-($D$36+$D$38+0.5)<0,0,MIN($D$35/$D$37,$D$35-SUM($D42:F42))))","v":0},{"$f":"+IF(H$4<$D$36,0,IF(H$4-($D$36+$D$38+0.5)<0,0,MIN($D$35/$D$37,$D$35-SUM($D42:G42))))","v":0},{"$f":"+IF(I$4<$D$36,0,IF(I$4-($D$36+$D$38+0.5)<0,0,MIN($D$35/$D$37,$D$35-SUM($D42:H42))))","v":0},{"$f":"+IF(J$4<$D$36,0,IF(J$4-($D$36+$D$38+0.5)<0,0,MIN($D$35/$D$37,$D$35-SUM($D42:I42))))","v":0},{"$f":"+IF(K$4<$D$25,0,IF(K$4-($D$25+$D$27)<0,0,MIN($D$24/$D$26,$D$24-SUM($D42:J42))))","v":0},{"$f":"+IF(L$4<$D$25,0,IF(L$4-($D$25+$D$27)<0,0,MIN($D$24/$D$26,$D$24-SUM($D42:K42))))","v":0}]
[null,{"$f":"+D34","v":"CP"},"Capital em dívida no final do período",null,{"$f":"+E41-E42","v":0},{"$f":"+F41-F42","v":0},{"$f":"+G41-G42","v":0},0,0,0,{"$f":"+K41-K42","v":0},{"$f":"+L41-L42","v":0}]
[null,null,"Juros e Gastos Similares Suportados",null,{"$f":"+E41*($D$39*(1+Pressupostos!$D$21))","v":0},{"$f":"+F41*($D$39*(1+Pressupostos!$D$21))","v":0},{"$f":"+G41*($D$39*(1+Pressupostos!$D$21))","v":0},{"$f":"+H41*($D$39*(1+Pressupostos!$D$21))","v":0},{"$f":"+I41*($D$39*(1+Pressupostos!$D$21))","v":0},{"$f":"+J41*($D$39*(1+Pressupostos!$D$21))","v":0},{"$f":"+K41*$D$28","v":0},0]
[]
[]
[null,null,"Cofinanciado por:"]

{"sheet":"8. Mapa de tesouraria","index":11,"n_rows":78,"n_cols":10,"rows_kept":78,"cut":false,"hidden":false,"merged":[]}
[]
[null,null,"8. Mapa de Tesouraria"]
[]
[null,null,{"$f":"+Capa!C13","v":"<Nome do Projeto>"},null,{"$f":"+AnoN","v":0},{"$f":"+E4+1","v":1},{"$f":"+F4+1","v":2},3,4,5]
[]
[null,null,"Cash Flow operacional",null,{"$f":"+E7-E18","v":{"$error":"#VALUE!"}},{"$error":"#VALUE!"},{"$error":"#VALUE!"},{"$error":"#VALUE!"},{"$error":"#VALUE!"},{"$error":"#VALUE!"}]
[null,null,"Inflow",null,{"$f":"+SUM(E8:E17)","v":0},{"$error":"#VALUE!"},{"$error":"#VALUE!"},{"$error":"#VALUE!"},{"$error":"#VALUE!"},{"$error":"#VALUE!"}]
[null,null,"Ano corrente "]
[null,null,"Clientes",null,{"$f":"+(Pressupostos!G$44+Pressupostos!G$45)-'5. Fundo de Maneio'!E7+'1.Demonstração de Resultados'!D15","v":0},{"$f":"+(Pressupostos!H$44+Pressupostos!H$45)-'5. Fundo de Maneio'!F7+'1.Demonstração de Resultados'!E15","v":0},{"$f":"+(Pressupostos!I$44+Pressupostos!I$45)-'5. Fundo de Maneio'!G7+'1.Demonstração de Resultados'!F15","v":0},{"$f":"+(Pressupostos!J$44+Pressupostos!J$45)-'5. Fundo de Maneio'!H7+'1.Demonstração de Resultados'!G15","v":0},{"$f":"+(Pressupostos!K$44+Pressupostos!K$45)-'5. Fundo de Maneio'!I7+'1.Demonstração de Resultados'!H15","v":0},{"$f":"+(Pressupostos!L$44+Pressupostos!L$45)-'5. Fundo de Maneio'!J7+'1.Demonstração de Resultados'!I15","v":0}]
[null,null,"Inventários",null,{"$f":"+'1.Demonstração de Resultados'!D14","v":0},{"$f":"+'1.Demonstração de Resultados'!E14","v":0},{"$f":"+'1.Demonstração de Resultados'!F14","v":0},{"$f":"+'1.Demonstração de Resultados'!G14","v":0},{"$f":"+'1.Demonstração de Resultados'!H14","v":0},{"$f":"+'1.Demonstração de Resultados'!I14","v":0}]
[null,null,"EOEP"]
[null,null,"Outros créditos a receber",null,{"$f":"+'1.Demonstração de Resultados'!E19+'1.Demonstração de Resultados'!E7-Pressupostos!G250","v":0},{"$f":"+'1.Demonstração de Resultados'!F19+'1.Demonstração de Resultados'!F7-Pressupostos!H250","v":{"$error":"#VALUE!"}},{"$f":"+'1.Demonstração de Resultados'!G19+'1.Demonstração de Resultados'!G7-Pressupostos!I250","v":{"$error":"#VALUE!"}},{"$f":"+'1.Demonstração de Resultados'!H19+'1.Demonstração de Resultados'!H7-Pressupostos!J250","v":{"$error":"#VALUE!"}},{"$f":"+'1.Demonstração de Resultados'!I19+'1.Demonstração de Resultados'!I7-Pressupostos!K250","v":{"$error":"#VALUE!"}},{"$f":"+'1.Demonstração de Resultados'!J19+'1.Demonstração de Resultados'!J7-Pressupostos!L250","v":{"$error":"#VALUE!"}}]
[null,null,"Ano anterior"]
[null,null,"Clientes",null,0,{"$f":"+'5. Fundo de Maneio'!E7","v":0},{"$f":"+'5. Fundo de Maneio'!F7","v":0},{"$f":"+'5. Fundo de Maneio'!G7","v":0},{"$f":"+'5. Fundo de Maneio'!H7","v":0},{"$f":"+'5. Fundo de Maneio'!I7","v":0}]
[null,null,"Inventários"]
[null,null,"EOEP",null,0,{"$f":"+'5. Fundo de Maneio'!E9","v":0},{"$f":"+'5. Fundo de Maneio'!F9","v":0},{"$f":"+'5. Fundo de Maneio'!G9","v":0},{"$f":"+'5. Fundo de Maneio'!H9","v":0},{"$f":"+'5. Fundo de Maneio'!I9","v":0}]
[null,null,"Outros créditos a receber",null,0,{"$f":"+'5. Fundo de Maneio'!E11","v":0},{"$f":"+'5. Fundo de Maneio'!F11","v":0},{"$f":"+'5. Fundo de Maneio'!G11","v":0},{"$f":"+'5. Fundo de Maneio'!H11","v":0},{"$f":"+'5. Fundo de Maneio'!I11","v":0}]
[null,null,"Outflow",null,{"$f":"+SUM(E19:E38)","v":{"$error":"#VALUE!"}},{"$f":"+SUM(F19:F38)","v":{"$error":"#VALUE!"}},{"$error":"#VALUE!"},{"$error":"#VALUE!"},{"$error":"#VALUE!"},{"$error":"#VALUE!"}]
[null,null,"Ano corrente "]
[null,null,"Fornecedores",null,{"$f":"(Pressupostos!G77+Pressupostos!G78+Pressupostos!G103+Pressupostos!G104+Pressupostos!G179+Pressupostos!G180)-'5. Fundo de Maneio'!E15","v":{"$error":"#VALUE!"}},{"$f":"(Pressupostos!H77+Pressupostos!H78+Pressupostos!H103+Pressupostos!H104+Pressupostos!H179+Pressupostos!H180)-'5. Fundo de Maneio'!F15","v":{"$error":"#VALUE!"}},{"$f":"(Pressupostos!I77+Pressupostos!I78+Pressupostos!I103+Pressupostos!I104+Pressupostos!I179+Pressupostos!I180)-'5. Fundo de Maneio'!G15","v":{"$error":"#VALUE!"}},{"$f":"(Pressupostos!J77+Pressupostos!J78+Pressupostos!J103+Pressupostos!J104+Pressupostos!J179+Pressupostos!J180)-'5. Fundo de Maneio'!H15","v":{"$error":"#VALUE!"}},{"$f":"(Pressupostos!K77+Pressupostos!K78+Pressupostos!K103+Pressupostos!K104+Pressupostos!K179+Pressupostos!K180)-'5. Fundo de Maneio'!I15","v":{"$error":"#VALUE!"}},{"$f":"(Pressupostos!L77+Pressupostos!L78+Pressupostos!L103+Pressupostos!L104+Pressupostos!L179+Pressupostos!L180)-'5. Fundo de Maneio'!J15","v":{"$error":"#VALUE!"}}]
[null,null,"Gastos com Pessoal",null,{"$f":"+Pressupostos!G149+Pressupostos!G156+Pressupostos!G159-Pressupostos!G168-Pressupostos!G170+Pressupostos!G177","v":0},{"$f":"+Pressupostos!H149+Pressupostos!H156+Pressupostos!H159-Pressupostos!H168-Pressupostos!H170+Pressupostos!H177","v":0},{"$f":"+Pressupostos!I149+Pressupostos!I156+Pressupostos!I159-Pressupostos!I168-Pressupostos!I170+Pressupostos!I177","v":0},{"$f":"+Pressupostos!J149+Pressupostos!J156+Pressupostos!J159-Pressupostos!J168-Pressupostos!J170+Pressupostos!J177","v":0},{"$f":"+Pressupostos!K149+Pressupostos!K156+Pressupostos!K159-Pressupostos!K168-Pressupostos!K170+Pressupostos!K177","v":0},{"$f":"+Pressupostos!L149+Pressupostos!L156+Pressupostos!L159-Pressupostos!L168-Pressupostos!L170+Pressupostos!L177","v":0}]
[null,null,"EOEP"]
[null,null,"IRC"]
[null,null,"IRS",null,{"$f":"+Pressupostos!G170-'5. Fundo de Maneio'!E17","v":0},{"$f":"+Pressupostos!H170-'5. Fundo de Maneio'!F17","v":0},{"$f":"+Pressupostos!I170-'5. Fundo de Maneio'!G17","v":0},{"$f":"+Pressupostos!J170-'5. Fundo de Maneio'!H17","v":0},{"$f":"+Pressupostos!K170-'5. Fundo de Maneio'!I17","v":0},{"$f":"+Pressupostos!L170-'5. Fundo de Maneio'!J17","v":0}]
[null,null,"IVA",null,{"$f":"+'5. Fundo de Maneio'!E27-'5. Fundo de Maneio'!E18+'5. Fundo de Maneio'!E9","v":{"$error":"#VALUE!"}},{"$f":"+'5. Fundo de Maneio'!F27-'5. Fundo de Maneio'!F18+'5. Fundo de Maneio'!F9","v":{"$error":"#VALUE!"}},{"$f":"+'5. Fundo de Maneio'!G27-'5. Fundo de Maneio'!G18+'5. Fundo de Maneio'!G9","v":{"$error":"#VALUE!"}},{"$f":"+'5. Fundo de Maneio'!H27-'5. Fundo de Maneio'!H18+'5. Fundo de Maneio'!H9","v":{"$error":"#VALUE!"}},{"$f":"+'5. Fundo de Maneio'!I27-'5. Fundo de Maneio'!I18+'5. Fundo de Maneio'!I9","v":{"$error":"#VALUE!"}},{"$f":"+'5. Fundo de Maneio'!J27-'5. Fundo de Maneio'!J18+'5. Fundo de Maneio'!J9","v":{"$error":"#VALUE!"}}]
[null,null,"TSU",null,{"$f":"+Pressupostos!G166-'5. Fundo de Maneio'!E19","v":0},{"$f":"+Pressupostos!H166-'5. Fundo de Maneio'!F19","v":0},{"$f":"+Pressupostos!I166-'5. Fundo de Maneio'!G19","v":0},{"$f":"+Pressupostos!J166-'5. Fundo de Maneio'!H19","v":0},{"$f":"+Pressupostos!K166-'5. Fundo de Maneio'!I19","v":0},{"$f":"+Pressupostos!L166-'5. Fundo de Maneio'!J19","v":0}]
[null,null,"FCT",null,{"$f":"+(Pressupostos!G$174+'2. Balanço'!E14-'2. Balanço'!D14)-'5. Fundo de Maneio'!E20","v":0},{"$f":"+(Pressupostos!H$174+'2. Balanço'!F14-'2. Balanço'!E14)-'5. Fundo de Maneio'!F20","v":0},{"$f":"+(Pressupostos!I$174+'2. Balanço'!G14-'2. Balanço'!F14)-'5. Fundo de Maneio'!G20","v":0},{"$f":"+(Pressupostos!J$174+'2. Balanço'!H14-'2. Balanço'!G14)-'5. Fundo de Maneio'!H20","v":0},{"$f":"+(Pressupostos!K$174+'2. Balanço'!I14-'2. Balanço'!H14)-'5. Fundo de Maneio'!I20","v":0},{"$f":"+(Pressupostos!L$174+'2. Balanço'!J14-'2. Balanço'!I14)-'5. Fundo de Maneio'!J20","v":0}]
[null,null,"Outros Gastos",null,{"$f":"-'1.Demonstração de Resultados'!E20","v":0},{"$f":"-'1.Demonstração de Resultados'!F20","v":0},{"$f":"-'1.Demonstração de Resultados'!G20","v":0},{"$f":"-'1.Demonstração de Resultados'!H20","v":0},{"$f":"-'1.Demonstração de Resultados'!I20","v":0},{"$f":"-'1.Demonstração de Resultados'!J20","v":0}]
[null,null,"Ano anterior"]
[null,null,"Fornecedores",null,0,{"$f":"+'5. Fundo de Maneio'!E15","v":0},{"$f":"+'5. Fundo de Maneio'!F15","v":{"$error":"#VALUE!"}},{"$f":"+'5. Fundo de Maneio'!G15","v":{"$error":"#VALUE!"}},{"$f":"+'5. Fundo de Maneio'!H15","v":{"$error":"#VALUE!"}},{"$f":"+'5. Fundo de Maneio'!I15","v":{"$error":"#VALUE!"}}]
[null,null,"Gastos com Pessoal"]
[null,null,"EOEP"]
[null,null,"IRC",null,{"$f":"-'1.Demonstração de Resultados'!E28","v":{"$error":"#VALUE!"}},{"$f":"-'1.Demonstração de Resultados'!F28","v":{"$error":"#VALUE!"}},{"$f":"-'1.Demonstração de Resultados'!G28","v":{"$error":"#VALUE!"}},{"$f":"-'1.Demonstração de Resultados'!H28","v":{"$error":"#VALUE!"}},{"$f":"-'1.Demonstração de Resultados'!I28","v":{"$error":"#VALUE!"}},{"$f":"-'1.Demonstração de Resultados'!J28","v":{"$error":"#VALUE!"}}]
[null,null,"IRS",null,0,{"$f":"'5. Fundo de Maneio'!E17","v":0},{"$f":"'5. Fundo de Maneio'!F17","v":0},{"$f":"'5. Fundo de Maneio'!G17","v":0},{"$f":"'5. Fundo de Maneio'!H17","v":0},{"$f":"'5. Fundo de Maneio'!I17","v":0}]
[null,null,"IVA",null,0,{"$f":"'5. Fundo de Maneio'!E18","v":"0"},{"$f":"'5. Fundo de Maneio'!F18","v":"0"},{"$f":"'5. Fundo de Maneio'!G18","v":"0"},{"$f":"'5. Fundo de Maneio'!H18","v":"0"},{"$f":"'5. Fundo de Maneio'!I18","v":"0"}]
[null,null,"TSU",null,0,{"$f":"'5. Fundo de Maneio'!E19","v":0},{"$f":"'5. Fundo de Maneio'!F19","v":0},{"$f":"'5. Fundo de Maneio'!G19","v":0},{"$f":"'5. Fundo de Maneio'!H19","v":0},{"$f":"'5. Fundo de Maneio'!I19","v":0}]
[null,null,"FCT",null,0,{"$f":"'5. Fundo de Maneio'!E20","v":0},{"$f":"'5. Fundo de Maneio'!F20","v":0},{"$f":"'5. Fundo de Maneio'!G20","v":0},{"$f":"'5. Fundo de Maneio'!H20","v":0},{"$f":"'5. Fundo de Maneio'!I20","v":0}]
[null,null,"Outros Gastos",null,0,{"$f":"+'5. Fundo de Maneio'!E21","v":0},{"$f":"+'5. Fundo de Maneio'!F21","v":0},{"$f":"+'5. Fundo de Maneio'!G21","v":0},{"$f":"+'5. Fundo de Maneio'!H21","v":0},{"$f":"+'5. Fundo de Maneio'!I21","v":0}]
[]
[null,null,"Cash Flow de Financiamento",null,{"$f":"+E41-E44","v":{"$error":"#VALUE!"}},{"$error":"#VALUE!"},{"$error":"#VALUE!"},{"$error":"#VALUE!"},{"$error":"#VALUE!"},{"$error":"#VALUE!"}]
[null,null,"Inflow",null,{"$f":"+SUM(E42:E43)","v":{"$error":"#VALUE!"}},{"$f":"+SUM(F42:F43)","v":{"$error":"#VALUE!"}},{"$error":"#VALUE!"},{"$error":"#VALUE!"},{"$error":"#VALUE!"},{"$error":"#VALUE!"}]
[null,null,"Capital e Prestações Suplementares",null,{"$f":"+'9. Capital Próprio'!E17-'9. Capital Próprio'!E10+'9. Capital Próprio'!E12-'9. Capital Próprio'!E14","v":{"$error":"#VALUE!"}},{"$f":"+'9. Capital Próprio'!F17-'9. Capital Próprio'!F10+'9. Capital Próprio'!F12-'9. Capital Próprio'!F14+'9. Capital Próprio'!E14","v":{"$error":"#VALUE!"}},{"$f":"+'9. Capital Próprio'!G17-'9. Capital Próprio'!G10+'9. Capital Próprio'!G12-'9. Capital Próprio'!G14+'9. Capital Próprio'!F14","v":{"$error":"#VALUE!"}},{"$f":"+'9. Capital Próprio'!H17-'9. Capital Próprio'!H10+'9. Capital Próprio'!H12-'9. Capital Próprio'!H14+'9. Capital Próprio'!G14","v":{"$error":"#VALUE!"}},{"$f":"+'9. Capital Próprio'!I17-'9. Capital Próprio'!I10+'9. Capital Próprio'!I12-'9. Capital Próprio'!I14+'9. Capital Próprio'!H14","v":{"$error":"#VALUE!"}},{"$f":"+'9. Capital Próprio'!J17-'9. Capital Próprio'!J10+'9. Capital Próprio'!J12-'9. Capital Próprio'!J14+'9. Capital Próprio'!I14","v":{"$error":"#VALUE!"}}]
[null,null,"Financiamentos",null,{"$f":"+Pressupostos!G275","v":0},{"$f":"+Pressupostos!H275","v":0},{"$f":"+Pressupostos!I275","v":0},{"$f":"+Pressupostos!J275","v":0},{"$f":"+Pressupostos!K275","v":0},{"$f":"+Pressupostos!L275","v":0}]
[null,null,"Outflow",null,{"$f":"+SUM(E45:E49)","v":0},{"$error":"#VALUE!"},{"$error":"#VALUE!"},{"$error":"#VALUE!"},{"$error":"#VALUE!"},{"$error":"#VALUE!"}]
[null,null,"Financiamentos"]
[null,null,"Amortização de dívida",null,{"$f":"+'7. Serviço da Dívida'!E9","v":0},{"$f":"+'7. Serviço da Dívida'!F9","v":{"$error":"#VALUE!"}},{"$f":"+'7. Serviço da Dívida'!G9","v":{"$error":"#VALUE!"}},{"$f":"+'7. Serviço da Dívida'!H9","v":{"$error":"#VALUE!"}},{"$f":"+'7. Serviço da Dívida'!I9","v":{"$error":"#VALUE!"}},{"$f":"+'7. Serviço da Dívida'!J9","v":{"$error":"#VALUE!"}}]
[null,null,"Dividendos e juros"]
[null,null,"Dividendos",null,0,{"$f":"+'9. Capital Próprio'!F12","v":{"$error":"#VALUE!"}},{"$f":"+'9. Capital Próprio'!G12","v":{"$error":"#VALUE!"}},{"$f":"+'9. Capital Próprio'!H12","v":{"$error":"#VALUE!"}},{"$f":"+'9. Capital Próprio'!I12","v":{"$error":"#VALUE!"}},{"$f":"+'9. Capital Próprio'!J12","v":{"$error":"#VALUE!"}}]
[null,null,{"$f":"+'7. Serviço da Dívida'!C12","v":"Juros e Gastos Similares Suportados"},null,{"$f":"+'7. Serviço da Dívida'!E12","v":0},{"$f":"+'7. Serviço da Dívida'!F12","v":{"$error":"#VALUE!"}},{"$f":"+'7. Serviço da Dívida'!G12","v":{"$error":"#VALUE!"}},{"$f":"+'7. Serviço da Dívida'!H12","v":{"$error":"#VALUE!"}},{"$f":"+'7. Serviço da Dívida'!I12","v":{"$error":"#VALUE!"}},{"$f":"+'7. Serviço da Dívida'!J12","v":{"$error":"#VALUE!"}}]
[]
[null,null,"Cash Flow de Investimento",null,{"$f":"-E55+E53","v":0},{"$f":"-F55+F53","v":0},0,0,0,0]
[null,null,"Inflow"]
[null,null,"Subsídio não reembolsável",null,{"$f":"+Pressupostos!G247","v":0},{"$f":"+Pressupostos!H247","v":0},{"$f":"+Pressupostos!I247","v":0},{"$f":"+Pressupostos!J247","v":0},{"$f":"+Pressupostos!K247","v":0},{"$f":"+Pressupostos!L247","v":0}]
[null,null,"Outflow"]
[null,null,"Ativos fixos",null,{"$f":"+'6. Investimento'!F6+Pressupostos!G207","v":0},{"$f":"+'6. Investimento'!G6+Pressupostos!H207","v":0},{"$f":"+'6. Investimento'!H6+Pressupostos!I207","v":0},{"$f":"+'6. Investimento'!I6+Pressupostos!J207","v":0},{"$f":"+'6. Investimento'!J6+Pressupostos!K207","v":0},{"$f":"+'6. Investimento'!K6+Pressupostos!L207","v":0}]
[]
[null,null,"Cash no inicio do ano",null,0,{"$f":"+E58+E60","v":{"$error":"#VALUE!"}},{"$f":"+F58+F60","v":{"$error":"#VALUE!"}},{"$error":"#VALUE!"},{"$error":"#VALUE!"},{"$error":"#VALUE!"}]
[null,null,"Cash no final do ano",null,{"$f":"+E51+E40+E6","v":{"$error":"#VALUE!"}},{"$f":"+F51+F40+F6+F57","v":{"$error":"#VALUE!"}},{"$f":"+G51+G40+G6+G57","v":{"$error":"#VALUE!"}},{"$error":"#VALUE!"},{"$error":"#VALUE!"},{"$error":"#VALUE!"}]
[]
[null,null,"Necessidades de Tesouraria",null,{"$f":"+IF(E58<Pressupostos!$E$234,IF(Pressupostos!$E$234-E58<Pressupostos!$E$235,Pressupostos!$E$235,Pressupostos!$E$234-E58),\"0\")","v":{"$error":"#VALUE!"}},{"$f":"+IF(F58<Pressupostos!$E$234,IF(Pressupostos!$E$234-F58<Pressupostos!$E$235,Pressupostos!$E$235,Pressupostos!$E$234-F58),\"0\")","v":{"$error":"#VALUE!"}},{"$f":"+IF(G58<Pressupostos!$E$234,IF(Pressupostos!$E$234-G58<Pressupostos!$E$235,Pressupostos!$E$235,Pressupostos!$E$234-G58),\"0\")","v":{"$error":"#VALUE!"}},{"$f":"+IF(H58<Pressupostos!$E$234,IF(Pressupostos!$E$234-H58<Pressupostos!$E$235,Pressupostos!$E$235,Pressupostos!$E$234-H58),\"0\")","v":{"$error":"#VALUE!"}},{"$f":"+IF(I58<Pressupostos!$E$234,IF(Pressupostos!$E$234-I58<Pressupostos!$E$235,Pressupostos!$E$235,Pressupostos!$E$234-I58),\"0\")","v":{"$error":"#VALUE!"}},{"$f":"+IF(J58<Pressupostos!$E$234,IF(Pressupostos!$E$234-J58<Pressupostos!$E$235,Pressupostos!$E$235,Pressupostos!$E$234-J58),\"0\")","v":{"$error":"#VALUE!"}}]
[]
[]
[null,null,"Cofinanciado por:"]
[]
[]
[]
[]
[]
[null,null,"Custos com pessoal"]
[null,null,"Outros Custos"]
[null,null,"Receita 2"]
[null,null,"Ano anterior"]
[null,null,"Custos com mercadorias e matérias"]
[null,null,"FSE"]
[null,null,"Custos com pessoal"]
[null,null,"Outros Custos"]
[null,null,"Outros"]
[null,null,"Imposto sobre o rendimento"]

{"sheet":"9. Capital Próprio","index":12,"n_rows":20,"n_cols":10,"rows_kept":20,"cut":false,"hidden":false,"merged":[]}
[]
[null,null,"9. Capital Próprio"]
[]
[null,null,{"$f":"+Capa!C13","v":"<Nome do Projeto>"},null,{"$f":"+AnoN","v":0},{"$f":"+E4+1","v":1},{"$f":"+F4+1","v":2},3,4,5]
[null,null,null,null,1,2,3,4,5,10]
[]
[null,null,"Capital Próprio"]
[null,null,"Capital Social",null,{"$f":"+Pressupostos!G256+Pressupostos!G260","v":50000},{"$f":"+E8+Pressupostos!H260+Pressupostos!H256","v":50000},{"$f":"+F8+Pressupostos!I260+Pressupostos!I256","v":50000},{"$f":"+G8+Pressupostos!J260+Pressupostos!J256","v":50000},{"$f":"+H8+Pressupostos!K260+Pressupostos!K256","v":50000},{"$f":"+I8+Pressupostos!L260+Pressupostos!L256","v":50000}]
[null,null,"Prestações suplementares",null,{"$f":"+Pressupostos!G258+Pressupostos!G261","v":0},{"$f":"+E$9+Pressupostos!H$258+Pressupostos!H261","v":{"$error":"#VALUE!"}},{"$f":"+F$9+Pressupostos!I$258+Pressupostos!I261","v":{"$error":"#VALUE!"}},{"$f":"+G$9+Pressupostos!J$258+Pressupostos!J261","v":{"$error":"#VALUE!"}},{"$f":"+H$9+Pressupostos!K$258+Pressupostos!K261","v":{"$error":"#VALUE!"}},{"$f":"+I$9+Pressupostos!L$258+Pressupostos!L261","v":{"$error":"#VALUE!"}}]
[null,null,"Resultado Líquido",null,{"$f":"+'1.Demonstração de Resultados'!E31","v":""},{"$f":"+'1.Demonstração de Resultados'!F31","v":""},{"$f":"+'1.Demonstração de Resultados'!G31","v":""},{"$f":"+'1.Demonstração de Resultados'!H31","v":""},{"$f":"+'1.Demonstração de Resultados'!I31","v":""},{"$f":"+'1.Demonstração de Resultados'!J31","v":""}]
[null,null,"Resultados Transitados",null,null,{"$f":"+IF(E10<0,E10+E11,E11+(E10-F12-F13))","v":{"$error":"#VALUE!"}},{"$error":"#VALUE!"},{"$error":"#VALUE!"},{"$error":"#VALUE!"},{"$error":"#VALUE!"}]
[null,null,"Dividendos",null,{"$f":"IF(D10>0,D10*Pressupostos!$G$264,0)","v":0},{"$f":"IF(E10>0,E10*Pressupostos!$H$264,0)","v":{"$error":"#VALUE!"}},{"$f":"IF(F10>0,F10*Pressupostos!$I$264,0)","v":{"$error":"#VALUE!"}},{"$f":"IF(G10>0,G10*Pressupostos!$J$264,0)","v":{"$error":"#VALUE!"}},{"$f":"IF(H10>0,H10*Pressupostos!$K$264,0)","v":{"$error":"#VALUE!"}},{"$f":"IF(I10>0,I10*Pressupostos!$K$264,0)","v":{"$error":"#VALUE!"}}]
[null,null,"Reservas legais",null,{"$f":"+IF(D10>0,D10*Pressupostos!$G$265,0)","v":0},{"$f":"+IF(E10>0,E10*Pressupostos!$H$265,0)","v":{"$error":"#VALUE!"}},{"$f":"+IF(F10>0,F10*Pressupostos!$I$265,0)","v":{"$error":"#VALUE!"}},{"$f":"+IF(G10>0,G10*Pressupostos!$J$265,0)","v":{"$error":"#VALUE!"}},{"$f":"+IF(H10>0,H10*Pressupostos!$K$265,0)","v":{"$error":"#VALUE!"}},{"$f":"+IF(I10>0,I10*Pressupostos!$K$265,0)","v":{"$error":"#VALUE!"}}]
[null,null,"Outras Variações Capital Próprio",null,{"$f":"+Pressupostos!G247-Pressupostos!G248-Pressupostos!G250+Pressupostos!G251","v":0},{"$f":"+Pressupostos!H247-Pressupostos!H248-Pressupostos!H250+Pressupostos!H251+E14","v":0},{"$f":"+Pressupostos!I247-Pressupostos!I248-Pressupostos!I250+Pressupostos!I251+F14","v":0},{"$f":"+Pressupostos!J247-Pressupostos!J248-Pressupostos!J250+Pressupostos!J251+G14","v":0},{"$f":"+Pressupostos!K247-Pressupostos!K248-Pressupostos!K250+Pressupostos!K251+H14","v":0},{"$f":"+Pressupostos!L247-Pressupostos!L248-Pressupostos!L250+Pressupostos!L251+I14","v":0}]
[null,null,"Total Capital Próprio",null,{"$f":"+SUM(E8:E14)-E12+SUM(D13:$E13)","v":50000},{"$f":"+SUM(F8:F14)-F12+SUM(E13:$E13)","v":{"$error":"#VALUE!"}},{"$f":"+SUM(G8:G14)-G12+SUM($E13:F13)","v":{"$error":"#VALUE!"}},{"$f":"+SUM(H8:H14)-H12+SUM($E13:G13)","v":{"$error":"#VALUE!"}},{"$f":"+SUM(I8:I14)-I12+SUM($E13:H13)","v":{"$error":"#VALUE!"}},{"$f":"+SUM(J8:J14)-J12+SUM($E13:I13)","v":{"$error":"#VALUE!"}}]
[null,null,"Total Capital Próprio"]
[null,null,"Variações Capital Próprio",null,{"$f":"+(E15-D15)","v":50000},{"$f":"+(F15-E15)","v":{"$error":"#VALUE!"}},{"$f":"+(G15-F15)","v":{"$error":"#VALUE!"}},{"$error":"#VALUE!"},{"$error":"#VALUE!"},{"$error":"#VALUE!"}]
[null,null,"Variações Capital Próprio (sem Prestações suplementares)",null,{"$f":"+E17-E9","v":50000},{"$f":"+(F15-F9)-(E15-E9)","v":{"$error":"#VALUE!"}},{"$f":"+(G15-G9)-(F15-F9)","v":{"$error":"#VALUE!"}},{"$error":"#VALUE!"},{"$error":"#VALUE!"},{"$error":"#VALUE!"}]
[]
[null,null,"Cofinanciado por:"]

{"sheet":"10. Anexo_Prejuízos fiscais","index":13,"n_rows":37,"n_cols":10,"rows_kept":37,"cut":false,"hidden":false,"merged":[]}
[]
[null,null,"9. Anexo_ Prejuízos Fiscais"]
[null,null,null,null,1,2,3,4,5,6]
[null,null,{"$f":"+Capa!C13","v":"<Nome do Projeto>"},null,{"$f":"+AnoN","v":0},{"$f":"+E4+1","v":1},{"$f":"+F4+1","v":2},3,4,5]
[null,null,null,null,2,{"$f":"+E5+1","v":3},4,5,6,{"$f":"+#REF!+1","v":{"$error":"#REF!"}}]
[null,null,"EBT (Resultado Antes de Impostos)",null,{"$f":"+'1.Demonstração de Resultados'!E27","v":""},{"$f":"+'1.Demonstração de Resultados'!F27","v":""},{"$f":"+'1.Demonstração de Resultados'!G27","v":""},{"$f":"+'1.Demonstração de Resultados'!H27","v":""},{"$f":"+'1.Demonstração de Resultados'!I27","v":""},{"$f":"+'1.Demonstração de Resultados'!J27","v":""}]
[null,"-/+","Imposto",null,{"$f":"+E8+E9","v":{"$error":"#VALUE!"}},{"$error":"#VALUE!"},{"$error":"#VALUE!"},{"$error":"#VALUE!"},{"$error":"#VALUE!"},{"$error":"#VALUE!"}]
[null,"-/+","IRC",null,{"$f":"-IFERROR(IF(E33>0,E33*Pressupostos!$D$18,0),\"\")","v":{"$error":"#VALUE!"}},{"$f":"-IFERROR(IF(F33>0,F33*Pressupostos!$D$18,0),\"\")","v":{"$error":"#VALUE!"}},{"$f":"-IFERROR(IF(G33>0,G33*Pressupostos!$D$18,0),\"\")","v":{"$error":"#VALUE!"}},{"$f":"-IFERROR(IF(H33>0,H33*Pressupostos!$D$18,0),\"\")","v":{"$error":"#VALUE!"}},{"$f":"-IFERROR(IF(I33>0,I33*Pressupostos!$D$18,0),\"\")","v":{"$error":"#VALUE!"}},{"$f":"-IFERROR(IF(J33>0,J33*Pressupostos!$D$18,0),\"\")","v":{"$error":"#VALUE!"}}]
[null,"-/+","Derrama Municipal",null,{"$f":"-IFERROR(IF(E33>0,E33*Pressupostos!$D$19,0),\"\")","v":{"$error":"#VALUE!"}},{"$f":"-IFERROR(IF(F33>0,F33*Pressupostos!$D$19,0),\"\")","v":{"$error":"#VALUE!"}},{"$f":"-IFERROR(IF(G33>0,G33*Pressupostos!$D$19,0),\"\")","v":{"$error":"#VALUE!"}},{"$f":"-IFERROR(IF(H33>0,H33*Pressupostos!$D$19,0),\"\")","v":{"$error":"#VALUE!"}},{"$f":"-IFERROR(IF(I33>0,I33*Pressupostos!$D$19,0),\"\")","v":{"$error":"#VALUE!"}},{"$f":"-IFERROR(IF(J33>0,J33*Pressupostos!$D$19,0),\"\")","v":{"$error":"#VALUE!"}}]
[null,null,"Resultado Líquido",null,{"$f":"+IFERROR(E6+E7,\"\")","v":""},{"$f":"+IFERROR(F6+F7,\"\")","v":""},"","","",""]
[]
[null,null,null,null,1,2,3,4,5,6]
[null,null,"Prejuizo Fiscal Ano 1",null,{"$f":"+IF(E6<=0,E6,0)","v":0}]
[null,null,"Prejuizo Fical limitado no tempo",null,{"$f":"+IF(E$12<=Pressupostos!$D$33,$E$13,0)","v":0},{"$f":"+IF(F$12<=Pressupostos!$D$33,$E$13,0)","v":0},{"$f":"+IF(G$12<=Pressupostos!$D$33,$E$13,0)","v":0},{"$f":"+IF(H$12<=Pressupostos!$D$33,$E$13,0)","v":0},{"$f":"+IF(I$12<=Pressupostos!$D$33,$E$13,0)","v":0},{"$f":"+IF(J$12<=Pressupostos!$D$33,$E$13,0)","v":0}]
[null,null,null,null,null,1,2,3,4,5]
[null,null,"Prejuizo Fiscal Ano 2",null,null,{"$f":"+IF(F6<=0,F6,0)","v":0}]
[null,null,"Prejuizo Fical limitado no tempo",null,null,{"$f":"+IF(F$15<=Pressupostos!$D$33,$F$16,0)","v":0},{"$f":"+IF(G$15<=Pressupostos!$D$33,$F$16,0)","v":0},{"$f":"+IF(H$15<=Pressupostos!$D$33,$F$16,0)","v":0},{"$f":"+IF(I$15<=Pressupostos!$D$33,$F$16,0)","v":0},{"$f":"+IF(J$15<=Pressupostos!$D$33,$F$16,0)","v":0}]
[null,null,null,null,null,null,1,2,3,4]
[null,null,"Prejuizo Fiscal Ano 3",null,null,null,{"$f":"+IF(G6<=0,G6,0)","v":0}]
[null,null,"Prejuizo Fical limitado no tempo",null,null,null,{"$f":"+IF(G$18<=Pressupostos!$D$33,$G$19,0)","v":0},{"$f":"+IF(H$18<=Pressupostos!$D$33,$G$19,0)","v":0},{"$f":"+IF(I$18<=Pressupostos!$D$33,$G$19,0)","v":0},{"$f":"+IF(J$18<=Pressupostos!$D$33,$G$19,0)","v":0}]
[null,null,null,null,null,null,null,1,2,3]
[null,null,"Prejuizo Fiscal Ano 4",null,null,null,null,{"$f":"+IF(H6<=0,H6,0)","v":0}]
[null,null,"Prejuizo Fical limitado no tempo",null,null,null,null,{"$f":"+IF(H$21<=Pressupostos!$D$33,$H$22,0)","v":0},{"$f":"+IF(I$21<=Pressupostos!$D$33,$H$22,0)","v":0},{"$f":"+IF(J$21<=Pressupostos!$D$33,$H$22,0)","v":0}]
[null,null,null,null,null,null,null,null,1,2]
[null,null,"Prejuizo Fiscal Ano 5",null,null,null,null,null,{"$f":"+IF(I6<=0,I6,0)","v":0}]
[null,null,"Prejuizo Fical limitado no tempo",null,null,null,null,null,{"$f":"+IF(I$24<=Pressupostos!$D$33,$I$25,0)","v":0},{"$f":"+IF(J$24<=Pressupostos!$D$33,$I$25,0)","v":0}]
[null,null,null,null,null,null,null,null,null,1]
[null,null,"Prejuizo Fiscal Ano 6",null,null,null,null,null,null,{"$f":"+IF(J6<=0,J6,0)","v":0}]
[null,null,"Prejuizo Fical limitado no tempo",null,null,null,null,null,null,{"$f":"+IF(J$24<=Pressupostos!$D$33,$I$25,0)","v":0}]
[null,null,"Prejuízo Fiscal Acumulado",null,{"$f":"+E14+E17+E20+E23+E26+SUM($E32:E32)","v":0},{"$f":"+F14+F17+F20+F23+F26+SUM($E32:F32)","v":0},{"$f":"+G14+G17+G20+G23+G26+SUM($E32:G32)","v":0},{"$f":"+H14+H17+H20+H23+H26+SUM($E32:H32)","v":0},{"$f":"+I14+I17+I20+I23+I26+SUM($E32:I32)","v":0},{"$f":"+J14+J17+J20+J23+J26+SUM($E32:J32)","v":0}]
[null,null,"Limitação à utilização de prejuízos fiscais (70%)",null,{"$f":"+IF(E6>=0,E6*0.7,0)","v":{"$error":"#VALUE!"}},{"$error":"#VALUE!"},{"$error":"#VALUE!"},{"$error":"#VALUE!"},{"$error":"#VALUE!"},{"$error":"#VALUE!"}]
[null,null,"Utilização anual de Prejuízos Fiscais em reporte",null,{"$f":"IF(D30<0,IF(-D30<=E31,-D30,E31),0)","v":0},{"$f":"IF(E30<0,IF(-E30<=F31,-E30,F31),0)","v":0},0,0,0,0]
[null,null,"RAI TRIBUTAVEL",null,{"$f":"+E6-E32","v":{"$error":"#VALUE!"}},{"$error":"#VALUE!"},{"$error":"#VALUE!"},{"$error":"#VALUE!"},{"$error":"#VALUE!"},{"$error":"#VALUE!"}]
[]
[]
[]
[null,null,"Cofinanciado por:"]

{"sheet":"a. Aux_Mat Prima % Vendas","index":14,"n_rows":96,"n_cols":12,"rows_kept":96,"cut":false,"hidden":false,"merged":[[30,2,30,10],[3,2,3,10],[5,2,5,9],[10,6,10,7],[11,6,11,8],[12,6,12,8],[13,6,13,8],[14,6,14,8],[15,6,15,8],[16,6,16,8],[17,6,17,8]]}
[]
[null,null,"A. Guia auxiliar para calcular  Consumo de Matérias Primas em % do valor de Vendas"]
[]
[null,null,"Evitando o cálculo individualizado do  inventário de matérias primas e subsidiárias calcula-se o consumo de matérias primas na proporção da quantidade vendida. \nAmpliar os quadros se o nº de produtos  > 7 e ou o nº de matérias primas  > 7.\nPara utilizar os quadros abaixo e as fórmulas, com um nº de produtos e ou de matérias primas superior a 7 deverá inserir linhas  e/ou colunas. \nAconselha-se neste caso a cópia do mapas para uma folha anexa livre e proceder aops cálculos nessa folha.\nO objetivo é determinar a o rácio que exprime a % do valor do Consumo de matérias primas / valçor de Vendas"]
[]
[null,null,"Nota: os valores apresentados são meramente exemplificativos devendo ser ajustada à realidade do projeto."]
[]
[null,null," Variáveis necessárias"]
[]
[null,null,"Produtos ",null,null,null,"Mat. Primas e subsidiárias (MPS) "]
[null,null,"Identificação","Unidade\nfísica (uf)*","Quantidade\nVendida (uf)",null,"Identificação",null,null,"Unidade\nfísica (uf)*","Preço compra"]
[null,null,"X1",null,1000,null,"Y1"]
[null,null,"X2",null,1200,null,"Y2"]
[null,null,"X3",null,1400,null,"Y3"]
[null,null,"X4",null,10,null,"Y4"]
[null,null,"X5",null,10,null,"Y5"]
[null,null,"X6",null,10,null,"Y6"]
[null,null,"X7",null,10,null,"Y7"]
[null,null,"* A unidade física poderá ser expressa por: Metro, m2, m3, Litro, tonelada, Kg, unidade, …..., outra,"]
[]
[]
[null,null,"Como Calcular o valor do consumo de matérias primas e subsidiárias (mps) em % do valor das vendas ?"]
[]
[null,null,"Calcula-se:"]
[null,null,"1. O consumo físico de mps na proporção das quantidades vendidas no ano 1"]
[null,null,"2. O Valor das mps consumidas (€) na proporção do valor de Vendas (€)  (valor mps/Valor de Vendas) no ano 1"]
[null,null,"3. O consumo de mps (€) na proporção do Inventário Final do Produto (€)"]
[null,null,"4. O Consumo (total) de mps (€) na proporção da produção = Consumo mps (s/vendas)+Consumo mps (s/variação de invent de produto) para cada ano"]
[null,null,"5. No Mapa de Pressupostos o CMVMC/Vendas em % = Consumo Total de MPS/Vendas"]
[]
[null,null,"Recorda-se:\n            . Adaptar dimensão dos mapas ao nº de produtos e de MP e subsidiárias\n           . Os mapas poderão ser copiados para uma folha auxiliar facilitando a a sua adaptação às necessidades. \n           . Nos quadros: Y - nome matéria prima, X - nome de produto - símbolos que podem ser substituidos pelas verdadeiras designações dos produtos"]
[]
[null,null,"1. Quantidades de produtos vendidos (ano inicial)",null,null,null,null,null,null,"unid físixas"]
[null,null,"                Produto",{"$f":"+C12","v":"X1"},{"$f":"+C13","v":"X2"},{"$f":"+C14","v":"X3"},{"$f":"+C15","v":"X4"},{"$f":"+C16","v":"X5"},{"$f":"+C17","v":"X6"},{"$f":"+C18","v":"X7"}]
[null,null,"Quantidade Vendida",{"$f":"++E12","v":1000},{"$f":"+E13","v":1200},{"$f":"+$E14","v":1400},{"$f":"+$E15","v":10},{"$f":"+$E16","v":10},{"$f":"+$E17","v":10},{"$f":"+$E18","v":10}]
[]
[null,null,"2. Consumo MPS por unidade de Produto",null,null,null,null,null,null,"unid físicas"]
[null,null,"                                                                                                     Produto\nMPS",{"$f":"+D34","v":"X1"},{"$f":"+E34","v":"X2"},{"$f":"+F34","v":"X3"},"X4","X5","X6","X7"]
[null,null,{"$f":"+G12","v":"Y1"},0.2,3,1]
[null,null,"Y2",7,10]
[null,null,"Y3",1.1000000000000001,0.1]
[null,null,"Y4",200,20,30]
[null,null,"Y5",null,40]
[null,null,"Y6",null,null,0.2]
[null,null,"Y7",null,null,26]
[]
[null,null,"3. Consumo de MPS = Quantid. Vendida * Consumo mps/Unid Produto",null,null,null,null,null,null,"unid físixas"]
[null,null,"                                                                                                     Produto\nMPS",{"$f":"+D34","v":"X1"},{"$f":"+E34","v":"X2"},"X3","X4","X5","X6","X7","TOTAL"]
[null,null,{"$f":"+C39","v":"Y1"},{"$f":"+D39*D$35","v":200},3600,1400,0,0,0,0,{"$f":"SUM(D49:J49)","v":5200}]
[null,null,{"$f":"+C40","v":"Y2"},7000,12000,0,0,0,0,0,19000]
[null,null,"Y3",1100,120,0,0,0,0,0,1220]
[null,null,"Y4",100000,24000,42000,0,0,0,0,166000]
[null,null,"Y5",{"$f":"+D43*D$35","v":0},48000,0,0,0,0,0,48000]
[null,null,"Y6",{"$f":"+D44*D$35","v":0},0,280,0,0,0,0,280]
[null,null,"Y7",{"$f":"+D45*D$35","v":0},0,36400,0,0,0,0,36400]
[]
[null,null,"Preço de compra unitário de MPS"]
[null,null,"MPS","Preço €"]
[null,null,{"$f":"+C49","v":"Y1"},10]
[null,null,{"$f":"+C50","v":"Y2"},2]
[null,null,"Y3",20]
[null,null,"Y4",1]
[null,null,"Y5",2.5]
[null,null,"Y6",3]
[null,null,"Y7",2]
[]
[null,null,"4. Valor das mps consumidas na proporção das quantidades vendidas = Consumo mps (Uf) x preço compra",null,null,null,null,null,null,null,"€€"]
[null,null,"                                                                                                     Produto\nMPS",{"$f":"+D34","v":"X1"},{"$f":"+E34","v":"X2"},"X3","X4","X5","X6","X7","TOTAL"]
[null,null,{"$f":"+C59","v":"Y1"},{"$f":"+$D59*D49","v":2000},36000,14000,0,0,0,0,{"$f":"+SUM(D69:J69)","v":52000}]
[null,null,{"$f":"+C60","v":"Y2"},14000,24000,0,0,0,0,0,38000]
[null,null,"Y3",22000,2400,0,0,0,0,0,24400]
[null,null,"Y4",100000,24000,42000,0,0,0,0,166000]
[null,null,"Y5",0,120000,0,0,0,0,0,120000]
[null,null,"Y6",0,0,840,0,0,0,0,840]
[null,null,"Y7",0,0,72800,0,0,0,0,72800]
[]
[null,null,"5. Consumo mps Total (ano inicial)",{"$f":"SUM(D69:D75)","v":138000},{"$f":"SUM(E69:E75)","v":206400},{"$f":"SUM(F69:F75)","v":129640},{"$f":"SUM(G69:G75)","v":0},0,0,0,{"$f":"SUM(D77:J77)","v":474040}]
[]
[null,null,"Ano",1,2,null,null,null,null,null,null,"Nota: Validar em Pressupostos"]
[null,null,"Vendas (Valor €)",1000000,1100000,"Nota: Validar em Pressupostos",null,null,null,null,null,"Nota: Validar em Pressupostos"]
[null,null,"PMI PA (prazo médio de inventário de produtos ) (dias)",15,15,"Nota: Validar em Pressupostos",null,null,null,null,null,"Nota: Validar em Pressupostos"]
[null,null,"Nº dias produção calendário",365,365,"Nota: Validar em Pressupostos"]
[null,null,"Consumo mps (na proporção de vendas)",{"$f":"+K77","v":474040},{"$f":"+D83/D80*E80","v":521444}]
[null,null,"Consumo mps (proporção do invent. final de PA)",{"$f":"+D81/D82*D83","v":19481.095890410958},{"$f":"+E81/E82*E83","v":21429.205479452052},"PMI/365*mps na proporção de vendas"]
[null,null,"Consumo Total de mps (proporção da produção)",{"$f":"+D84+D83","v":493521.09589041094},{"$f":"+E83+E84-D84","v":523392.10958904109},"Valor MPS na proporção (das vendas e da variação invent de PA)"]
[null,null,"% (MPS/Vendas) para pressupostos",{"$f":"+D85/D80","v":0.49352109589041093},{"$f":"+E85/E80","v":0.47581100871731008},"Valor % a Colocar nos Pressupostos (Célula D91 - folha original)"]
[]
[null,null,"Exemplo"]
[null,null,"Ano",1,2,3,4,5,6,7,8]
[null,null,"Vendas anuais",100,120,200,{"$f":"+F90*1.2","v":240},{"$f":"+G90*1.2","v":288},345.59999999999997,414.71999999999997,497.66399999999993]
[null,null,"PMI PA",30,{"$f":"+D91","v":30},{"$f":"+E91","v":30},30,30,30,30,30]
[null,null,"Nº dias produção calendário",365,{"$f":"+D92","v":365},365,365,365,365,365,365]
[null,null,"Consumo mps € na proporção das vendas €",40,{"$f":"+D93/D90*E90","v":48},{"$f":"+E93/E90*F90","v":80},{"$f":"+F93/F90*G90","v":96},115.2,138.23999999999998,165.88799999999998,199.06559999999996]
[null,null,"Consumo mps (proporção Invent. final de PA)",{"$f":"+D91/365*D93","v":3.2876712328767121},{"$f":"+E91/365*E93","v":3.9452054794520546},6.5753424657534243,7.8904109589041092,9.4684931506849317,11.362191780821915,13.634630136986299,16.361556164383558]
[null,null,"Consumo de mps na proporção da produção",{"$f":"+D93+D94","v":43.287671232876711},{"$f":"+E93+E94-D94","v":48.657534246575345},{"$f":"+F93+F94-E94","v":82.630136986301366},{"$f":"+G93+G94-F94","v":97.31506849315069},116.77808219178083,140.13369863013696,168.16043835616435,201.79252602739723]
[null,null,"%(CMVMP/Vendas)",{"$f":"+D95/D90","v":0.43287671232876712},{"$f":"+E95/E90","v":0.40547945205479452},{"$f":"+F95/F90","v":0.41315068493150681},{"$f":"+G95/G90","v":0.40547945205479452},0.40547945205479452,0.40547945205479446,0.40547945205479446,0.40547945205479452]

{"sheet":"b. Aux_Var Produção % Vendas","index":15,"n_rows":58,"n_cols":8,"rows_kept":58,"cut":false,"hidden":false,"merged":[[29,2,29,7],[39,5,42,5]]}
[]
[null,null,"B. Guia Auxiliar para calcular o valor de Inventário de Produto Acabado e de Variação da Produção"]
[]
[]
[null,null,"A Variação da Produção t = Variação dos Inventários da Produção t = Invent Final t - Invent Inicial t"]
[null,null,"A Variação da Produção na Demonstração de Resultados apenas existe em atividades industriais em que há inventário de produto acabado e produtos e trabalhos em curso(PTC)"]
[]
[null,null,"Como calcular a Variação da Produção?"]
[null,null,"i)   Calcular o Custo do Produto (valor dependente do método de custeio)"]
[null,null,"ii) Custo da produção = mps (consumo de matérias primas e subsidiárias) + MOD (mão de obra direta)+GGF (gastos gerais de fabrico)."]
[null,null,"iii) O CMVMC = custo de mps consumidas na produção (na indústria). CMVMC = custo da mercadoria vendida (no comércio); CMVMC = 0 (nos serviços); "]
[null,null,"iv)  Inventário final de produto cabado e PTC  = [DMI ( duração média de inventário em dias)/nº dias do ano]*Custo de produção"]
[null,null,"v)   Variação da Produção no ano t = Variação de Inventário de produção t = Invent Final t - Invent Inicial t (Invent Finalt-1)"]
[]
[null,null,"ILUSTRAÇÃO",null,"Indústria",null,"CMC (custo de matérias consumidas) em % de Vendas"]
[null,null,"Demonstração de Resultados (atividade industrial)",null,null,null,"%"]
[null,null,"Total de Vendas e Serviços prestados",null,1000]
[null,null,"Subsídios à Exploração",null,0]
[null,null,"Ganhos/Perdas imputados de Subsid, Associadas e Empreendim. Conjuntos",null,0]
[null,null,"Variação nos Inventários da Produção",null,10]
[null,null,"Trabalhos para a Própria Entidade",null,0]
[null,null,"TOTAL Ganhos",null,{"$f":"SUM(E17:E21)","v":1010}]
[null,null,"Total CMVMC",null,400,"CMVMC%",{"$f":"+E23/E17","v":0.4},"= Custo mat. Consumidas/Vendas"]
[null,null,"FSE",null,150]
[null,null,"Gastos com o Pessoal",null,200]
[null,null,"…... Outros"]
[null,null,"TOTAL Gastos",null,{"$f":"SUM(E23:E26)","v":750}]
[null,null,"EBITDA (Resultado antes de Depreciações, Gastos de Financiamento e Impostos)",null,{"$f":"+E22-E27","v":260}]
[]
[null,null,"Nota: os valores apresentados são meramente exemplificativos devendo ser ajustada à realidade do projeto."]
[]
[null,null,"Calcular Custo da Produção em % do valor de vendas","Ano 1","Ano 2"]
[null,null,"Vendas",1000000,1100000,"Valor calculado em pressupostos"]
[null,null,"1. Custo da produção "]
[null,null,"    1.1 CMVMC (Custo total de MPS consumidas CMC )",{"$f":"'a. Aux_Mat Prima % Vendas'!D85","v":493521.09589041094},{"$f":"'a. Aux_Mat Prima % Vendas'!E85","v":523392.10958904109},"Calculado em a. Aux_Mat Primas"]
[null,null,"    1.2 MOD (Custos de Mão de Obra Direta)",200000,{"$f":"+D36*1.05","v":210000},"Valor calculao em pressupostos"]
[null,null,"    1.3 GGFabrico",0,0]
[null,null,"Total (CMP+Gastos pessoal fabril+Gastos Gerais de Fabrico)",{"$f":"+D35+D36+D37","v":693521.09589041094},{"$f":"+E35+E36+E37","v":733392.10958904109},"CMC+GPessoalFabril+GGF"]
[null,null,"2.  Custo da produção / Vendas produto  (%)",{"$f":"+D38/D33","v":0.69352109589041089},{"$f":"+E38/E33","v":0.666720099626401},"Valor % a Colocar nos Pressupostos (Célula D96 original)"]
[null,null,"DMI Prod acabado e PTC*( dias) (ano = 365)",15,15,"valores para ilustração"]
[null,null,"Nº dias produção (ano)",365,365]
[null,null,"3. Inventário final PA e PTC (PMI/365*Custo do Produto)",{"$f":"+D38*D40/D41","v":28500.866954400452},{"$f":"+E38*E40/E41","v":30139.401763933198}]
[null,null,"4. Variação da Produção (ano t)  Inv Final t-Inv Final t-1",{"$f":"+D42","v":28500.866954400452},{"$f":"+E42-D42","v":1638.5348095327463}]
[null,null," *produto acabado e produtos e trabalho em curso"]
[]
[]
[]
[]
[null,null,"EXEMPLO ","valores meramente exemplificativos"]
[null,null,null,"Ano 1","Ano 2","Ano 3"]
[null,null,"Vendas",1000,1200,1400]
[null,null,"CMVMC",200,{"$f":"+D52/D51*E51","v":240},{"$f":"+E52/E51*F51","v":280},"Calcular CMC"]
[null,null,"MOD",150,160,180,"Custo da mão de obra direta (fabril). "]
[null,null,"GGF",100,110,140,"= 0 ou (MO subsidiária + FSE de utilização direta na produção)"]
[null,null,"Custo da produção Total",{"$f":"+D54+D53+D52","v":450},{"$f":"+E54+E53+E52","v":510},600,"CMC+G.pessoal Fabril+GGF"]
[null,null,"Custo do Produto em % do valor de vendas PA",{"$f":"+D55/D51","v":0.45},{"$f":"+E55/E51","v":0.42499999999999999},{"$f":"+F55/F51","v":0.42857142857142855}]
[null,null,"Inventário PA e PTC (dias)",{"$f":"30/360*D55","v":37.5},{"$f":"30/360*E55","v":42.5},50,"dias de inventário coniderando Ano = 365 dias"]
[null,null,"Variação da produção = Inventário Final t - Inventario inicial t",{"$f":"+D57","v":37.5},{"$f":"+E57-D57","v":5},{"$f":"+F57-E57","v":7.5}]

{"sheet":"c. Aux_outros","index":16,"n_rows":0,"n_cols":0,"rows_kept":0,"cut":false,"hidden":false,"merged":[]}